BEGIN:VCALENDAR
VERSION:2.0
PRODID:-//Centro de Meditação Kadampa Rio de Janeiro - ECPv6.15.20//NONSGML v1.0//EN
CALSCALE:GREGORIAN
METHOD:PUBLISH
X-WR-CALNAME:Centro de Meditação Kadampa Rio de Janeiro
X-ORIGINAL-URL:https://meditario.org.br
X-WR-CALDESC:Eventos para Centro de Meditação Kadampa Rio de Janeiro
REFRESH-INTERVAL;VALUE=DURATION:PT1H
X-Robots-Tag:noindex
X-PUBLISHED-TTL:PT1H
BEGIN:VTIMEZONE
TZID:America/Sao_Paulo
BEGIN:STANDARD
TZOFFSETFROM:-0300
TZOFFSETTO:-0300
TZNAME:-03
DTSTART:20240101T000000
END:STANDARD
END:VTIMEZONE
BEGIN:VEVENT
DTSTART;TZID=America/Sao_Paulo:20250122T123000
DTEND;TZID=America/Sao_Paulo:20250122T130000
DTSTAMP:20260424T211844
CREATED:20250104T155350Z
LAST-MODIFIED:20250128T150401Z
UID:10005830-1737549000-1737550800@meditario.org.br
SUMMARY:Tire 30 Minutos para a Paz Interior
DESCRIPTION:
URL:https://meditario.org.br/evento/meditacao-em-30-minutos-2/2025-01-22/
LOCATION:CMK Rio de Janeiro\, Rua Conde de Irajá\, 604 – Botafogo\, Rio de Janeiro\, Rio de Janeiro\, 22271-020\, Brasil
CATEGORIES:Meditações Guiadas
ATTACH;FMTTYPE=image/jpeg:https://meditario.org.br/wp-content/uploads/2024/11/medita-em-30.jpg
END:VEVENT
BEGIN:VEVENT
DTSTART;TZID=America/Sao_Paulo:20250122T193000
DTEND;TZID=America/Sao_Paulo:20250122T204500
DTSTAMP:20260424T211844
CREATED:20241126T161206Z
LAST-MODIFIED:20250117T102654Z
UID:10000029-1737574200-1737578700@meditario.org.br
SUMMARY:Meditação para superar a preguiça - o obstáculo principal à nossa prática espiritual
DESCRIPTION:
URL:https://meditario.org.br/evento/meditacao-para-superar-a-preguica-o-obstaculo-principal-a-nossa-pratica-espiritual-2/
LOCATION:CMK Rio de Janeiro\, Rua Conde de Irajá\, 604 – Botafogo\, Rio de Janeiro\, Rio de Janeiro\, 22271-020\, Brasil
CATEGORIES:PGs de Quarta
ATTACH;FMTTYPE=image/jpeg:https://meditario.org.br/wp-content/uploads/2024/11/preguica.jpg
END:VEVENT
END:VCALENDAR