BEGIN:VCALENDAR
VERSION:2.0
PRODID:-//Centro de Meditação Kadampa Rio de Janeiro - ECPv6.15.20//NONSGML v1.0//EN
CALSCALE:GREGORIAN
METHOD:PUBLISH
X-ORIGINAL-URL:https://meditario.org.br
X-WR-CALDESC:Eventos para Centro de Meditação Kadampa Rio de Janeiro
REFRESH-INTERVAL;VALUE=DURATION:PT1H
X-Robots-Tag:noindex
X-PUBLISHED-TTL:PT1H
BEGIN:VTIMEZONE
TZID:America/Sao_Paulo
BEGIN:STANDARD
TZOFFSETFROM:-0300
TZOFFSETTO:-0300
TZNAME:-03
DTSTART:20240101T000000
END:STANDARD
END:VTIMEZONE
BEGIN:VEVENT
DTSTART;TZID=America/Sao_Paulo:20250205T170000
DTEND;TZID=America/Sao_Paulo:20250205T181500
DTSTAMP:20260424T194112
CREATED:20250127T194514Z
LAST-MODIFIED:20250127T194514Z
UID:10000619-1738774800-1738779300@meditario.org.br
SUMMARY:Joia-que-Satisfaz-os-Desejos ou Joia-Coração
DESCRIPTION:
URL:https://meditario.org.br/evento/joia-que-satisfaz-os-desejos-ou-joia-coracao-7-5/2025-02-05/
LOCATION:CMK Rio de Janeiro\, Rua Conde de Irajá\, 604 – Botafogo\, Rio de Janeiro\, Rio de Janeiro\, 22271-020\, Brasil
CATEGORIES:Preces
ATTACH;FMTTYPE=image/jpeg:https://meditario.org.br/wp-content/uploads/2024/11/JSD-e-JC.jpg
END:VEVENT
BEGIN:VEVENT
DTSTART;TZID=America/Sao_Paulo:20250205T183000
DTEND;TZID=America/Sao_Paulo:20250205T190000
DTSTAMP:20260424T194112
CREATED:20250118T170503Z
LAST-MODIFIED:20250131T224052Z
UID:10009408-1738780200-1738782000@meditario.org.br
SUMMARY:Meditação depois do trabalho
DESCRIPTION:
URL:https://meditario.org.br/evento/tire-30-minutos-para-a-paz-interior-9/2025-02-05/
LOCATION:CMK Rio de Janeiro\, Rua Conde de Irajá\, 604 – Botafogo\, Rio de Janeiro\, Rio de Janeiro\, 22271-020\, Brasil
CATEGORIES:Meditações Guiadas
ATTACH;FMTTYPE=image/jpeg:https://meditario.org.br/wp-content/uploads/2024/11/medita-em-30.jpg
END:VEVENT
BEGIN:VEVENT
DTSTART;TZID=America/Sao_Paulo:20250205T193000
DTEND;TZID=America/Sao_Paulo:20250205T204500
DTSTAMP:20260424T194112
CREATED:20241126T161831Z
LAST-MODIFIED:20250620T145013Z
UID:10000031-1738783800-1738788300@meditario.org.br
SUMMARY:Aula com Meditação
DESCRIPTION:
URL:https://meditario.org.br/evento/meditacao-para-construir-uma-verdadeira-protecao-parte-1-2/
LOCATION:CMK Rio de Janeiro\, Rua Conde de Irajá\, 604 – Botafogo\, Rio de Janeiro\, Rio de Janeiro\, 22271-020\, Brasil
CATEGORIES:PGs de Quarta
ATTACH;FMTTYPE=image/jpeg:https://meditario.org.br/wp-content/uploads/2024/11/site-e-sympla-2025-2.jpg
END:VEVENT
END:VCALENDAR