BEGIN:VCALENDAR
VERSION:2.0
PRODID:-//Centro de Meditação Kadampa Rio de Janeiro - ECPv6.15.20//NONSGML v1.0//EN
CALSCALE:GREGORIAN
METHOD:PUBLISH
X-WR-CALNAME:Centro de Meditação Kadampa Rio de Janeiro
X-ORIGINAL-URL:https://meditario.org.br
X-WR-CALDESC:Eventos para Centro de Meditação Kadampa Rio de Janeiro
REFRESH-INTERVAL;VALUE=DURATION:PT1H
X-Robots-Tag:noindex
X-PUBLISHED-TTL:PT1H
BEGIN:VTIMEZONE
TZID:America/Sao_Paulo
BEGIN:STANDARD
TZOFFSETFROM:-0300
TZOFFSETTO:-0300
TZNAME:-03
DTSTART:20240101T000000
END:STANDARD
END:VTIMEZONE
BEGIN:VEVENT
DTSTART;TZID=America/Sao_Paulo:20250212T170000
DTEND;TZID=America/Sao_Paulo:20250212T181500
DTSTAMP:20260424T193954
CREATED:20250127T194514Z
LAST-MODIFIED:20250127T194514Z
UID:10000624-1739379600-1739384100@meditario.org.br
SUMMARY:Joia-que-Satisfaz-os-Desejos ou Joia-Coração
DESCRIPTION:
URL:https://meditario.org.br/evento/joia-que-satisfaz-os-desejos-ou-joia-coracao-7-5/2025-02-12/
LOCATION:CMK Rio de Janeiro\, Rua Conde de Irajá\, 604 – Botafogo\, Rio de Janeiro\, Rio de Janeiro\, 22271-020\, Brasil
CATEGORIES:Preces
ATTACH;FMTTYPE=image/jpeg:https://meditario.org.br/wp-content/uploads/2024/11/JSD-e-JC.jpg
END:VEVENT
BEGIN:VEVENT
DTSTART;TZID=America/Sao_Paulo:20250212T183000
DTEND;TZID=America/Sao_Paulo:20250212T190000
DTSTAMP:20260424T193954
CREATED:20250118T170503Z
LAST-MODIFIED:20250131T224052Z
UID:10009412-1739385000-1739386800@meditario.org.br
SUMMARY:Meditação depois do trabalho
DESCRIPTION:
URL:https://meditario.org.br/evento/tire-30-minutos-para-a-paz-interior-9/2025-02-12/
LOCATION:CMK Rio de Janeiro\, Rua Conde de Irajá\, 604 – Botafogo\, Rio de Janeiro\, Rio de Janeiro\, 22271-020\, Brasil
CATEGORIES:Meditações Guiadas
ATTACH;FMTTYPE=image/jpeg:https://meditario.org.br/wp-content/uploads/2024/11/medita-em-30.jpg
END:VEVENT
BEGIN:VEVENT
DTSTART;TZID=America/Sao_Paulo:20250212T183000
DTEND;TZID=America/Sao_Paulo:20250212T190000
DTSTAMP:20260424T193954
CREATED:20250214T210039Z
LAST-MODIFIED:20250214T210039Z
UID:10011010-1739385000-1739386800@meditario.org.br
SUMMARY:Meditação depois do trabalho
DESCRIPTION:
URL:https://meditario.org.br/evento/meditacao-depois-do-trabalho/2025-02-12/
LOCATION:CMK Rio de Janeiro\, Rua Conde de Irajá\, 604 – Botafogo\, Rio de Janeiro\, Rio de Janeiro\, 22271-020\, Brasil
CATEGORIES:Meditações Guiadas
ATTACH;FMTTYPE=image/jpeg:https://meditario.org.br/wp-content/uploads/2025/01/site-e-sympla-2025-5.jpg
END:VEVENT
BEGIN:VEVENT
DTSTART;TZID=America/Sao_Paulo:20250212T193000
DTEND;TZID=America/Sao_Paulo:20250212T204500
DTSTAMP:20260424T193954
CREATED:20241126T162107Z
LAST-MODIFIED:20250620T144944Z
UID:10000033-1739388600-1739393100@meditario.org.br
SUMMARY:Aula com Meditação
DESCRIPTION:
URL:https://meditario.org.br/evento/meditacao-para-construir-uma-verdadeira-protecao-parte-2-2/
LOCATION:CMK Rio de Janeiro\, Rua Conde de Irajá\, 604 – Botafogo\, Rio de Janeiro\, Rio de Janeiro\, 22271-020\, Brasil
CATEGORIES:PGs de Quarta
ATTACH;FMTTYPE=image/jpeg:https://meditario.org.br/wp-content/uploads/2024/11/protecao-parte-2-1-1.jpg
END:VEVENT
END:VCALENDAR