BEGIN:VCALENDAR
VERSION:2.0
PRODID:-//Centro de Meditação Kadampa Rio de Janeiro - ECPv6.15.20//NONSGML v1.0//EN
CALSCALE:GREGORIAN
METHOD:PUBLISH
X-ORIGINAL-URL:https://meditario.org.br
X-WR-CALDESC:Eventos para Centro de Meditação Kadampa Rio de Janeiro
REFRESH-INTERVAL;VALUE=DURATION:PT1H
X-Robots-Tag:noindex
X-PUBLISHED-TTL:PT1H
BEGIN:VTIMEZONE
TZID:America/Sao_Paulo
BEGIN:STANDARD
TZOFFSETFROM:-0300
TZOFFSETTO:-0300
TZNAME:-03
DTSTART:20240101T000000
END:STANDARD
END:VTIMEZONE
BEGIN:VEVENT
DTSTART;TZID=America/Sao_Paulo:20250315T063000
DTEND;TZID=America/Sao_Paulo:20250315T070000
DTSTAMP:20260424T180616
CREATED:20241212T171428Z
LAST-MODIFIED:20251027T212834Z
UID:10005801-1742020200-1742022000@meditario.org.br
SUMMARY:Vida Pura
DESCRIPTION:
URL:https://meditario.org.br/evento/vida-pura/2025-03-15/
LOCATION:CMK Rio de Janeiro\, Rua Conde de Irajá\, 604 – Botafogo\, Rio de Janeiro\, Rio de Janeiro\, 22271-020\, Brasil
CATEGORIES:Preces
ATTACH;FMTTYPE=image/jpeg:https://meditario.org.br/wp-content/uploads/2024/11/Vida-Pura.jpg
END:VEVENT
BEGIN:VEVENT
DTSTART;TZID=America/Sao_Paulo:20250315T070000
DTEND;TZID=America/Sao_Paulo:20250315T080000
DTSTAMP:20260424T180616
CREATED:20250214T212415Z
LAST-MODIFIED:20250214T212415Z
UID:10011117-1742022000-1742025600@meditario.org.br
SUMMARY:Joia-que-Satisfaz-os-Desejos ou Joia-Coração
DESCRIPTION:
URL:https://meditario.org.br/evento/joia-que-satisfaz-os-desejos-ou-joia-coracao-8/
LOCATION:CMK Rio de Janeiro\, Rua Conde de Irajá\, 604 – Botafogo\, Rio de Janeiro\, Rio de Janeiro\, 22271-020\, Brasil
CATEGORIES:Preces
ATTACH;FMTTYPE=image/jpeg:https://meditario.org.br/wp-content/uploads/2024/11/JSD-e-JC.jpg
END:VEVENT
BEGIN:VEVENT
DTSTART;TZID=America/Sao_Paulo:20250315T100000
DTEND;TZID=America/Sao_Paulo:20250315T120000
DTSTAMP:20260424T180616
CREATED:20250214T002608Z
LAST-MODIFIED:20250508T174827Z
UID:10010061-1742032800-1742040000@meditario.org.br
SUMMARY:PF - Caminho Alegre da Boa Fortuna
DESCRIPTION:
URL:https://meditario.org.br/evento/pf-caminho-alegre-da-boa-fortuna-2/2025-03-15/
LOCATION:CMK Rio de Janeiro\, Rua Conde de Irajá\, 604 – Botafogo\, Rio de Janeiro\, Rio de Janeiro\, 22271-020\, Brasil
CATEGORIES:Estudo Aprofundado
ATTACH;FMTTYPE=image/jpeg:https://meditario.org.br/wp-content/uploads/2024/11/pf-cabf.jpg
END:VEVENT
BEGIN:VEVENT
DTSTART;TZID=America/Sao_Paulo:20250315T103000
DTEND;TZID=America/Sao_Paulo:20250315T113000
DTSTAMP:20260424T180616
CREATED:20241231T030305Z
LAST-MODIFIED:20250227T185314Z
UID:10005814-1742034600-1742038200@meditario.org.br
SUMMARY:Palestra Gratuita no jardim do Museu da República
DESCRIPTION:
URL:https://meditario.org.br/evento/meditacao-e-reducao-de-estresse-com-monja-budista/
LOCATION:Jardins do Museu da República (Palácio do Catete)\, Rua do Catete\, 153 - Catete\, Rio de Janeiro\, Rio de Janeiro\, 22220000\, Brazil
CATEGORIES:Atividades em Destaque,Atividades Especiais
ATTACH;FMTTYPE=image/jpeg:https://meditario.org.br/wp-content/uploads/2024/12/Palestra-no-Museu-da-Republica-2.jpg
END:VEVENT
BEGIN:VEVENT
DTSTART;TZID=America/Sao_Paulo:20250315T150000
DTEND;TZID=America/Sao_Paulo:20250315T163000
DTSTAMP:20260424T180616
CREATED:20250130T180159Z
LAST-MODIFIED:20250307T212610Z
UID:10009573-1742050800-1742056200@meditario.org.br
SUMMARY:Aula para Crianças
DESCRIPTION:
URL:https://meditario.org.br/evento/aula-para-criancas/
LOCATION:CMK Rio de Janeiro\, Rua Conde de Irajá\, 604 – Botafogo\, Rio de Janeiro\, Rio de Janeiro\, 22271-020\, Brasil
CATEGORIES:Para Crianças
ATTACH;FMTTYPE=image/jpeg:https://meditario.org.br/wp-content/uploads/2025/01/Aula-para-Criancas.jpg
END:VEVENT
END:VCALENDAR