BEGIN:VCALENDAR
VERSION:2.0
PRODID:-//Centro de Meditação Kadampa Rio de Janeiro - ECPv6.15.20//NONSGML v1.0//EN
CALSCALE:GREGORIAN
METHOD:PUBLISH
X-ORIGINAL-URL:https://meditario.org.br
X-WR-CALDESC:Eventos para Centro de Meditação Kadampa Rio de Janeiro
REFRESH-INTERVAL;VALUE=DURATION:PT1H
X-Robots-Tag:noindex
X-PUBLISHED-TTL:PT1H
BEGIN:VTIMEZONE
TZID:America/Sao_Paulo
BEGIN:STANDARD
TZOFFSETFROM:-0300
TZOFFSETTO:-0300
TZNAME:-03
DTSTART:20240101T000000
END:STANDARD
END:VTIMEZONE
BEGIN:VEVENT
DTSTART;TZID=America/Sao_Paulo:20250401T070000
DTEND;TZID=America/Sao_Paulo:20250401T083000
DTSTAMP:20260424T163734
CREATED:20250319T180258Z
LAST-MODIFIED:20250324T233209Z
UID:10011782-1743490800-1743496200@meditario.org.br
SUMMARY:Caminho Rápido ao Grande Êxtase
DESCRIPTION:
URL:https://meditario.org.br/evento/caminho-rapido-ao-grande-extase/2025-04-01/
LOCATION:CMK Rio de Janeiro\, Rua Conde de Irajá\, 604 – Botafogo\, Rio de Janeiro\, Rio de Janeiro\, 22271-020\, Brasil
CATEGORIES:Preces
END:VEVENT
BEGIN:VEVENT
DTSTART;TZID=America/Sao_Paulo:20250401T090000
DTEND;TZID=America/Sao_Paulo:20250401T093000
DTSTAMP:20260424T163734
CREATED:20250319T180809Z
LAST-MODIFIED:20250324T233154Z
UID:10012164-1743498000-1743499800@meditario.org.br
SUMMARY:A Confissão Bodhisattva das Quedas Morais
DESCRIPTION:
URL:https://meditario.org.br/evento/a-confissao-bodhisattva-das-quedas-morais/2025-04-01/
LOCATION:CMK Rio de Janeiro\, Rua Conde de Irajá\, 604 – Botafogo\, Rio de Janeiro\, Rio de Janeiro\, 22271-020\, Brasil
CATEGORIES:Preces
ATTACH;FMTTYPE=image/jpeg:https://meditario.org.br/wp-content/uploads/2024/11/Sutra-mahayana.jpg
END:VEVENT
BEGIN:VEVENT
DTSTART;TZID=America/Sao_Paulo:20250401T104500
DTEND;TZID=America/Sao_Paulo:20250401T120000
DTSTAMP:20260424T163734
CREATED:20250310T184207Z
LAST-MODIFIED:20250318T194507Z
UID:10011152-1743504300-1743508800@meditario.org.br
SUMMARY:Meditações de Budismo Moderno
DESCRIPTION:
URL:https://meditario.org.br/evento/meditacoes-de-budismo-moderno-10/
LOCATION:CMK Rio de Janeiro\, Rua Conde de Irajá\, 604 – Botafogo\, Rio de Janeiro\, Rio de Janeiro\, 22271-020\, Brasil
CATEGORIES:PGs de Terça
ATTACH;FMTTYPE=image/jpeg:https://meditario.org.br/wp-content/uploads/2025/03/compaixao-universal.jpg
END:VEVENT
BEGIN:VEVENT
DTSTART;TZID=America/Sao_Paulo:20250401T123000
DTEND;TZID=America/Sao_Paulo:20250401T130000
DTSTAMP:20260424T163734
CREATED:20250320T184741Z
LAST-MODIFIED:20250324T232757Z
UID:10012552-1743510600-1743512400@meditario.org.br
SUMMARY:Meditação na hora do almoço
DESCRIPTION:
URL:https://meditario.org.br/evento/meditacao-na-hora-do-almoco-2/2025-04-01/
LOCATION:CMK Rio de Janeiro\, Rua Conde de Irajá\, 604 – Botafogo\, Rio de Janeiro\, Rio de Janeiro\, 22271-020\, Brasil
CATEGORIES:Meditações Guiadas
ATTACH;FMTTYPE=image/jpeg:https://meditario.org.br/wp-content/uploads/2025/01/site-e-sympla-2025-5.jpg
END:VEVENT
BEGIN:VEVENT
DTSTART;TZID=America/Sao_Paulo:20250401T170000
DTEND;TZID=America/Sao_Paulo:20250401T183000
DTSTAMP:20260424T163734
CREATED:20250320T195715Z
LAST-MODIFIED:20250320T201838Z
UID:10013322-1743526800-1743532200@meditario.org.br
SUMMARY:Joia-que-Satisfaz-os-Desejos ou Joia-Coração
DESCRIPTION:
URL:https://meditario.org.br/evento/joia-que-satisfaz-os-desejos-ou-joia-coracao-10/2025-04-01/
LOCATION:CMK Rio de Janeiro\, Rua Conde de Irajá\, 604 – Botafogo\, Rio de Janeiro\, Rio de Janeiro\, 22271-020\, Brasil
CATEGORIES:Preces
ATTACH;FMTTYPE=image/jpeg:https://meditario.org.br/wp-content/uploads/2024/11/JSD-e-JC.jpg
END:VEVENT
BEGIN:VEVENT
DTSTART;TZID=America/Sao_Paulo:20250401T183000
DTEND;TZID=America/Sao_Paulo:20250401T190000
DTSTAMP:20260424T163734
CREATED:20250320T185118Z
LAST-MODIFIED:20250324T232339Z
UID:10012939-1743532200-1743534000@meditario.org.br
SUMMARY:Meditação depois do trabalho
DESCRIPTION:
URL:https://meditario.org.br/evento/meditacao-depois-do-trabalho-4/2025-04-01/
LOCATION:CMK Rio de Janeiro\, Rua Conde de Irajá\, 604 – Botafogo\, Rio de Janeiro\, Rio de Janeiro\, 22271-020\, Brasil
CATEGORIES:Meditações Guiadas
ATTACH;FMTTYPE=image/jpeg:https://meditario.org.br/wp-content/uploads/2025/01/site-e-sympla-2025-5.jpg
END:VEVENT
BEGIN:VEVENT
DTSTART;TZID=America/Sao_Paulo:20250401T193000
DTEND;TZID=America/Sao_Paulo:20250401T213000
DTSTAMP:20260424T163734
CREATED:20250214T211151Z
LAST-MODIFIED:20250214T211151Z
UID:10011061-1743535800-1743543000@meditario.org.br
SUMMARY:PF - Novo Oito Passos para a Felicidade
DESCRIPTION:
URL:https://meditario.org.br/evento/pf-novo-oito-passos-para-a-felicidade-2/2025-04-01/
LOCATION:CMK Rio de Janeiro\, Rua Conde de Irajá\, 604 – Botafogo\, Rio de Janeiro\, Rio de Janeiro\, 22271-020\, Brasil
CATEGORIES:Estudo Aprofundado
ATTACH;FMTTYPE=image/jpeg:https://meditario.org.br/wp-content/uploads/2024/11/pf-noppf.jpg
END:VEVENT
END:VCALENDAR