BEGIN:VCALENDAR
VERSION:2.0
PRODID:-//Centro de Meditação Kadampa Rio de Janeiro - ECPv6.15.20//NONSGML v1.0//EN
CALSCALE:GREGORIAN
METHOD:PUBLISH
X-WR-CALNAME:Centro de Meditação Kadampa Rio de Janeiro
X-ORIGINAL-URL:https://meditario.org.br
X-WR-CALDESC:Eventos para Centro de Meditação Kadampa Rio de Janeiro
REFRESH-INTERVAL;VALUE=DURATION:PT1H
X-Robots-Tag:noindex
X-PUBLISHED-TTL:PT1H
BEGIN:VTIMEZONE
TZID:America/Sao_Paulo
BEGIN:STANDARD
TZOFFSETFROM:-0300
TZOFFSETTO:-0300
TZNAME:-03
DTSTART:20240101T000000
END:STANDARD
END:VTIMEZONE
BEGIN:VEVENT
DTSTART;TZID=America/Sao_Paulo:20250615T063000
DTEND;TZID=America/Sao_Paulo:20250615T070000
DTSTAMP:20260424T131530
CREATED:20241212T171428Z
LAST-MODIFIED:20251027T212834Z
UID:10016579-1749969000-1749970800@meditario.org.br
SUMMARY:Vida Pura
DESCRIPTION:
URL:https://meditario.org.br/evento/vida-pura/2025-06-15/
LOCATION:CMK Rio de Janeiro\, Rua Conde de Irajá\, 604 – Botafogo\, Rio de Janeiro\, Rio de Janeiro\, 22271-020\, Brasil
CATEGORIES:Preces
ATTACH;FMTTYPE=image/jpeg:https://meditario.org.br/wp-content/uploads/2024/11/Vida-Pura.jpg
END:VEVENT
BEGIN:VEVENT
DTSTART;TZID=America/Sao_Paulo:20250615T100000
DTEND;TZID=America/Sao_Paulo:20250615T110000
DTSTAMP:20260424T131530
CREATED:20250528T155544Z
LAST-MODIFIED:20250528T155544Z
UID:10015037-1749981600-1749985200@meditario.org.br
SUMMARY:Preces pela Paz Mundial
DESCRIPTION:
URL:https://meditario.org.br/evento/preces-pela-paz-mundial-4/2025-06-15/
LOCATION:CMK Rio de Janeiro\, Rua Conde de Irajá\, 604 – Botafogo\, Rio de Janeiro\, Rio de Janeiro\, 22271-020\, Brasil
CATEGORIES:Preces
ATTACH;FMTTYPE=image/jpeg:https://meditario.org.br/wp-content/uploads/2024/11/Preces-pela-Paz-Mundial.jpg
END:VEVENT
BEGIN:VEVENT
DTSTART;TZID=America/Sao_Paulo:20250615T150000
DTEND;TZID=America/Sao_Paulo:20250615T163000
DTSTAMP:20260424T131530
CREATED:20250528T154734Z
LAST-MODIFIED:20250528T154734Z
UID:10015034-1749999600-1750005000@meditario.org.br
SUMMARY:Joia-Coração com Lamrim
DESCRIPTION:
URL:https://meditario.org.br/evento/joia-coracao-com-lamrim/2025-06-15/
LOCATION:CMK Rio de Janeiro\, Rua Conde de Irajá\, 604 – Botafogo\, Rio de Janeiro\, Rio de Janeiro\, 22271-020\, Brasil
CATEGORIES:Preces
ATTACH;FMTTYPE=image/jpeg:https://meditario.org.br/wp-content/uploads/2024/11/JSD-e-JC.jpg
END:VEVENT
BEGIN:VEVENT
DTSTART;TZID=America/Sao_Paulo:20250615T170000
DTEND;TZID=America/Sao_Paulo:20250615T183000
DTSTAMP:20260424T131530
CREATED:20250512T200431Z
LAST-MODIFIED:20250512T200658Z
UID:10014767-1750006800-1750012200@meditario.org.br
SUMMARY:Aula com Meditação
DESCRIPTION:
URL:https://meditario.org.br/evento/aula-com-meditacao-12/
LOCATION:CMK Rio de Janeiro\, Rua Conde de Irajá\, 604 – Botafogo\, Rio de Janeiro\, Rio de Janeiro\, 22271-020\, Brasil
CATEGORIES:Aulas com Meditação,PGs de Domingo Junho
ATTACH;FMTTYPE=image/jpeg:https://meditario.org.br/wp-content/uploads/2025/05/site-e-sympla-2025-3.jpg
END:VEVENT
END:VCALENDAR