BEGIN:VCALENDAR
VERSION:2.0
PRODID:-//Centro de Meditação Kadampa Rio de Janeiro - ECPv6.15.20//NONSGML v1.0//EN
CALSCALE:GREGORIAN
METHOD:PUBLISH
X-WR-CALNAME:Centro de Meditação Kadampa Rio de Janeiro
X-ORIGINAL-URL:https://meditario.org.br
X-WR-CALDESC:Eventos para Centro de Meditação Kadampa Rio de Janeiro
REFRESH-INTERVAL;VALUE=DURATION:PT1H
X-Robots-Tag:noindex
X-PUBLISHED-TTL:PT1H
BEGIN:VTIMEZONE
TZID:America/Sao_Paulo
BEGIN:STANDARD
TZOFFSETFROM:-0300
TZOFFSETTO:-0300
TZNAME:-03
DTSTART:20240101T000000
END:STANDARD
END:VTIMEZONE
BEGIN:VEVENT
DTSTART;TZID=America/Sao_Paulo:20250702T123000
DTEND;TZID=America/Sao_Paulo:20250702T130000
DTSTAMP:20260424T113630
CREATED:20250620T162944Z
LAST-MODIFIED:20250620T162944Z
UID:10015231-1751459400-1751461200@meditario.org.br
SUMMARY:Meditação na Hora do Almoço
DESCRIPTION:
URL:https://meditario.org.br/evento/meditacao-na-hora-do-almoco-5/2025-07-02/
LOCATION:CMK Rio de Janeiro\, Rua Conde de Irajá\, 604 – Botafogo\, Rio de Janeiro\, Rio de Janeiro\, 22271-020\, Brasil
CATEGORIES:Meditação na Hora do Almoço
ATTACH;FMTTYPE=image/jpeg:https://meditario.org.br/wp-content/uploads/2024/11/medita-em-30.jpg
END:VEVENT
BEGIN:VEVENT
DTSTART;TZID=America/Sao_Paulo:20250702T173000
DTEND;TZID=America/Sao_Paulo:20250702T190000
DTSTAMP:20260424T113630
CREATED:20250620T142231Z
LAST-MODIFIED:20250620T142231Z
UID:10015176-1751477400-1751482800@meditario.org.br
SUMMARY:Joia-que-Satisfaz-os-Desejos ou Joia-Coração
DESCRIPTION:
URL:https://meditario.org.br/evento/joia-que-satisfaz-os-desejos-ou-joia-coracao-24/2025-07-02/
LOCATION:CMK Rio de Janeiro\, Rua Conde de Irajá\, 604 – Botafogo\, Rio de Janeiro\, Rio de Janeiro\, 22271-020\, Brasil
CATEGORIES:Preces
ATTACH;FMTTYPE=image/jpeg:https://meditario.org.br/wp-content/uploads/2024/11/JSD-e-JC.jpg
END:VEVENT
BEGIN:VEVENT
DTSTART;TZID=America/Sao_Paulo:20250702T183000
DTEND;TZID=America/Sao_Paulo:20250702T190000
DTSTAMP:20260424T113630
CREATED:20250620T163329Z
LAST-MODIFIED:20250620T163329Z
UID:10015247-1751481000-1751482800@meditario.org.br
SUMMARY:Meditação Depois do Trabalho
DESCRIPTION:
URL:https://meditario.org.br/evento/meditacao-depois-do-trabalho-7/2025-07-02/
LOCATION:CMK Rio de Janeiro\, Rua Conde de Irajá\, 604 – Botafogo\, Rio de Janeiro\, Rio de Janeiro\, 22271-020\, Brasil
CATEGORIES:Meditação depois do trabalho
ATTACH;FMTTYPE=image/jpeg:https://meditario.org.br/wp-content/uploads/2024/11/medita-em-30.jpg
END:VEVENT
BEGIN:VEVENT
DTSTART;TZID=America/Sao_Paulo:20250702T193000
DTEND;TZID=America/Sao_Paulo:20250702T204500
DTSTAMP:20260424T113630
CREATED:20250414T190915Z
LAST-MODIFIED:20250620T161455Z
UID:10014205-1751484600-1751489100@meditario.org.br
SUMMARY:Aula com Meditação
DESCRIPTION:
URL:https://meditario.org.br/evento/meditacoes-de-budismo-moderno-37/
LOCATION:CMK Rio de Janeiro\, Rua Conde de Irajá\, 604 – Botafogo\, Rio de Janeiro\, Rio de Janeiro\, 22271-020\, Brasil
CATEGORIES:Aulas com Meditação,PGs de Quarta Junho Julho Agosto
ATTACH;FMTTYPE=image/jpeg:https://meditario.org.br/wp-content/uploads/2025/04/Vidas-passadas-e-futuras.jpg
END:VEVENT
END:VCALENDAR