BEGIN:VCALENDAR
VERSION:2.0
PRODID:-//Centro de Meditação Kadampa Rio de Janeiro - ECPv6.15.20//NONSGML v1.0//EN
CALSCALE:GREGORIAN
METHOD:PUBLISH
X-ORIGINAL-URL:https://meditario.org.br
X-WR-CALDESC:Eventos para Centro de Meditação Kadampa Rio de Janeiro
REFRESH-INTERVAL;VALUE=DURATION:PT1H
X-Robots-Tag:noindex
X-PUBLISHED-TTL:PT1H
BEGIN:VTIMEZONE
TZID:America/Sao_Paulo
BEGIN:STANDARD
TZOFFSETFROM:-0300
TZOFFSETTO:-0300
TZNAME:-03
DTSTART:20240101T000000
END:STANDARD
END:VTIMEZONE
BEGIN:VEVENT
DTSTART;TZID=America/Sao_Paulo:20250704T193000
DTEND;TZID=America/Sao_Paulo:20250706T123000
DTSTAMP:20260424T113746
CREATED:20250415T180807Z
LAST-MODIFIED:20250617T141303Z
UID:10014213-1751657400-1751805000@meditario.org.br
SUMMARY:Retiro de Purificação
DESCRIPTION:
URL:https://meditario.org.br/evento/retiro-de-purificacao/
LOCATION:CMK Rio de Janeiro\, Rua Conde de Irajá\, 604 – Botafogo\, Rio de Janeiro\, Rio de Janeiro\, 22271-020\, Brasil
CATEGORIES:Retiros
ATTACH;FMTTYPE=image/jpeg:https://meditario.org.br/wp-content/uploads/2025/04/Retiro-de-Purificacao.jpg
END:VEVENT
BEGIN:VEVENT
DTSTART;TZID=America/Sao_Paulo:20250706T150000
DTEND;TZID=America/Sao_Paulo:20250706T163000
DTSTAMP:20260424T113746
CREATED:20250620T151748Z
LAST-MODIFIED:20250620T151748Z
UID:10015222-1751814000-1751819400@meditario.org.br
SUMMARY:Joia-Coração com Lamrim
DESCRIPTION:
URL:https://meditario.org.br/evento/joia-coracao-com-lamrim-2/2025-07-06/
LOCATION:CMK Rio de Janeiro\, Rua Conde de Irajá\, 604 – Botafogo\, Rio de Janeiro\, Rio de Janeiro\, 22271-020\, Brasil
CATEGORIES:Preces
ATTACH;FMTTYPE=image/jpeg:https://meditario.org.br/wp-content/uploads/2024/11/JSD-e-JC.jpg
END:VEVENT
BEGIN:VEVENT
DTSTART;TZID=America/Sao_Paulo:20250706T170000
DTEND;TZID=America/Sao_Paulo:20250706T183000
DTSTAMP:20260424T113746
CREATED:20250613T002924Z
LAST-MODIFIED:20250623T202635Z
UID:10015139-1751821200-1751826600@meditario.org.br
SUMMARY:Aula com Meditação
DESCRIPTION:
URL:https://meditario.org.br/evento/aula-com-meditacao-15/
LOCATION:CMK Rio de Janeiro\, Rua Conde de Irajá\, 604 – Botafogo\, Rio de Janeiro\, Rio de Janeiro\, 22271-020\, Brasil
CATEGORIES:Aulas com Meditação,PGs de Domingo Junho Julho
ATTACH;FMTTYPE=image/png:https://meditario.org.br/wp-content/uploads/2025/06/Captura-de-Tela-2025-06-12-as-21.28.26.png
END:VEVENT
END:VCALENDAR