BEGIN:VCALENDAR
VERSION:2.0
PRODID:-//Centro de Meditação Kadampa Rio de Janeiro - ECPv6.15.20//NONSGML v1.0//EN
CALSCALE:GREGORIAN
METHOD:PUBLISH
X-ORIGINAL-URL:https://meditario.org.br
X-WR-CALDESC:Eventos para Centro de Meditação Kadampa Rio de Janeiro
REFRESH-INTERVAL;VALUE=DURATION:PT1H
X-Robots-Tag:noindex
X-PUBLISHED-TTL:PT1H
BEGIN:VTIMEZONE
TZID:America/Sao_Paulo
BEGIN:STANDARD
TZOFFSETFROM:-0300
TZOFFSETTO:-0300
TZNAME:-03
DTSTART:20240101T000000
END:STANDARD
END:VTIMEZONE
BEGIN:VEVENT
DTSTART;TZID=America/Sao_Paulo:20250811T070000
DTEND;TZID=America/Sao_Paulo:20250811T083000
DTSTAMP:20260424T095434
CREATED:20250716T144142Z
LAST-MODIFIED:20250716T144246Z
UID:10014998-1754895600-1754901000@meditario.org.br
SUMMARY:Caminho Rápido ao Grande Êxtase
DESCRIPTION:
URL:https://meditario.org.br/evento/caminho-rapido-ao-grande-extase-7-2-2/2025-08-11/
LOCATION:CMK Rio de Janeiro\, Rua Conde de Irajá\, 604 – Botafogo\, Rio de Janeiro\, Rio de Janeiro\, 22271-020\, Brasil
CATEGORIES:Preces
ATTACH;FMTTYPE=image/jpeg:https://meditario.org.br/wp-content/uploads/2024/11/caminho-rapido.jpg
END:VEVENT
BEGIN:VEVENT
DTSTART;TZID=America/Sao_Paulo:20250811T090000
DTEND;TZID=America/Sao_Paulo:20250811T093000
DTSTAMP:20260424T095434
CREATED:20250716T144649Z
LAST-MODIFIED:20250716T144726Z
UID:10015014-1754902800-1754904600@meditario.org.br
SUMMARY:A Confissão Bodhisattva das Quedas Morais
DESCRIPTION:
URL:https://meditario.org.br/evento/a-confissao-bodhisattva-das-quedas-morais-5-2/2025-08-11/
LOCATION:CMK Rio de Janeiro\, Rua Conde de Irajá\, 604 – Botafogo\, Rio de Janeiro\, Rio de Janeiro\, 22271-020\, Brasil
CATEGORIES:Preces
ATTACH;FMTTYPE=image/jpeg:https://meditario.org.br/wp-content/uploads/2024/11/Sutra-mahayana.jpg
END:VEVENT
BEGIN:VEVENT
DTSTART;TZID=America/Sao_Paulo:20250811T123000
DTEND;TZID=America/Sao_Paulo:20250811T130000
DTSTAMP:20260424T095434
CREATED:20250716T145310Z
LAST-MODIFIED:20250716T145348Z
UID:10012573-1754915400-1754917200@meditario.org.br
SUMMARY:Meditação na hora do almoço
DESCRIPTION:
URL:https://meditario.org.br/evento/meditacao-na-hora-do-almoco-2-2/2025-08-11/
LOCATION:CMK Rio de Janeiro\, Rua Conde de Irajá\, 604 – Botafogo\, Rio de Janeiro\, Rio de Janeiro\, 22271-020\, Brasil
CATEGORIES:Meditação na Hora do Almoço,Meditações Guiadas
ATTACH;FMTTYPE=image/jpeg:https://meditario.org.br/wp-content/uploads/2025/01/site-e-sympla-2025-5.jpg
END:VEVENT
BEGIN:VEVENT
DTSTART;TZID=America/Sao_Paulo:20250811T173000
DTEND;TZID=America/Sao_Paulo:20250811T190000
DTSTAMP:20260424T095434
CREATED:20250716T142811Z
LAST-MODIFIED:20250716T142811Z
UID:10015828-1754933400-1754938800@meditario.org.br
SUMMARY:Joia-que-Satisfaz-os-Desejos ou Joia-Coração
DESCRIPTION:
URL:https://meditario.org.br/evento/joia-que-satisfaz-os-desejos-ou-joia-coracao-27/2025-08-11/
LOCATION:CMK Rio de Janeiro\, Rua Conde de Irajá\, 604 – Botafogo\, Rio de Janeiro\, Rio de Janeiro\, 22271-020\, Brasil
CATEGORIES:Preces
ATTACH;FMTTYPE=image/jpeg:https://meditario.org.br/wp-content/uploads/2024/11/JSD-e-JC.jpg
END:VEVENT
BEGIN:VEVENT
DTSTART;TZID=America/Sao_Paulo:20250811T183000
DTEND;TZID=America/Sao_Paulo:20250811T190000
DTSTAMP:20260424T095434
CREATED:20250716T145539Z
LAST-MODIFIED:20250716T145613Z
UID:10014187-1754937000-1754938800@meditario.org.br
SUMMARY:Meditação depois do trabalho
DESCRIPTION:
URL:https://meditario.org.br/evento/meditacao-depois-do-trabalho-5-2/2025-08-11/
LOCATION:CMK Rio de Janeiro\, Rua Conde de Irajá\, 604 – Botafogo\, Rio de Janeiro\, Rio de Janeiro\, 22271-020\, Brasil
CATEGORIES:Meditação depois do trabalho
ATTACH;FMTTYPE=image/jpeg:https://meditario.org.br/wp-content/uploads/2024/11/medita-em-30.jpg
END:VEVENT
BEGIN:VEVENT
DTSTART;TZID=America/Sao_Paulo:20250811T193000
DTEND;TZID=America/Sao_Paulo:20250811T213000
DTSTAMP:20260424T095434
CREATED:20250625T152302Z
LAST-MODIFIED:20250625T152302Z
UID:10015793-1754940600-1754947800@meditario.org.br
SUMMARY:A prática das preliminares
DESCRIPTION:
URL:https://meditario.org.br/evento/a-pratica-das-preliminares-2/2025-08-11/
LOCATION:CMK Rio de Janeiro\, Rua Conde de Irajá\, 604 – Botafogo\, Rio de Janeiro\, Rio de Janeiro\, 22271-020\, Brasil
CATEGORIES:Grandes Guias Preliminares
ATTACH;FMTTYPE=image/jpeg:https://meditario.org.br/wp-content/uploads/2025/05/preliminares.jpg
END:VEVENT
END:VCALENDAR