BEGIN:VCALENDAR
VERSION:2.0
PRODID:-//Centro de Meditação Kadampa Rio de Janeiro - ECPv6.15.20//NONSGML v1.0//EN
CALSCALE:GREGORIAN
METHOD:PUBLISH
X-WR-CALNAME:Centro de Meditação Kadampa Rio de Janeiro
X-ORIGINAL-URL:https://meditario.org.br
X-WR-CALDESC:Eventos para Centro de Meditação Kadampa Rio de Janeiro
REFRESH-INTERVAL;VALUE=DURATION:PT1H
X-Robots-Tag:noindex
X-PUBLISHED-TTL:PT1H
BEGIN:VTIMEZONE
TZID:America/Sao_Paulo
BEGIN:STANDARD
TZOFFSETFROM:-0300
TZOFFSETTO:-0300
TZNAME:-03
DTSTART:20240101T000000
END:STANDARD
END:VTIMEZONE
BEGIN:VEVENT
DTSTART;TZID=America/Sao_Paulo:20251011T100000
DTEND;TZID=America/Sao_Paulo:20251011T164500
DTSTAMP:20260424T062642
CREATED:20250820T013947Z
LAST-MODIFIED:20250914T151055Z
UID:10015946-1760176800-1760201100@meditario.org.br
SUMMARY:Retiro pós-festival
DESCRIPTION:
URL:https://meditario.org.br/evento/retiro-pos-festival-2/
LOCATION:Rio de Janeiro
CATEGORIES:Retiros
ATTACH;FMTTYPE=image/png:https://meditario.org.br/wp-content/uploads/2025/08/Captura-de-Tela-2025-08-19-as-22.37.35.png
END:VEVENT
END:VCALENDAR