BEGIN:VCALENDAR
VERSION:2.0
PRODID:-//Centro de Meditação Kadampa Rio de Janeiro - ECPv6.15.20//NONSGML v1.0//EN
CALSCALE:GREGORIAN
METHOD:PUBLISH
X-ORIGINAL-URL:https://meditario.org.br
X-WR-CALDESC:Eventos para Centro de Meditação Kadampa Rio de Janeiro
REFRESH-INTERVAL;VALUE=DURATION:PT1H
X-Robots-Tag:noindex
X-PUBLISHED-TTL:PT1H
BEGIN:VTIMEZONE
TZID:America/Sao_Paulo
BEGIN:STANDARD
TZOFFSETFROM:-0300
TZOFFSETTO:-0300
TZNAME:-03
DTSTART:20240101T000000
END:STANDARD
END:VTIMEZONE
BEGIN:VEVENT
DTSTART;TZID=America/Sao_Paulo:20251026T100000
DTEND;TZID=America/Sao_Paulo:20251026T110000
DTSTAMP:20260424T050620
CREATED:20250923T184656Z
LAST-MODIFIED:20250923T184830Z
UID:10016394-1761472800-1761476400@meditario.org.br
SUMMARY:Preces pela Paz Mundial
DESCRIPTION:
URL:https://meditario.org.br/evento/preces-pela-paz-mundial-4-2-2/2025-10-26/
LOCATION:CMK Rio de Janeiro\, Rua Conde de Irajá\, 604 – Botafogo\, Rio de Janeiro\, Rio de Janeiro\, 22271-020\, Brasil
CATEGORIES:Preces
ATTACH;FMTTYPE=image/jpeg:https://meditario.org.br/wp-content/uploads/2024/11/Preces-pela-Paz-Mundial.jpg
END:VEVENT
BEGIN:VEVENT
DTSTART;TZID=America/Sao_Paulo:20251026T170000
DTEND;TZID=America/Sao_Paulo:20251026T183000
DTSTAMP:20260424T050620
CREATED:20250720T174736Z
LAST-MODIFIED:20251010T005634Z
UID:10015919-1761498000-1761503400@meditario.org.br
SUMMARY:Aula com Meditação
DESCRIPTION:
URL:https://meditario.org.br/evento/aula-com-meditacao-28/
LOCATION:CMK Rio de Janeiro\, Rua Conde de Irajá\, 604 – Botafogo\, Rio de Janeiro\, Rio de Janeiro\, 22271-020\, Brasil
CATEGORIES:Aulas com Meditação,PG de Domingo Outubro
ATTACH;FMTTYPE=image/png:https://meditario.org.br/wp-content/uploads/2025/07/Captura-de-Tela-2025-07-20-as-14.21.40.png
END:VEVENT
END:VCALENDAR