BEGIN:VCALENDAR
VERSION:2.0
PRODID:-//Centro de Meditação Kadampa Rio de Janeiro - ECPv6.15.20//NONSGML v1.0//EN
CALSCALE:GREGORIAN
METHOD:PUBLISH
X-WR-CALNAME:Centro de Meditação Kadampa Rio de Janeiro
X-ORIGINAL-URL:https://meditario.org.br
X-WR-CALDESC:Eventos para Centro de Meditação Kadampa Rio de Janeiro
REFRESH-INTERVAL;VALUE=DURATION:PT1H
X-Robots-Tag:noindex
X-PUBLISHED-TTL:PT1H
BEGIN:VTIMEZONE
TZID:America/Sao_Paulo
BEGIN:STANDARD
TZOFFSETFROM:-0300
TZOFFSETTO:-0300
TZNAME:-03
DTSTART:20240101T000000
END:STANDARD
END:VTIMEZONE
BEGIN:VEVENT
DTSTART;TZID=America/Sao_Paulo:20251108T140000
DTEND;TZID=America/Sao_Paulo:20251109T111500
DTSTAMP:20260424T050221
CREATED:20250820T020212Z
LAST-MODIFIED:20251104T140343Z
UID:10015951-1762610400-1762686900@meditario.org.br
SUMMARY:Retiro de Tara 24h
DESCRIPTION:
URL:https://meditario.org.br/evento/retiro-de-tara-24h-2/
LOCATION:CMK Rio de Janeiro\, Rua Conde de Irajá\, 604 – Botafogo\, Rio de Janeiro\, Rio de Janeiro\, 22271-020\, Brasil
CATEGORIES:Retiros
ATTACH;FMTTYPE=image/png:https://meditario.org.br/wp-content/uploads/2025/01/retiro-tara-24h.png
END:VEVENT
BEGIN:VEVENT
DTSTART;TZID=America/Sao_Paulo:20251109T150000
DTEND;TZID=America/Sao_Paulo:20251109T163000
DTSTAMP:20260424T050221
CREATED:20251023T192010Z
LAST-MODIFIED:20251023T192100Z
UID:10016509-1762700400-1762705800@meditario.org.br
SUMMARY:Joia-Coração com Lamrim
DESCRIPTION:
URL:https://meditario.org.br/evento/joia-coracao-com-lamrim-2-2-2/2025-11-09/
LOCATION:CMK Rio de Janeiro\, Rua Conde de Irajá\, 604 – Botafogo\, Rio de Janeiro\, Rio de Janeiro\, 22271-020\, Brasil
CATEGORIES:Preces
ATTACH;FMTTYPE=image/jpeg:https://meditario.org.br/wp-content/uploads/2024/11/JSD-e-JC.jpg
END:VEVENT
BEGIN:VEVENT
DTSTART;TZID=America/Sao_Paulo:20251109T170000
DTEND;TZID=America/Sao_Paulo:20251109T183000
DTSTAMP:20260424T050221
CREATED:20250825T000449Z
LAST-MODIFIED:20251023T182105Z
UID:10015943-1762707600-1762713000@meditario.org.br
SUMMARY:Aula com Meditação
DESCRIPTION:
URL:https://meditario.org.br/evento/aula-com-meditacao-44/
LOCATION:Rio de Janeiro
CATEGORIES:Aulas com Meditação,PGs de Domingo Novembro
ATTACH;FMTTYPE=image/png:https://meditario.org.br/wp-content/uploads/2025/08/Captura-de-Tela-2025-08-19-as-00.58.37.png
END:VEVENT
END:VCALENDAR