BEGIN:VCALENDAR
VERSION:2.0
PRODID:-//Centro de Meditação Kadampa Rio de Janeiro - ECPv6.15.20//NONSGML v1.0//EN
CALSCALE:GREGORIAN
METHOD:PUBLISH
X-WR-CALNAME:Centro de Meditação Kadampa Rio de Janeiro
X-ORIGINAL-URL:https://meditario.org.br
X-WR-CALDESC:Eventos para Centro de Meditação Kadampa Rio de Janeiro
REFRESH-INTERVAL;VALUE=DURATION:PT1H
X-Robots-Tag:noindex
X-PUBLISHED-TTL:PT1H
BEGIN:VTIMEZONE
TZID:America/Sao_Paulo
BEGIN:STANDARD
TZOFFSETFROM:-0300
TZOFFSETTO:-0300
TZNAME:-03
DTSTART:20240101T000000
END:STANDARD
END:VTIMEZONE
BEGIN:VEVENT
DTSTART;TZID=America/Sao_Paulo:20251231T210000
DTEND;TZID=America/Sao_Paulo:20260101T010000
DTSTAMP:20260424T013500
CREATED:20251212T134209Z
LAST-MODIFIED:20251213T210336Z
UID:10016854-1767214800-1767229200@meditario.org.br
SUMMARY:Filial Salvador (BA): Ano Novo Budista
DESCRIPTION:
URL:https://meditario.org.br/evento/ano-novo-budista/
LOCATION:Vivarte – Pituba\, R. Mato Grosso\, 660 - Pituba\, Salvador\, Bahia\, 41830-151\, Brazil
CATEGORIES:Atividades em Salvador
ATTACH;FMTTYPE=image/jpeg:https://meditario.org.br/wp-content/uploads/2025/12/site-e-sympla-2025-8.jpg
END:VEVENT
BEGIN:VEVENT
DTSTART;TZID=America/Sao_Paulo:20251231T210000
DTEND;TZID=America/Sao_Paulo:20260101T013000
DTSTAMP:20260424T013500
CREATED:20251007T152606Z
LAST-MODIFIED:20251021T133604Z
UID:10016485-1767214800-1767231000@meditario.org.br
SUMMARY:Reveillon no Centro Budista
DESCRIPTION:
URL:https://meditario.org.br/evento/reveillon-no-centro-budista/
LOCATION:CMK Rio de Janeiro\, Rua Conde de Irajá\, 604 – Botafogo\, Rio de Janeiro\, Rio de Janeiro\, 22271-020\, Brasil
CATEGORIES:Atividades em Destaque,Atividades Especiais
ATTACH;FMTTYPE=image/jpeg:https://meditario.org.br/wp-content/uploads/2025/10/site-e-sympla-2025-13.jpg
END:VEVENT
END:VCALENDAR