BEGIN:VCALENDAR
VERSION:2.0
PRODID:-//Centro de Meditação Kadampa Rio de Janeiro - ECPv6.15.20//NONSGML v1.0//EN
CALSCALE:GREGORIAN
METHOD:PUBLISH
X-WR-CALNAME:Centro de Meditação Kadampa Rio de Janeiro
X-ORIGINAL-URL:https://meditario.org.br
X-WR-CALDESC:Eventos para Centro de Meditação Kadampa Rio de Janeiro
REFRESH-INTERVAL;VALUE=DURATION:PT1H
X-Robots-Tag:noindex
X-PUBLISHED-TTL:PT1H
BEGIN:VTIMEZONE
TZID:America/Sao_Paulo
BEGIN:STANDARD
TZOFFSETFROM:-0300
TZOFFSETTO:-0300
TZNAME:-03
DTSTART:20250101T000000
END:STANDARD
END:VTIMEZONE
BEGIN:VEVENT
DTSTART;TZID=America/Sao_Paulo:20260105T123000
DTEND;TZID=America/Sao_Paulo:20260131T130000
DTSTAMP:20260424T013401
CREATED:20251019T025600Z
LAST-MODIFIED:20260130T134357Z
UID:10016488-1767616200-1769864400@meditario.org.br
SUMMARY:Desafio Projeto Verão 2026
DESCRIPTION:
URL:https://meditario.org.br/evento/desafio-projeto-verao-2026/
LOCATION:CMK Rio de Janeiro\, Rua Conde de Irajá\, 604 – Botafogo\, Rio de Janeiro\, Rio de Janeiro\, 22271-020\, Brasil
CATEGORIES:Atividades Especiais
ATTACH;FMTTYPE=image/png:https://meditario.org.br/wp-content/uploads/2025/10/Captura-de-Tela-2025-10-18-as-23.48.29.png
END:VEVENT
BEGIN:VEVENT
DTSTART;TZID=America/Sao_Paulo:20260117T100000
DTEND;TZID=America/Sao_Paulo:20260117T123000
DTSTAMP:20260424T013401
CREATED:20251019T030625Z
LAST-MODIFIED:20260107T161549Z
UID:10016490-1768644000-1768653000@meditario.org.br
SUMMARY:Mini Curso
DESCRIPTION:
URL:https://meditario.org.br/evento/mini-curso-2/
LOCATION:CMK Rio de Janeiro\, Rua Conde de Irajá\, 604 – Botafogo\, Rio de Janeiro\, Rio de Janeiro\, 22271-020\, Brasil
CATEGORIES:Atividades em Destaque,Atividades Especiais
ATTACH;FMTTYPE=image/png:https://meditario.org.br/wp-content/uploads/2025/10/Captura-de-Tela-2025-10-19-as-00.04.59.png
END:VEVENT
BEGIN:VEVENT
DTSTART;TZID=America/Sao_Paulo:20260117T103000
DTEND;TZID=America/Sao_Paulo:20260117T150000
DTSTAMP:20260424T013401
CREATED:20251210T134002Z
LAST-MODIFIED:20260109T181631Z
UID:10016847-1768645800-1768662000@meditario.org.br
SUMMARY:Minicurso em Vila Velha
DESCRIPTION:
URL:https://meditario.org.br/evento/evento-especial-em-vila-velha-4/
LOCATION:Marzen\, R. Vinícius Tôrres\, 635\, vila velha\, ES\, 29.100430\, Brazil
CATEGORIES:Atividades Vila Velha,Vila Velha
ATTACH;FMTTYPE=image/jpeg:https://meditario.org.br/wp-content/uploads/2025/12/viver-alem-da-ansiedade.jpg
END:VEVENT
BEGIN:VEVENT
DTSTART;TZID=America/Sao_Paulo:20260117T140000
DTEND;TZID=America/Sao_Paulo:20260117T153000
DTSTAMP:20260424T013402
CREATED:20251214T184645Z
LAST-MODIFIED:20260107T144658Z
UID:10016968-1768658400-1768663800@meditario.org.br
SUMMARY:Aula para crianças
DESCRIPTION:
URL:https://meditario.org.br/evento/aula-para-criancas-7/
LOCATION:CMK Rio de Janeiro\, Rua Conde de Irajá\, 604 – Botafogo\, Rio de Janeiro\, Rio de Janeiro\, 22271-020\, Brasil
CATEGORIES:Para Crianças
ATTACH;FMTTYPE=image/jpeg:https://meditario.org.br/wp-content/uploads/2025/12/Site-2026.jpg
END:VEVENT
END:VCALENDAR