BEGIN:VCALENDAR
VERSION:2.0
PRODID:-//Centro de Meditação Kadampa Rio de Janeiro - ECPv6.15.20//NONSGML v1.0//EN
CALSCALE:GREGORIAN
METHOD:PUBLISH
X-ORIGINAL-URL:https://meditario.org.br
X-WR-CALDESC:Eventos para Centro de Meditação Kadampa Rio de Janeiro
REFRESH-INTERVAL;VALUE=DURATION:PT1H
X-Robots-Tag:noindex
X-PUBLISHED-TTL:PT1H
BEGIN:VTIMEZONE
TZID:America/Sao_Paulo
BEGIN:STANDARD
TZOFFSETFROM:-0300
TZOFFSETTO:-0300
TZNAME:-03
DTSTART:20250101T000000
END:STANDARD
END:VTIMEZONE
BEGIN:VEVENT
DTSTART;TZID=America/Sao_Paulo:20260105T123000
DTEND;TZID=America/Sao_Paulo:20260131T130000
DTSTAMP:20260424T013556
CREATED:20251019T025600Z
LAST-MODIFIED:20260130T134357Z
UID:10016488-1767616200-1769864400@meditario.org.br
SUMMARY:Desafio Projeto Verão 2026
DESCRIPTION:
URL:https://meditario.org.br/evento/desafio-projeto-verao-2026/
LOCATION:CMK Rio de Janeiro\, Rua Conde de Irajá\, 604 – Botafogo\, Rio de Janeiro\, Rio de Janeiro\, 22271-020\, Brasil
CATEGORIES:Atividades Especiais
ATTACH;FMTTYPE=image/png:https://meditario.org.br/wp-content/uploads/2025/10/Captura-de-Tela-2025-10-18-as-23.48.29.png
END:VEVENT
BEGIN:VEVENT
DTSTART;TZID=America/Sao_Paulo:20260125T100000
DTEND;TZID=America/Sao_Paulo:20260125T113000
DTSTAMP:20260424T013556
CREATED:20251019T031354Z
LAST-MODIFIED:20260104T214846Z
UID:10016492-1769335200-1769340600@meditario.org.br
SUMMARY:Aula Especial
DESCRIPTION:
URL:https://meditario.org.br/evento/aula-especial/
LOCATION:CMK Rio de Janeiro\, Rua Conde de Irajá\, 604 – Botafogo\, Rio de Janeiro\, Rio de Janeiro\, 22271-020\, Brasil
CATEGORIES:Atividades Especiais
ATTACH;FMTTYPE=image/png:https://meditario.org.br/wp-content/uploads/2025/10/Captura-de-Tela-2025-10-19-as-00.12.48.png
END:VEVENT
BEGIN:VEVENT
DTSTART;TZID=America/Sao_Paulo:20260125T170000
DTEND;TZID=America/Sao_Paulo:20260125T183000
DTSTAMP:20260424T013556
CREATED:20251217T042820Z
LAST-MODIFIED:20251219T023855Z
UID:10016980-1769360400-1769365800@meditario.org.br
SUMMARY:Aula com Meditação
DESCRIPTION:
URL:https://meditario.org.br/evento/aula-com-meditacao-77/
LOCATION:CMK Rio de Janeiro\, Rua Conde de Irajá\, 604 – Botafogo\, Rio de Janeiro\, Rio de Janeiro\, 22271-020\, Brasil
CATEGORIES:Aulas com Meditação,PG de Domingo Dezembro
ATTACH;FMTTYPE=image/png:https://meditario.org.br/wp-content/uploads/2025/12/Captura-de-Tela-2025-12-17-as-01.26.23.png
END:VEVENT
END:VCALENDAR