BEGIN:VCALENDAR
VERSION:2.0
PRODID:-//Centro de Meditação Kadampa Rio de Janeiro - ECPv6.15.20//NONSGML v1.0//EN
CALSCALE:GREGORIAN
METHOD:PUBLISH
X-ORIGINAL-URL:https://meditario.org.br
X-WR-CALDESC:Eventos para Centro de Meditação Kadampa Rio de Janeiro
REFRESH-INTERVAL;VALUE=DURATION:PT1H
X-Robots-Tag:noindex
X-PUBLISHED-TTL:PT1H
BEGIN:VTIMEZONE
TZID:America/Sao_Paulo
BEGIN:STANDARD
TZOFFSETFROM:-0300
TZOFFSETTO:-0300
TZNAME:-03
DTSTART:20250101T000000
END:STANDARD
END:VTIMEZONE
BEGIN:VEVENT
DTSTART;TZID=America/Sao_Paulo:20260105T123000
DTEND;TZID=America/Sao_Paulo:20260131T130000
DTSTAMP:20260424T013546
CREATED:20251019T025600Z
LAST-MODIFIED:20260130T134357Z
UID:10016488-1767616200-1769864400@meditario.org.br
SUMMARY:Desafio Projeto Verão 2026
DESCRIPTION:
URL:https://meditario.org.br/evento/desafio-projeto-verao-2026/
LOCATION:CMK Rio de Janeiro\, Rua Conde de Irajá\, 604 – Botafogo\, Rio de Janeiro\, Rio de Janeiro\, 22271-020\, Brasil
CATEGORIES:Atividades Especiais
ATTACH;FMTTYPE=image/png:https://meditario.org.br/wp-content/uploads/2025/10/Captura-de-Tela-2025-10-18-as-23.48.29.png
END:VEVENT
BEGIN:VEVENT
DTSTART;TZID=America/Sao_Paulo:20260126T193000
DTEND;TZID=America/Sao_Paulo:20260201T120000
DTSTAMP:20260424T013546
CREATED:20250703T220445Z
LAST-MODIFIED:20260122T212129Z
UID:10015798-1769455800-1769947200@meditario.org.br
SUMMARY:Retiro na Serra da Bocaina
DESCRIPTION:
URL:https://meditario.org.br/evento/retiro-na-serra-da-bocaina/
LOCATION:Recanto da Floresta Eco Lodge\, Rodovia Francisca Mendes Ribeiro\, km 23\,8 - Serra da Bocaina\, São José do Barreiro\, São José do Barreiro\, São Paulo\, 12830-000\, Brazil
CATEGORIES:Atividades Especiais,Retiros
ATTACH;FMTTYPE=image/jpeg:https://meditario.org.br/wp-content/uploads/2025/07/retiro-varjayogini-site-1.jpg
END:VEVENT
BEGIN:VEVENT
DTSTART;TZID=America/Sao_Paulo:20260128T090000
DTEND;TZID=America/Sao_Paulo:20260128T093000
DTSTAMP:20260424T013546
CREATED:20251212T203402Z
LAST-MODIFIED:20251212T203455Z
UID:10016922-1769590800-1769592600@meditario.org.br
SUMMARY:A Confissão Bodhisattva das Quedas Morais
DESCRIPTION:
URL:https://meditario.org.br/evento/a-confissao-bodhisattva-das-quedas-morais-6-2-2-2/2026-01-28/
LOCATION:CMK Rio de Janeiro\, Rua Conde de Irajá\, 604 – Botafogo\, Rio de Janeiro\, Rio de Janeiro\, 22271-020\, Brasil
CATEGORIES:Preces
ATTACH;FMTTYPE=image/jpeg:https://meditario.org.br/wp-content/uploads/2024/11/Sutra-mahayana.jpg
END:VEVENT
BEGIN:VEVENT
DTSTART;TZID=America/Sao_Paulo:20260128T123000
DTEND;TZID=America/Sao_Paulo:20260128T130000
DTSTAMP:20260424T013546
CREATED:20251212T203802Z
LAST-MODIFIED:20251212T203845Z
UID:10016941-1769603400-1769605200@meditario.org.br
SUMMARY:Meditação na Hora do Almoço
DESCRIPTION:
URL:https://meditario.org.br/evento/meditacao-na-hora-do-almoco-5-2-2-2/2026-01-28/
LOCATION:CMK Rio de Janeiro\, Rua Conde de Irajá\, 604 – Botafogo\, Rio de Janeiro\, Rio de Janeiro\, 22271-020\, Brasil
CATEGORIES:Meditação na Hora do Almoço
ATTACH;FMTTYPE=image/jpeg:https://meditario.org.br/wp-content/uploads/2024/11/medita-em-30.jpg
END:VEVENT
BEGIN:VEVENT
DTSTART;TZID=America/Sao_Paulo:20260128T190000
DTEND;TZID=America/Sao_Paulo:20260128T201500
DTSTAMP:20260424T013546
CREATED:20251212T215244Z
LAST-MODIFIED:20260121T111410Z
UID:10016950-1769626800-1769631300@meditario.org.br
SUMMARY:Aula com Meditação em Vila Velha
DESCRIPTION:
URL:https://meditario.org.br/evento/aula-com-meditacao-em-vila-velha-14/
LOCATION:Marzen\, R. Vinícius Tôrres\, 635\, vila velha\, ES\, 29.100430\, Brazil
CATEGORIES:Atividades Vila Velha,Vila Velha
ATTACH;FMTTYPE=image/jpeg:https://meditario.org.br/wp-content/uploads/2025/12/a-forca-da-fe.jpg
END:VEVENT
BEGIN:VEVENT
DTSTART;TZID=America/Sao_Paulo:20260128T193000
DTEND;TZID=America/Sao_Paulo:20260128T210000
DTSTAMP:20260424T013546
CREATED:20251214T184242Z
LAST-MODIFIED:20260109T025440Z
UID:10016967-1769628600-1769634000@meditario.org.br
SUMMARY:Aula com Meditação
DESCRIPTION:
URL:https://meditario.org.br/evento/aula-com-meditacao-66/
LOCATION:CMK Rio de Janeiro\, Rua Conde de Irajá\, 604 – Botafogo\, Rio de Janeiro\, Rio de Janeiro\, 22271-020\, Brasil
CATEGORIES:Aulas com Meditação,PGs de Quarta Outubro Novembro Dezembro
ATTACH;FMTTYPE=image/png:https://meditario.org.br/wp-content/uploads/2025/12/Captura-de-Tela-2025-12-14-as-15.41.38.png
END:VEVENT
END:VCALENDAR