BEGIN:VCALENDAR
VERSION:2.0
PRODID:-//Centro de Meditação Kadampa Rio de Janeiro - ECPv6.15.20//NONSGML v1.0//EN
CALSCALE:GREGORIAN
METHOD:PUBLISH
X-WR-CALNAME:Centro de Meditação Kadampa Rio de Janeiro
X-ORIGINAL-URL:https://meditario.org.br
X-WR-CALDESC:Eventos para Centro de Meditação Kadampa Rio de Janeiro
REFRESH-INTERVAL;VALUE=DURATION:PT1H
X-Robots-Tag:noindex
X-PUBLISHED-TTL:PT1H
BEGIN:VTIMEZONE
TZID:America/Sao_Paulo
BEGIN:STANDARD
TZOFFSETFROM:-0300
TZOFFSETTO:-0300
TZNAME:-03
DTSTART:20250101T000000
END:STANDARD
END:VTIMEZONE
BEGIN:VEVENT
DTSTART;TZID=America/Sao_Paulo:20260208T100000
DTEND;TZID=America/Sao_Paulo:20260208T110000
DTSTAMP:20260424T000210
CREATED:20251130T181649Z
LAST-MODIFIED:20260116T213350Z
UID:10017017-1770544800-1770548400@meditario.org.br
SUMMARY:Preces pela Paz Mundial
DESCRIPTION:
URL:https://meditario.org.br/evento/preces-pela-paz-mundial-4-2-4/2026-02-08/
LOCATION:CMK Rio de Janeiro\, Rua Conde de Irajá\, 604 – Botafogo\, Rio de Janeiro\, Rio de Janeiro\, 22271-020\, Brasil
CATEGORIES:Preces
ATTACH;FMTTYPE=image/jpeg:https://meditario.org.br/wp-content/uploads/2024/11/Preces-pela-Paz-Mundial.jpg
END:VEVENT
BEGIN:VEVENT
DTSTART;TZID=America/Sao_Paulo:20260208T150000
DTEND;TZID=America/Sao_Paulo:20260208T163000
DTSTAMP:20260424T000210
CREATED:20251130T153417Z
LAST-MODIFIED:20260126T143946Z
UID:10017008-1770562800-1770568200@meditario.org.br
SUMMARY:Joia-Coração com Lamrim
DESCRIPTION:
URL:https://meditario.org.br/evento/joia-coracao-com-lamrim-3-2-2/2026-02-08/
LOCATION:CMK Rio de Janeiro\, Rua Conde de Irajá\, 604 – Botafogo\, Rio de Janeiro\, Rio de Janeiro\, 22271-020\, Brasil
CATEGORIES:Preces
ATTACH;FMTTYPE=image/jpeg:https://meditario.org.br/wp-content/uploads/2024/11/JSD-e-JC.jpg
END:VEVENT
BEGIN:VEVENT
DTSTART;TZID=America/Sao_Paulo:20260208T170000
DTEND;TZID=America/Sao_Paulo:20260208T183000
DTSTAMP:20260424T000210
CREATED:20251229T013033Z
LAST-MODIFIED:20260119T140405Z
UID:10016985-1770570000-1770575400@meditario.org.br
SUMMARY:Aula com Meditação (e preces para Tara Verde)
DESCRIPTION:
URL:https://meditario.org.br/evento/aula-com-meditacao-79/
LOCATION:CMK Rio de Janeiro\, Rua Conde de Irajá\, 604 – Botafogo\, Rio de Janeiro\, Rio de Janeiro\, 22271-020\, Brasil
CATEGORIES:Aulas com Meditação,PG de Domingo Fevereiro 2026
ATTACH;FMTTYPE=image/png:https://meditario.org.br/wp-content/uploads/2025/12/Captura-de-Tela-2025-12-28-as-22.29.03.png
END:VEVENT
END:VCALENDAR