BEGIN:VCALENDAR
VERSION:2.0
PRODID:-//Centro de Meditação Kadampa Rio de Janeiro - ECPv6.15.20//NONSGML v1.0//EN
CALSCALE:GREGORIAN
METHOD:PUBLISH
X-ORIGINAL-URL:https://meditario.org.br
X-WR-CALDESC:Eventos para Centro de Meditação Kadampa Rio de Janeiro
REFRESH-INTERVAL;VALUE=DURATION:PT1H
X-Robots-Tag:noindex
X-PUBLISHED-TTL:PT1H
BEGIN:VTIMEZONE
TZID:America/Sao_Paulo
BEGIN:STANDARD
TZOFFSETFROM:-0300
TZOFFSETTO:-0300
TZNAME:-03
DTSTART:20250101T000000
END:STANDARD
END:VTIMEZONE
BEGIN:VEVENT
DTSTART;TZID=America/Sao_Paulo:20260221T100000
DTEND;TZID=America/Sao_Paulo:20260221T123000
DTSTAMP:20260424T000355
CREATED:20251214T134230Z
LAST-MODIFIED:20260219T124216Z
UID:10016958-1771668000-1771677000@meditario.org.br
SUMMARY:Mini Curso
DESCRIPTION:
URL:https://meditario.org.br/evento/mini-curso-4/
LOCATION:CMK Rio de Janeiro\, Rua Conde de Irajá\, 604 – Botafogo\, Rio de Janeiro\, Rio de Janeiro\, 22271-020\, Brasil
CATEGORIES:Atividades em Destaque,Atividades Especiais
ATTACH;FMTTYPE=image/png:https://meditario.org.br/wp-content/uploads/2025/12/Captura-de-Tela-2025-12-14-as-10.40.53.png
END:VEVENT
BEGIN:VEVENT
DTSTART;TZID=America/Sao_Paulo:20260221T150000
DTEND;TZID=America/Sao_Paulo:20260221T163000
DTSTAMP:20260424T000355
CREATED:20260104T220831Z
LAST-MODIFIED:20260219T124306Z
UID:10016987-1771686000-1771691400@meditario.org.br
SUMMARY:Aula para Crianças
DESCRIPTION:
URL:https://meditario.org.br/evento/aula-para-criancas-9/
LOCATION:CMK Rio de Janeiro\, Rua Conde de Irajá\, 604 – Botafogo\, Rio de Janeiro\, Rio de Janeiro\, 22271-020\, Brasil
CATEGORIES:Para Crianças
ATTACH;FMTTYPE=image/jpeg:https://meditario.org.br/wp-content/uploads/2026/01/Site-2026-3.jpg
END:VEVENT
BEGIN:VEVENT
DTSTART;TZID=America/Sao_Paulo:20260221T193000
DTEND;TZID=America/Sao_Paulo:20260221T210000
DTSTAMP:20260424T000355
CREATED:20251023T193201Z
LAST-MODIFIED:20260117T005504Z
UID:10017077-1771702200-1771707600@meditario.org.br
SUMMARY:Caminho Rápido ao Grande Êxtase
DESCRIPTION:
URL:https://meditario.org.br/evento/caminho-rapido-ao-grande-extase-2-2-4/2026-02-21/
LOCATION:CMK Rio de Janeiro\, Rua Conde de Irajá\, 604 – Botafogo\, Rio de Janeiro\, Rio de Janeiro\, 22271-020\, Brasil
CATEGORIES:Preces
ATTACH;FMTTYPE=image/jpeg:https://meditario.org.br/wp-content/uploads/2024/11/caminho-rapido.jpg
END:VEVENT
END:VCALENDAR