BEGIN:VCALENDAR
VERSION:2.0
PRODID:-//Centro de Meditação Kadampa Rio de Janeiro - ECPv6.15.20//NONSGML v1.0//EN
CALSCALE:GREGORIAN
METHOD:PUBLISH
X-ORIGINAL-URL:https://meditario.org.br
X-WR-CALDESC:Eventos para Centro de Meditação Kadampa Rio de Janeiro
REFRESH-INTERVAL;VALUE=DURATION:PT1H
X-Robots-Tag:noindex
X-PUBLISHED-TTL:PT1H
BEGIN:VTIMEZONE
TZID:America/Sao_Paulo
BEGIN:STANDARD
TZOFFSETFROM:-0300
TZOFFSETTO:-0300
TZNAME:-03
DTSTART:20250101T000000
END:STANDARD
END:VTIMEZONE
BEGIN:VEVENT
DTSTART;TZID=America/Sao_Paulo:20260227T100000
DTEND;TZID=America/Sao_Paulo:20260301T210000
DTSTAMP:20260423T235346
CREATED:20251024T135155Z
LAST-MODIFIED:20260209T193757Z
UID:10016576-1772186400-1772398800@meditario.org.br
SUMMARY:Visita da nossa Diretora Espiritual Nacional
DESCRIPTION:
URL:https://meditario.org.br/evento/visita-da-nossa-diretora-espiritual-nacional/
LOCATION:CMK Rio de Janeiro\, Rua Conde de Irajá\, 604 – Botafogo\, Rio de Janeiro\, Rio de Janeiro\, 22271-020\, Brasil
CATEGORIES:Atividades em Destaque,Atividades Especiais
ATTACH;FMTTYPE=image/png:https://meditario.org.br/wp-content/uploads/2025/10/Captura-de-Tela-2025-10-24-as-10.50.56.png
END:VEVENT
BEGIN:VEVENT
DTSTART;TZID=America/Sao_Paulo:20260228T100000
DTEND;TZID=America/Sao_Paulo:20260228T190000
DTSTAMP:20260423T235346
CREATED:20251024T140011Z
LAST-MODIFIED:20260209T193609Z
UID:10016578-1772272800-1772305200@meditario.org.br
SUMMARY:Cerimônia do Voto Bodhisattva
DESCRIPTION:
URL:https://meditario.org.br/evento/cerimonia-do-voto-bodhisattva/
LOCATION:CMK Rio de Janeiro\, Rua Conde de Irajá\, 604 – Botafogo\, Rio de Janeiro\, Rio de Janeiro\, 22271-020\, Brasil
CATEGORIES:Atividades Especiais
ATTACH;FMTTYPE=image/png:https://meditario.org.br/wp-content/uploads/2025/10/Captura-de-Tela-2025-10-24-as-10.59.23.png
END:VEVENT
BEGIN:VEVENT
DTSTART;TZID=America/Sao_Paulo:20260228T140000
DTEND;TZID=America/Sao_Paulo:20260228T151500
DTSTAMP:20260423T235346
CREATED:20251212T220633Z
LAST-MODIFIED:20260205T145113Z
UID:10016954-1772287200-1772291700@meditario.org.br
SUMMARY:Aula com Meditação em Vila Velha
DESCRIPTION:
URL:https://meditario.org.br/evento/aula-com-meditacao-em-vila-velha-18/
LOCATION:Marzen\, R. Vinícius Tôrres\, 635\, vila velha\, ES\, 29.100430\, Brazil
CATEGORIES:Atividades Vila Velha,Vila Velha
ATTACH;FMTTYPE=image/jpeg:https://meditario.org.br/wp-content/uploads/2025/12/como-acabar-com-nosso-apego.jpg
END:VEVENT
BEGIN:VEVENT
DTSTART;TZID=America/Sao_Paulo:20260228T190000
DTEND;TZID=America/Sao_Paulo:20260228T203000
DTSTAMP:20260423T235346
CREATED:20250923T181709Z
LAST-MODIFIED:20260116T211517Z
UID:10017002-1772305200-1772310600@meditario.org.br
SUMMARY:Joia-que-Satisfaz-os-Desejos com Tsog
DESCRIPTION:
URL:https://meditario.org.br/evento/joia-que-satisfaz-os-desejos-ou-joia-coracao-20-2/2026-02-28/
LOCATION:CMK Rio de Janeiro\, Rua Conde de Irajá\, 604 – Botafogo\, Rio de Janeiro\, Rio de Janeiro\, 22271-020\, Brasil
CATEGORIES:Preces
ATTACH;FMTTYPE=image/jpeg:https://meditario.org.br/wp-content/uploads/2024/11/JSD-e-JC.jpg
END:VEVENT
END:VCALENDAR