BEGIN:VCALENDAR
VERSION:2.0
PRODID:-//Centro de Meditação Kadampa Rio de Janeiro - ECPv6.15.20//NONSGML v1.0//EN
CALSCALE:GREGORIAN
METHOD:PUBLISH
X-ORIGINAL-URL:https://meditario.org.br
X-WR-CALDESC:Eventos para Centro de Meditação Kadampa Rio de Janeiro
REFRESH-INTERVAL;VALUE=DURATION:PT1H
X-Robots-Tag:noindex
X-PUBLISHED-TTL:PT1H
BEGIN:VTIMEZONE
TZID:America/Sao_Paulo
BEGIN:STANDARD
TZOFFSETFROM:-0300
TZOFFSETTO:-0300
TZNAME:-03
DTSTART:20250101T000000
END:STANDARD
END:VTIMEZONE
BEGIN:VEVENT
DTSTART;TZID=America/Sao_Paulo:20260318T090000
DTEND;TZID=America/Sao_Paulo:20260318T093000
DTSTAMP:20260423T221314
CREATED:20260220T192944Z
LAST-MODIFIED:20260220T193036Z
UID:10017165-1773824400-1773826200@meditario.org.br
SUMMARY:A Confissão Bodhisattva das Quedas Morais
DESCRIPTION:
URL:https://meditario.org.br/evento/a-confissao-bodhisattva-das-quedas-morais-6-2-2-2-2/2026-03-18/
LOCATION:CMK Rio de Janeiro\, Rua Conde de Irajá\, 604 – Botafogo\, Rio de Janeiro\, Rio de Janeiro\, 22271-020\, Brasil
CATEGORIES:Preces
ATTACH;FMTTYPE=image/jpeg:https://meditario.org.br/wp-content/uploads/2024/11/Sutra-mahayana.jpg
END:VEVENT
BEGIN:VEVENT
DTSTART;TZID=America/Sao_Paulo:20260318T123000
DTEND;TZID=America/Sao_Paulo:20260318T130000
DTSTAMP:20260423T221314
CREATED:20260220T193521Z
LAST-MODIFIED:20260220T193555Z
UID:10017185-1773837000-1773838800@meditario.org.br
SUMMARY:Meditação na Hora do Almoço
DESCRIPTION:
URL:https://meditario.org.br/evento/meditacao-na-hora-do-almoco-5-2-2-2-2/2026-03-18/
LOCATION:CMK Rio de Janeiro\, Rua Conde de Irajá\, 604 – Botafogo\, Rio de Janeiro\, Rio de Janeiro\, 22271-020\, Brasil
CATEGORIES:Meditação na Hora do Almoço
ATTACH;FMTTYPE=image/jpeg:https://meditario.org.br/wp-content/uploads/2024/11/medita-em-30.jpg
END:VEVENT
BEGIN:VEVENT
DTSTART;TZID=America/Sao_Paulo:20260318T170000
DTEND;TZID=America/Sao_Paulo:20260318T183000
DTSTAMP:20260423T221314
CREATED:20260220T185437Z
LAST-MODIFIED:20260302T141013Z
UID:10017113-1773853200-1773858600@meditario.org.br
SUMMARY:Joia-que-Satisfaz-os-Desejos ou Joia-Coração
DESCRIPTION:
URL:https://meditario.org.br/evento/joia-que-satisfaz-os-desejos-ou-joia-coracao-28-2-2-2/2026-03-18/
LOCATION:CMK Rio de Janeiro\, Rua Conde de Irajá\, 604 – Botafogo\, Rio de Janeiro\, Rio de Janeiro\, 22271-020\, Brasil
CATEGORIES:Preces
ATTACH;FMTTYPE=image/jpeg:https://meditario.org.br/wp-content/uploads/2024/11/JSD-e-JC.jpg
END:VEVENT
BEGIN:VEVENT
DTSTART;TZID=America/Sao_Paulo:20260318T183000
DTEND;TZID=America/Sao_Paulo:20260318T190000
DTSTAMP:20260423T221314
CREATED:20260220T193724Z
LAST-MODIFIED:20260302T140554Z
UID:10017204-1773858600-1773860400@meditario.org.br
SUMMARY:Meditação Depois do Trabalho
DESCRIPTION:
URL:https://meditario.org.br/evento/meditacao-depois-do-trabalho-7-3-2-2-2/2026-03-18/
LOCATION:CMK Rio de Janeiro\, Rua Conde de Irajá\, 604 – Botafogo\, Rio de Janeiro\, Rio de Janeiro\, 22271-020\, Brasil
CATEGORIES:Meditação depois do trabalho
ATTACH;FMTTYPE=image/jpeg:https://meditario.org.br/wp-content/uploads/2024/11/medita-em-30.jpg
END:VEVENT
BEGIN:VEVENT
DTSTART;TZID=America/Sao_Paulo:20260318T190000
DTEND;TZID=America/Sao_Paulo:20260318T201500
DTSTAMP:20260423T221314
CREATED:20260310T000651Z
LAST-MODIFIED:20260310T001049Z
UID:10017227-1773860400-1773864900@meditario.org.br
SUMMARY:Aula com Meditação em Vila Velha
DESCRIPTION:
URL:https://meditario.org.br/evento/aula-com-meditacao-em-vila-velha-23/
LOCATION:Marzen\, R. Vinícius Tôrres\, 635\, vila velha\, ES\, 29.100430\, Brazil
CATEGORIES:Atividades Vila Velha,Vila Velha
ATTACH;FMTTYPE=image/png:https://meditario.org.br/wp-content/uploads/2026/03/2.png
END:VEVENT
BEGIN:VEVENT
DTSTART;TZID=America/Sao_Paulo:20260318T193000
DTEND;TZID=America/Sao_Paulo:20260318T210000
DTSTAMP:20260423T221314
CREATED:20260209T135532Z
LAST-MODIFIED:20260209T135607Z
UID:10017092-1773862200-1773867600@meditario.org.br
SUMMARY:Aula com Meditação
DESCRIPTION:
URL:https://meditario.org.br/evento/aula-com-meditacao-86/
LOCATION:CMK Rio de Janeiro\, Rua Conde de Irajá\, 604 – Botafogo\, Rio de Janeiro\, Rio de Janeiro\, 22271-020\, Brasil
CATEGORIES:Aulas com Meditação,PGs de Quarta Outubro Novembro Dezembro
ATTACH;FMTTYPE=image/png:https://meditario.org.br/wp-content/uploads/2026/02/Captura-de-Tela-2026-02-09-as-10.51.46.png
END:VEVENT
END:VCALENDAR