BEGIN:VCALENDAR
VERSION:2.0
PRODID:-//Centro de Meditação Kadampa Rio de Janeiro - ECPv6.15.20//NONSGML v1.0//EN
CALSCALE:GREGORIAN
METHOD:PUBLISH
X-ORIGINAL-URL:https://meditario.org.br
X-WR-CALDESC:Eventos para Centro de Meditação Kadampa Rio de Janeiro
REFRESH-INTERVAL;VALUE=DURATION:PT1H
X-Robots-Tag:noindex
X-PUBLISHED-TTL:PT1H
BEGIN:VTIMEZONE
TZID:America/Sao_Paulo
BEGIN:STANDARD
TZOFFSETFROM:-0300
TZOFFSETTO:-0300
TZNAME:-03
DTSTART:20250101T000000
END:STANDARD
END:VTIMEZONE
BEGIN:VEVENT
DTSTART;TZID=America/Sao_Paulo:20260323T193000
DTEND;TZID=America/Sao_Paulo:20260423T213000
DTSTAMP:20260423T202207
CREATED:20260224T135353Z
LAST-MODIFIED:20260422T183602Z
UID:10017215-1774294200-1776979800@meditario.org.br
SUMMARY:Aulas Abertas: Programa de Formação de Professores
DESCRIPTION:
URL:https://meditario.org.br/evento/aulas-abertas-programa-de-formacao-de-professores/
LOCATION:CMK Rio de Janeiro\, Rua Conde de Irajá\, 604 – Botafogo\, Rio de Janeiro\, Rio de Janeiro\, 22271-020\, Brasil
ATTACH;FMTTYPE=image/jpeg:https://meditario.org.br/wp-content/uploads/2026/02/Site-2026-6.jpg
END:VEVENT
BEGIN:VEVENT
DTSTART;TZID=America/Sao_Paulo:20260407T070000
DTEND;TZID=America/Sao_Paulo:20260407T083000
DTSTAMP:20260423T202207
CREATED:20260316T190517Z
LAST-MODIFIED:20260324T183556Z
UID:10017298-1775545200-1775550600@meditario.org.br
SUMMARY:Caminho Rápido ao Grande Êxtase
DESCRIPTION:
URL:https://meditario.org.br/evento/caminho-rapido-ao-grande-extase-9-2-2-2-2-2/2026-04-07/
LOCATION:CMK Rio de Janeiro\, Rua Conde de Irajá\, 604 – Botafogo\, Rio de Janeiro\, Rio de Janeiro\, 22271-020\, Brasil
CATEGORIES:Preces
ATTACH;FMTTYPE=image/jpeg:https://meditario.org.br/wp-content/uploads/2024/11/caminho-rapido.jpg
END:VEVENT
BEGIN:VEVENT
DTSTART;TZID=America/Sao_Paulo:20260407T090000
DTEND;TZID=America/Sao_Paulo:20260407T093000
DTSTAMP:20260423T202207
CREATED:20260316T184942Z
LAST-MODIFIED:20260327T145820Z
UID:10017265-1775552400-1775554200@meditario.org.br
SUMMARY:A Confissão Bodhisattva das Quedas Morais
DESCRIPTION:
URL:https://meditario.org.br/evento/a-confissao-bodhisattva-das-quedas-morais-5-2-2-2-2-2/2026-04-07/
LOCATION:CMK Rio de Janeiro\, Rua Conde de Irajá\, 604 – Botafogo\, Rio de Janeiro\, Rio de Janeiro\, 22271-020\, Brasil
CATEGORIES:Preces
ATTACH;FMTTYPE=image/jpeg:https://meditario.org.br/wp-content/uploads/2024/11/Sutra-mahayana.jpg
END:VEVENT
BEGIN:VEVENT
DTSTART;TZID=America/Sao_Paulo:20260407T104500
DTEND;TZID=America/Sao_Paulo:20260407T120000
DTSTAMP:20260423T202207
CREATED:20260208T155653Z
LAST-MODIFIED:20260208T155653Z
UID:10017084-1775558700-1775563200@meditario.org.br
SUMMARY:Aula com Meditação
DESCRIPTION:
URL:https://meditario.org.br/evento/aula-com-meditacao-81/
LOCATION:CMK Rio de Janeiro\, Rua Conde de Irajá\, 604 – Botafogo\, Rio de Janeiro\, Rio de Janeiro\, 22271-020\, Brasil
CATEGORIES:Aulas com Meditação,PG de Terca Manhã Abril 2026
END:VEVENT
BEGIN:VEVENT
DTSTART;TZID=America/Sao_Paulo:20260407T104500
DTEND;TZID=America/Sao_Paulo:20260407T120000
DTSTAMP:20260423T202207
CREATED:20260312T132321Z
LAST-MODIFIED:20260312T132321Z
UID:10017229-1775558700-1775563200@meditario.org.br
SUMMARY:Aulas com Meditação
DESCRIPTION:
URL:https://meditario.org.br/evento/aulas-com-meditacao-12/
LOCATION:CMK Rio de Janeiro\, Rua Conde de Irajá\, 604 – Botafogo\, Rio de Janeiro\, Rio de Janeiro\, 22271-020\, Brasil
CATEGORIES:Aulas com Meditação,Pgs de terca manha fevereiro marco
ATTACH;FMTTYPE=image/png:https://meditario.org.br/wp-content/uploads/2026/03/Captura-de-Tela-2026-03-12-as-20.20.58.png
END:VEVENT
BEGIN:VEVENT
DTSTART;TZID=America/Sao_Paulo:20260407T123000
DTEND;TZID=America/Sao_Paulo:20260407T130000
DTSTAMP:20260423T202207
CREATED:20260316T185308Z
LAST-MODIFIED:20260316T185512Z
UID:10017274-1775565000-1775566800@meditario.org.br
SUMMARY:Meditação na hora do almoço
DESCRIPTION:
URL:https://meditario.org.br/evento/meditacao-na-hora-do-almoco-2-2-2-2-2-2/2026-04-07/
LOCATION:CMK Rio de Janeiro\, Rua Conde de Irajá\, 604 – Botafogo\, Rio de Janeiro\, Rio de Janeiro\, 22271-020\, Brasil
CATEGORIES:Meditação na Hora do Almoço,Meditações Guiadas
ATTACH;FMTTYPE=image/jpeg:https://meditario.org.br/wp-content/uploads/2025/01/site-e-sympla-2025-5.jpg
END:VEVENT
BEGIN:VEVENT
DTSTART;TZID=America/Sao_Paulo:20260407T170000
DTEND;TZID=America/Sao_Paulo:20260407T183000
DTSTAMP:20260423T202207
CREATED:20260316T183343Z
LAST-MODIFIED:20260316T194002Z
UID:10017249-1775581200-1775586600@meditario.org.br
SUMMARY:Joia-que-Satisfaz-os-Desejos ou Joia-Coração
DESCRIPTION:
URL:https://meditario.org.br/evento/joia-que-satisfaz-os-desejos-ou-joia-coracao-28-2-3-2/2026-04-07/
LOCATION:CMK Rio de Janeiro\, Rua Conde de Irajá\, 604 – Botafogo\, Rio de Janeiro\, Rio de Janeiro\, 22271-020\, Brasil
CATEGORIES:Preces
ATTACH;FMTTYPE=image/jpeg:https://meditario.org.br/wp-content/uploads/2024/11/JSD-e-JC.jpg
END:VEVENT
BEGIN:VEVENT
DTSTART;TZID=America/Sao_Paulo:20260407T183000
DTEND;TZID=America/Sao_Paulo:20260407T190000
DTSTAMP:20260423T202207
CREATED:20260316T185549Z
LAST-MODIFIED:20260316T185758Z
UID:10017286-1775586600-1775588400@meditario.org.br
SUMMARY:Meditação Depois do Trabalho
DESCRIPTION:
URL:https://meditario.org.br/evento/meditacao-depois-do-trabalho-7-3-2-3-2/2026-04-07/
LOCATION:CMK Rio de Janeiro\, Rua Conde de Irajá\, 604 – Botafogo\, Rio de Janeiro\, Rio de Janeiro\, 22271-020\, Brasil
CATEGORIES:Meditação depois do trabalho
ATTACH;FMTTYPE=image/jpeg:https://meditario.org.br/wp-content/uploads/2024/11/medita-em-30.jpg
END:VEVENT
BEGIN:VEVENT
DTSTART;TZID=America/Sao_Paulo:20260407T193000
DTEND;TZID=America/Sao_Paulo:20260407T213000
DTSTAMP:20260423T202207
CREATED:20260116T212742Z
LAST-MODIFIED:20260316T184631Z
UID:10017262-1775590200-1775597400@meditario.org.br
SUMMARY:PF - Novo Oito Passos para a Felicidade
DESCRIPTION:
URL:https://meditario.org.br/evento/pf-novo-oito-passos-para-a-felicidade-6-2-2-3/2026-04-07/
LOCATION:CMK Rio de Janeiro\, Rua Conde de Irajá\, 604 – Botafogo\, Rio de Janeiro\, Rio de Janeiro\, 22271-020\, Brasil
CATEGORIES:Estudo Aprofundado
ATTACH;FMTTYPE=image/jpeg:https://meditario.org.br/wp-content/uploads/2024/11/pf-noppf.jpg
END:VEVENT
END:VCALENDAR