BEGIN:VCALENDAR
VERSION:2.0
PRODID:-//Centro de Meditação Kadampa Rio de Janeiro - ECPv6.15.20//NONSGML v1.0//EN
CALSCALE:GREGORIAN
METHOD:PUBLISH
X-ORIGINAL-URL:https://meditario.org.br
X-WR-CALDESC:Eventos para Centro de Meditação Kadampa Rio de Janeiro
REFRESH-INTERVAL;VALUE=DURATION:PT1H
X-Robots-Tag:noindex
X-PUBLISHED-TTL:PT1H
BEGIN:VTIMEZONE
TZID:America/Sao_Paulo
BEGIN:STANDARD
TZOFFSETFROM:-0300
TZOFFSETTO:-0300
TZNAME:-03
DTSTART:20250101T000000
END:STANDARD
END:VTIMEZONE
BEGIN:VEVENT
DTSTART;TZID=America/Sao_Paulo:20260323T193000
DTEND;TZID=America/Sao_Paulo:20260423T213000
DTSTAMP:20260423T202324
CREATED:20260224T135353Z
LAST-MODIFIED:20260422T183602Z
UID:10017215-1774294200-1776979800@meditario.org.br
SUMMARY:Aulas Abertas: Programa de Formação de Professores
DESCRIPTION:
URL:https://meditario.org.br/evento/aulas-abertas-programa-de-formacao-de-professores/
LOCATION:CMK Rio de Janeiro\, Rua Conde de Irajá\, 604 – Botafogo\, Rio de Janeiro\, Rio de Janeiro\, 22271-020\, Brasil
ATTACH;FMTTYPE=image/jpeg:https://meditario.org.br/wp-content/uploads/2026/02/Site-2026-6.jpg
END:VEVENT
BEGIN:VEVENT
DTSTART;TZID=America/Sao_Paulo:20260412T100000
DTEND;TZID=America/Sao_Paulo:20260412T110000
DTSTAMP:20260423T202324
CREATED:20250213T234246Z
LAST-MODIFIED:20260316T183144Z
UID:10010044-1775988000-1775991600@meditario.org.br
SUMMARY:Powa - Preces para os que faleceram recentemente
DESCRIPTION:
URL:https://meditario.org.br/evento/powa-preces-para-os-que-faleceram-recentemente-2/
LOCATION:CMK Rio de Janeiro\, Rua Conde de Irajá\, 604 – Botafogo\, Rio de Janeiro\, Rio de Janeiro\, 22271-020\, Brasil
CATEGORIES:Preces
ATTACH;FMTTYPE=image/jpeg:https://meditario.org.br/wp-content/uploads/2024/11/Powa.jpg
END:VEVENT
BEGIN:VEVENT
DTSTART;TZID=America/Sao_Paulo:20260412T150000
DTEND;TZID=America/Sao_Paulo:20260412T163000
DTSTAMP:20260423T202324
CREATED:20260316T184434Z
LAST-MODIFIED:20260316T184515Z
UID:10017009-1776006000-1776011400@meditario.org.br
SUMMARY:Joia-Coração com Lamrim
DESCRIPTION:
URL:https://meditario.org.br/evento/joia-coracao-com-lamrim-3-2-2-2/2026-04-12/
LOCATION:CMK Rio de Janeiro\, Rua Conde de Irajá\, 604 – Botafogo\, Rio de Janeiro\, Rio de Janeiro\, 22271-020\, Brasil
CATEGORIES:Preces
ATTACH;FMTTYPE=image/jpeg:https://meditario.org.br/wp-content/uploads/2024/11/JSD-e-JC.jpg
END:VEVENT
BEGIN:VEVENT
DTSTART;TZID=America/Sao_Paulo:20260412T170000
DTEND;TZID=America/Sao_Paulo:20260412T183000
DTSTAMP:20260423T202324
CREATED:20260303T180555Z
LAST-MODIFIED:20260309T174010Z
UID:10017217-1776013200-1776018600@meditario.org.br
SUMMARY:Aula com Meditação
DESCRIPTION:
URL:https://meditario.org.br/evento/aula-com-meditacao-89/
LOCATION:CMK Rio de Janeiro\, Rua Conde de Irajá\, 604 – Botafogo\, Rio de Janeiro\, Rio de Janeiro\, 22271-020\, Brasil
CATEGORIES:Aulas com Meditação,Pg de Domingo Março 2026
ATTACH;FMTTYPE=image/jpeg:https://meditario.org.br/wp-content/uploads/2026/03/Site-2026.jpg
END:VEVENT
END:VCALENDAR