BEGIN:VCALENDAR
VERSION:2.0
PRODID:-//Centro de Meditação Kadampa Rio de Janeiro - ECPv6.15.20//NONSGML v1.0//EN
CALSCALE:GREGORIAN
METHOD:PUBLISH
X-WR-CALNAME:Centro de Meditação Kadampa Rio de Janeiro
X-ORIGINAL-URL:https://meditario.org.br
X-WR-CALDESC:Eventos para Centro de Meditação Kadampa Rio de Janeiro
REFRESH-INTERVAL;VALUE=DURATION:PT1H
X-Robots-Tag:noindex
X-PUBLISHED-TTL:PT1H
BEGIN:VTIMEZONE
TZID:America/Sao_Paulo
BEGIN:STANDARD
TZOFFSETFROM:-0300
TZOFFSETTO:-0300
TZNAME:-03
DTSTART:20250101T000000
END:STANDARD
END:VTIMEZONE
BEGIN:VEVENT
DTSTART;TZID=America/Sao_Paulo:20260323T193000
DTEND;TZID=America/Sao_Paulo:20260423T213000
DTSTAMP:20260423T181332
CREATED:20260224T135353Z
LAST-MODIFIED:20260422T183602Z
UID:10017215-1774294200-1776979800@meditario.org.br
SUMMARY:Aulas Abertas: Programa de Formação de Professores
DESCRIPTION:
URL:https://meditario.org.br/evento/aulas-abertas-programa-de-formacao-de-professores/
LOCATION:CMK Rio de Janeiro\, Rua Conde de Irajá\, 604 – Botafogo\, Rio de Janeiro\, Rio de Janeiro\, 22271-020\, Brasil
ATTACH;FMTTYPE=image/jpeg:https://meditario.org.br/wp-content/uploads/2026/02/Site-2026-6.jpg
END:VEVENT
BEGIN:VEVENT
DTSTART;TZID=America/Sao_Paulo:20260423T100000
DTEND;TZID=America/Sao_Paulo:20260423T180000
DTSTAMP:20260423T181332
CREATED:20260216T234059Z
LAST-MODIFIED:20260413T170847Z
UID:10017099-1776938400-1776967200@meditario.org.br
SUMMARY:Retiro Urbano           no feriado
DESCRIPTION:
URL:https://meditario.org.br/evento/retiro-urbano-3/
LOCATION:CMK Rio de Janeiro\, Rua Conde de Irajá\, 604 – Botafogo\, Rio de Janeiro\, Rio de Janeiro\, 22271-020\, Brasil
CATEGORIES:Atividades em Destaque,Atividades Especiais,Retiros
ATTACH;FMTTYPE=image/png:https://meditario.org.br/wp-content/uploads/2026/02/Captura-de-Tela-2026-02-16-as-20.37.38.png
END:VEVENT
BEGIN:VEVENT
DTSTART;TZID=America/Sao_Paulo:20260423T193000
DTEND;TZID=America/Sao_Paulo:20260423T203000
DTSTAMP:20260423T181332
CREATED:20260316T193106Z
LAST-MODIFIED:20260316T193350Z
UID:10017326-1776972600-1776976200@meditario.org.br
SUMMARY:Joia-Coração
DESCRIPTION:
URL:https://meditario.org.br/evento/joia-coracao-9-2-2/2026-04-23/
LOCATION:CMK Rio de Janeiro\, Rua Conde de Irajá\, 604 – Botafogo\, Rio de Janeiro\, Rio de Janeiro\, 22271-020\, Brasil
CATEGORIES:Preces
ATTACH;FMTTYPE=image/jpeg:https://meditario.org.br/wp-content/uploads/2024/11/JSD-e-JC.jpg
END:VEVENT
END:VCALENDAR