BEGIN:VCALENDAR
VERSION:2.0
PRODID:-//Centro de Meditação Kadampa Rio de Janeiro - ECPv6.15.20//NONSGML v1.0//EN
CALSCALE:GREGORIAN
METHOD:PUBLISH
X-ORIGINAL-URL:https://meditario.org.br
X-WR-CALDESC:Eventos para Centro de Meditação Kadampa Rio de Janeiro
REFRESH-INTERVAL;VALUE=DURATION:PT1H
X-Robots-Tag:noindex
X-PUBLISHED-TTL:PT1H
BEGIN:VTIMEZONE
TZID:America/Sao_Paulo
BEGIN:STANDARD
TZOFFSETFROM:-0300
TZOFFSETTO:-0300
TZNAME:-03
DTSTART:20250101T000000
END:STANDARD
END:VTIMEZONE
BEGIN:VEVENT
DTSTART;TZID=America/Sao_Paulo:20260425T090000
DTEND;TZID=America/Sao_Paulo:20260425T130000
DTSTAMP:20260423T202325
CREATED:20260216T234458Z
LAST-MODIFIED:20260216T234458Z
UID:10017100-1777107600-1777122000@meditario.org.br
SUMMARY:Auto-iniciação de Vajrayogini
DESCRIPTION:  \n 
URL:https://meditario.org.br/evento/auto-iniciacao-de-vajrayogini/
LOCATION:CMK Rio de Janeiro\, Rua Conde de Irajá\, 604 – Botafogo\, Rio de Janeiro\, Rio de Janeiro\, 22271-020\, Brasil
CATEGORIES:Atividades Especiais
ATTACH;FMTTYPE=image/png:https://meditario.org.br/wp-content/uploads/2026/02/Captura-de-Tela-2026-02-16-as-20.41.20.png
END:VEVENT
BEGIN:VEVENT
DTSTART;TZID=America/Sao_Paulo:20260425T170000
DTEND;TZID=America/Sao_Paulo:20260425T180000
DTSTAMP:20260423T202325
CREATED:20260316T193106Z
LAST-MODIFIED:20260316T193350Z
UID:10017327-1777136400-1777140000@meditario.org.br
SUMMARY:Joia-Coração
DESCRIPTION:
URL:https://meditario.org.br/evento/joia-coracao-9-2-2/2026-04-25/
LOCATION:CMK Rio de Janeiro\, Rua Conde de Irajá\, 604 – Botafogo\, Rio de Janeiro\, Rio de Janeiro\, 22271-020\, Brasil
CATEGORIES:Preces
ATTACH;FMTTYPE=image/jpeg:https://meditario.org.br/wp-content/uploads/2024/11/JSD-e-JC.jpg
END:VEVENT
BEGIN:VEVENT
DTSTART;TZID=America/Sao_Paulo:20260425T193000
DTEND;TZID=America/Sao_Paulo:20260425T210000
DTSTAMP:20260423T202325
CREATED:20250407T225540Z
LAST-MODIFIED:20260316T182937Z
UID:10017246-1777145400-1777150800@meditario.org.br
SUMMARY:Oferenda ao Guia Espiritual
DESCRIPTION:
URL:https://meditario.org.br/evento/oferenda-ao-guia-espiritual-6/2026-04-25/
LOCATION:CMK Rio de Janeiro\, Rua Conde de Irajá\, 604 – Botafogo\, Rio de Janeiro\, Rio de Janeiro\, 22271-020\, Brasil
CATEGORIES:Preces
ATTACH;FMTTYPE=image/jpeg:https://meditario.org.br/wp-content/uploads/2024/11/Oferenda-ao-Guia-Espiritual.jpg
END:VEVENT
END:VCALENDAR