BEGIN:VCALENDAR
VERSION:2.0
PRODID:-//Centro de Meditação Kadampa Rio de Janeiro - ECPv6.15.20//NONSGML v1.0//EN
CALSCALE:GREGORIAN
METHOD:PUBLISH
X-ORIGINAL-URL:https://meditario.org.br
X-WR-CALDESC:Eventos para Centro de Meditação Kadampa Rio de Janeiro
REFRESH-INTERVAL;VALUE=DURATION:PT1H
X-Robots-Tag:noindex
X-PUBLISHED-TTL:PT1H
BEGIN:VTIMEZONE
TZID:America/Sao_Paulo
BEGIN:STANDARD
TZOFFSETFROM:-0300
TZOFFSETTO:-0300
TZNAME:-03
DTSTART:20250101T000000
END:STANDARD
END:VTIMEZONE
BEGIN:VEVENT
DTSTART;TZID=America/Sao_Paulo:20260530T100000
DTEND;TZID=America/Sao_Paulo:20260531T180000
DTSTAMP:20260423T222450
CREATED:20260402T131409Z
LAST-MODIFIED:20260407T191108Z
UID:10017336-1780135200-1780250400@meditario.org.br
SUMMARY:Retiro Urbano
DESCRIPTION:
URL:https://meditario.org.br/evento/retiro-urbano-4/
LOCATION:CMK Rio de Janeiro\, Rua Conde de Irajá\, 604 – Botafogo\, Rio de Janeiro\, Rio de Janeiro\, 22271-020\, Brasil
CATEGORIES:Atividades Especiais,Retiros
ATTACH;FMTTYPE=image/png:https://meditario.org.br/wp-content/uploads/2026/04/Captura-de-Tela-2026-04-02-as-10.12.54.png
END:VEVENT
BEGIN:VEVENT
DTSTART;TZID=America/Sao_Paulo:20260531T150000
DTEND;TZID=America/Sao_Paulo:20260531T163000
DTSTAMP:20260423T222450
CREATED:20260415T173748Z
LAST-MODIFIED:20260415T173748Z
UID:10017369-1780239600-1780245000@meditario.org.br
SUMMARY:Joia-Coração com Lamrim
DESCRIPTION:
URL:https://meditario.org.br/evento/joia-coracao-com-lamrim-4/2026-05-31/
LOCATION:CMK Rio de Janeiro\, Rua Conde de Irajá\, 604 – Botafogo\, Rio de Janeiro\, Rio de Janeiro\, 22271-020\, Brasil
CATEGORIES:Preces
ATTACH;FMTTYPE=image/jpeg:https://meditario.org.br/wp-content/uploads/2024/11/JSD-e-JC.jpg
END:VEVENT
BEGIN:VEVENT
DTSTART;TZID=America/Sao_Paulo:20260531T170000
DTEND;TZID=America/Sao_Paulo:20260531T183000
DTSTAMP:20260423T222450
CREATED:20260315T115720Z
LAST-MODIFIED:20260315T115720Z
UID:10017239-1780246800-1780252200@meditario.org.br
SUMMARY:Aulas com Meditação
DESCRIPTION:
URL:https://meditario.org.br/evento/aulas-com-meditacao-22/
LOCATION:CMK Rio de Janeiro\, Rua Conde de Irajá\, 604 – Botafogo\, Rio de Janeiro\, Rio de Janeiro\, 22271-020\, Brasil
CATEGORIES:Aulas com Meditação,Pg de Domingo Março 2026
ATTACH;FMTTYPE=image/png:https://meditario.org.br/wp-content/uploads/2026/03/Captura-de-Tela-2026-03-15-as-19.24.49.png
END:VEVENT
END:VCALENDAR