BEGIN:VCALENDAR
VERSION:2.0
PRODID:-//Centro de Meditação Kadampa Rio de Janeiro - ECPv6.15.20//NONSGML v1.0//EN
CALSCALE:GREGORIAN
METHOD:PUBLISH
X-WR-CALNAME:Centro de Meditação Kadampa Rio de Janeiro
X-ORIGINAL-URL:https://meditario.org.br
X-WR-CALDESC:Eventos para Centro de Meditação Kadampa Rio de Janeiro
REFRESH-INTERVAL;VALUE=DURATION:PT1H
X-Robots-Tag:noindex
X-PUBLISHED-TTL:PT1H
BEGIN:VTIMEZONE
TZID:America/Sao_Paulo
BEGIN:STANDARD
TZOFFSETFROM:-0300
TZOFFSETTO:-0300
TZNAME:-03
DTSTART:20240101T000000
END:STANDARD
END:VTIMEZONE
BEGIN:VEVENT
DTSTART;TZID=America/Sao_Paulo:20250401T193000
DTEND;TZID=America/Sao_Paulo:20250401T213000
DTSTAMP:20260424T200938
CREATED:20250214T211151Z
LAST-MODIFIED:20250214T211151Z
UID:10011061-1743535800-1743543000@meditario.org.br
SUMMARY:PF - Novo Oito Passos para a Felicidade
DESCRIPTION:
URL:https://meditario.org.br/evento/pf-novo-oito-passos-para-a-felicidade-2/2025-04-01/
LOCATION:CMK Rio de Janeiro\, Rua Conde de Irajá\, 604 – Botafogo\, Rio de Janeiro\, Rio de Janeiro\, 22271-020\, Brasil
CATEGORIES:Estudo Aprofundado
ATTACH;FMTTYPE=image/jpeg:https://meditario.org.br/wp-content/uploads/2024/11/pf-noppf.jpg
END:VEVENT
BEGIN:VEVENT
DTSTART;TZID=America/Sao_Paulo:20250403T193000
DTEND;TZID=America/Sao_Paulo:20250403T213000
DTSTAMP:20260424T200938
CREATED:20250320T201317Z
LAST-MODIFIED:20250324T233434Z
UID:10013714-1743708600-1743715800@meditario.org.br
SUMMARY:Programa de Formação de Professores
DESCRIPTION:
URL:https://meditario.org.br/evento/programa-de-formacao-de-professores-2/2025-04-03/
LOCATION:CMK Rio de Janeiro\, Rua Conde de Irajá\, 604 – Botafogo\, Rio de Janeiro\, Rio de Janeiro\, 22271-020\, Brasil
CATEGORIES:Estudo Aprofundado
ATTACH;FMTTYPE=image/jpeg:https://meditario.org.br/wp-content/uploads/2024/11/pfp.jpg
END:VEVENT
BEGIN:VEVENT
DTSTART;TZID=America/Sao_Paulo:20250407T193000
DTEND;TZID=America/Sao_Paulo:20250407T213000
DTSTAMP:20260424T200938
CREATED:20250320T201317Z
LAST-MODIFIED:20250324T233434Z
UID:10013715-1744054200-1744061400@meditario.org.br
SUMMARY:Programa de Formação de Professores
DESCRIPTION:
URL:https://meditario.org.br/evento/programa-de-formacao-de-professores-2/2025-04-07/
LOCATION:CMK Rio de Janeiro\, Rua Conde de Irajá\, 604 – Botafogo\, Rio de Janeiro\, Rio de Janeiro\, 22271-020\, Brasil
CATEGORIES:Estudo Aprofundado
ATTACH;FMTTYPE=image/jpeg:https://meditario.org.br/wp-content/uploads/2024/11/pfp.jpg
END:VEVENT
BEGIN:VEVENT
DTSTART;TZID=America/Sao_Paulo:20250408T193000
DTEND;TZID=America/Sao_Paulo:20250408T213000
DTSTAMP:20260424T200938
CREATED:20250320T200140Z
LAST-MODIFIED:20250327T204821Z
UID:10013713-1744140600-1744147800@meditario.org.br
SUMMARY:PF (Novo Oito Passos para a Felicidade) com Prece para Tara
DESCRIPTION:
URL:https://meditario.org.br/evento/pf-novo-oito-passos-para-a-felicidade-3/
LOCATION:CMK Rio de Janeiro\, Rua Conde de Irajá\, 604 – Botafogo\, Rio de Janeiro\, Rio de Janeiro\, 22271-020\, Brasil
CATEGORIES:Estudo Aprofundado
ATTACH;FMTTYPE=image/jpeg:https://meditario.org.br/wp-content/uploads/2024/11/pf-noppf.jpg
END:VEVENT
BEGIN:VEVENT
DTSTART;TZID=America/Sao_Paulo:20250414T193000
DTEND;TZID=America/Sao_Paulo:20250414T213000
DTSTAMP:20260424T200938
CREATED:20250320T201317Z
LAST-MODIFIED:20250324T233434Z
UID:10013717-1744659000-1744666200@meditario.org.br
SUMMARY:Programa de Formação de Professores
DESCRIPTION:
URL:https://meditario.org.br/evento/programa-de-formacao-de-professores-2/2025-04-14/
LOCATION:CMK Rio de Janeiro\, Rua Conde de Irajá\, 604 – Botafogo\, Rio de Janeiro\, Rio de Janeiro\, 22271-020\, Brasil
CATEGORIES:Estudo Aprofundado
ATTACH;FMTTYPE=image/jpeg:https://meditario.org.br/wp-content/uploads/2024/11/pfp.jpg
END:VEVENT
BEGIN:VEVENT
DTSTART;TZID=America/Sao_Paulo:20250417T193000
DTEND;TZID=America/Sao_Paulo:20250417T213000
DTSTAMP:20260424T200938
CREATED:20250320T201317Z
LAST-MODIFIED:20250324T233434Z
UID:10013718-1744918200-1744925400@meditario.org.br
SUMMARY:Programa de Formação de Professores
DESCRIPTION:
URL:https://meditario.org.br/evento/programa-de-formacao-de-professores-2/2025-04-17/
LOCATION:CMK Rio de Janeiro\, Rua Conde de Irajá\, 604 – Botafogo\, Rio de Janeiro\, Rio de Janeiro\, 22271-020\, Brasil
CATEGORIES:Estudo Aprofundado
ATTACH;FMTTYPE=image/jpeg:https://meditario.org.br/wp-content/uploads/2024/11/pfp.jpg
END:VEVENT
BEGIN:VEVENT
DTSTART;TZID=America/Sao_Paulo:20250424T193000
DTEND;TZID=America/Sao_Paulo:20250424T213000
DTSTAMP:20260424T200938
CREATED:20250320T201317Z
LAST-MODIFIED:20250324T233434Z
UID:10013720-1745523000-1745530200@meditario.org.br
SUMMARY:Programa de Formação de Professores
DESCRIPTION:
URL:https://meditario.org.br/evento/programa-de-formacao-de-professores-2/2025-04-24/
LOCATION:CMK Rio de Janeiro\, Rua Conde de Irajá\, 604 – Botafogo\, Rio de Janeiro\, Rio de Janeiro\, 22271-020\, Brasil
CATEGORIES:Estudo Aprofundado
ATTACH;FMTTYPE=image/jpeg:https://meditario.org.br/wp-content/uploads/2024/11/pfp.jpg
END:VEVENT
BEGIN:VEVENT
DTSTART;TZID=America/Sao_Paulo:20250426T100000
DTEND;TZID=America/Sao_Paulo:20250426T120000
DTSTAMP:20260424T200939
CREATED:20250327T220620Z
LAST-MODIFIED:20250327T220620Z
UID:10013852-1745661600-1745668800@meditario.org.br
SUMMARY:PF - Caminho Alegre da Boa Fortuna
DESCRIPTION:
URL:https://meditario.org.br/evento/pf-caminho-alegre-da-boa-fortuna-3/
LOCATION:CMK Rio de Janeiro\, Rua Conde de Irajá\, 604 – Botafogo\, Rio de Janeiro\, Rio de Janeiro\, 22271-020\, Brasil
CATEGORIES:Estudo Aprofundado
ATTACH;FMTTYPE=image/jpeg:https://meditario.org.br/wp-content/uploads/2024/11/pf-cabf.jpg
END:VEVENT
BEGIN:VEVENT
DTSTART;TZID=America/Sao_Paulo:20250428T193000
DTEND;TZID=America/Sao_Paulo:20250428T213000
DTSTAMP:20260424T200939
CREATED:20250320T201317Z
LAST-MODIFIED:20250324T233434Z
UID:10013721-1745868600-1745875800@meditario.org.br
SUMMARY:Programa de Formação de Professores
DESCRIPTION:
URL:https://meditario.org.br/evento/programa-de-formacao-de-professores-2/2025-04-28/
LOCATION:CMK Rio de Janeiro\, Rua Conde de Irajá\, 604 – Botafogo\, Rio de Janeiro\, Rio de Janeiro\, 22271-020\, Brasil
CATEGORIES:Estudo Aprofundado
ATTACH;FMTTYPE=image/jpeg:https://meditario.org.br/wp-content/uploads/2024/11/pfp.jpg
END:VEVENT
END:VCALENDAR