BEGIN:VCALENDAR
VERSION:2.0
PRODID:-//Centro de Meditação Kadampa Rio de Janeiro - ECPv6.15.20//NONSGML v1.0//EN
CALSCALE:GREGORIAN
METHOD:PUBLISH
X-ORIGINAL-URL:https://meditario.org.br
X-WR-CALDESC:Eventos para Centro de Meditação Kadampa Rio de Janeiro
REFRESH-INTERVAL;VALUE=DURATION:PT1H
X-Robots-Tag:noindex
X-PUBLISHED-TTL:PT1H
BEGIN:VTIMEZONE
TZID:America/Sao_Paulo
BEGIN:STANDARD
TZOFFSETFROM:-0300
TZOFFSETTO:-0300
TZNAME:-03
DTSTART:20240101T000000
END:STANDARD
END:VTIMEZONE
BEGIN:VEVENT
DTSTART;TZID=America/Sao_Paulo:20250811T193000
DTEND;TZID=America/Sao_Paulo:20250811T213000
DTSTAMP:20260424T203550
CREATED:20250625T152302Z
LAST-MODIFIED:20250625T152302Z
UID:10015793-1754940600-1754947800@meditario.org.br
SUMMARY:A prática das preliminares
DESCRIPTION:
URL:https://meditario.org.br/evento/a-pratica-das-preliminares-2/2025-08-11/
LOCATION:CMK Rio de Janeiro\, Rua Conde de Irajá\, 604 – Botafogo\, Rio de Janeiro\, Rio de Janeiro\, 22271-020\, Brasil
CATEGORIES:Grandes Guias Preliminares
ATTACH;FMTTYPE=image/jpeg:https://meditario.org.br/wp-content/uploads/2025/05/preliminares.jpg
END:VEVENT
BEGIN:VEVENT
DTSTART;TZID=America/Sao_Paulo:20250814T193000
DTEND;TZID=America/Sao_Paulo:20250814T213000
DTSTAMP:20260424T203550
CREATED:20250625T152302Z
LAST-MODIFIED:20250625T152302Z
UID:10015794-1755199800-1755207000@meditario.org.br
SUMMARY:A prática das preliminares
DESCRIPTION:
URL:https://meditario.org.br/evento/a-pratica-das-preliminares-2/2025-08-14/
LOCATION:CMK Rio de Janeiro\, Rua Conde de Irajá\, 604 – Botafogo\, Rio de Janeiro\, Rio de Janeiro\, 22271-020\, Brasil
CATEGORIES:Grandes Guias Preliminares
ATTACH;FMTTYPE=image/jpeg:https://meditario.org.br/wp-content/uploads/2025/05/preliminares.jpg
END:VEVENT
BEGIN:VEVENT
DTSTART;TZID=America/Sao_Paulo:20250818T193000
DTEND;TZID=America/Sao_Paulo:20250818T213000
DTSTAMP:20260424T203550
CREATED:20250625T152302Z
LAST-MODIFIED:20250625T152302Z
UID:10015795-1755545400-1755552600@meditario.org.br
SUMMARY:A prática das preliminares
DESCRIPTION:
URL:https://meditario.org.br/evento/a-pratica-das-preliminares-2/2025-08-18/
LOCATION:CMK Rio de Janeiro\, Rua Conde de Irajá\, 604 – Botafogo\, Rio de Janeiro\, Rio de Janeiro\, 22271-020\, Brasil
CATEGORIES:Grandes Guias Preliminares
ATTACH;FMTTYPE=image/jpeg:https://meditario.org.br/wp-content/uploads/2025/05/preliminares.jpg
END:VEVENT
BEGIN:VEVENT
DTSTART;TZID=America/Sao_Paulo:20250821T193000
DTEND;TZID=America/Sao_Paulo:20250821T213000
DTSTAMP:20260424T203550
CREATED:20250625T152302Z
LAST-MODIFIED:20250625T152302Z
UID:10015796-1755804600-1755811800@meditario.org.br
SUMMARY:A prática das preliminares
DESCRIPTION:
URL:https://meditario.org.br/evento/a-pratica-das-preliminares-2/2025-08-21/
LOCATION:CMK Rio de Janeiro\, Rua Conde de Irajá\, 604 – Botafogo\, Rio de Janeiro\, Rio de Janeiro\, 22271-020\, Brasil
CATEGORIES:Grandes Guias Preliminares
ATTACH;FMTTYPE=image/jpeg:https://meditario.org.br/wp-content/uploads/2025/05/preliminares.jpg
END:VEVENT
BEGIN:VEVENT
DTSTART;TZID=America/Sao_Paulo:20250828T193000
DTEND;TZID=America/Sao_Paulo:20250828T213000
DTSTAMP:20260424T203550
CREATED:20250625T152302Z
LAST-MODIFIED:20250625T152302Z
UID:10015797-1756409400-1756416600@meditario.org.br
SUMMARY:A prática das preliminares
DESCRIPTION:
URL:https://meditario.org.br/evento/a-pratica-das-preliminares-2/2025-08-28/
LOCATION:CMK Rio de Janeiro\, Rua Conde de Irajá\, 604 – Botafogo\, Rio de Janeiro\, Rio de Janeiro\, 22271-020\, Brasil
CATEGORIES:Grandes Guias Preliminares
ATTACH;FMTTYPE=image/jpeg:https://meditario.org.br/wp-content/uploads/2025/05/preliminares.jpg
END:VEVENT
END:VCALENDAR