BEGIN:VCALENDAR
VERSION:2.0
PRODID:-//Centro de Meditação Kadampa Rio de Janeiro - ECPv6.15.20//NONSGML v1.0//EN
CALSCALE:GREGORIAN
METHOD:PUBLISH
X-ORIGINAL-URL:https://meditario.org.br
X-WR-CALDESC:Eventos para Centro de Meditação Kadampa Rio de Janeiro
REFRESH-INTERVAL;VALUE=DURATION:PT1H
X-Robots-Tag:noindex
X-PUBLISHED-TTL:PT1H
BEGIN:VTIMEZONE
TZID:America/Sao_Paulo
BEGIN:STANDARD
TZOFFSETFROM:-0300
TZOFFSETTO:-0300
TZNAME:-03
DTSTART:20240101T000000
END:STANDARD
END:VTIMEZONE
BEGIN:VEVENT
DTSTART;TZID=America/Sao_Paulo:20250105T100000
DTEND;TZID=America/Sao_Paulo:20250105T110000
DTSTAMP:20260424T234145
CREATED:20241128T170241Z
LAST-MODIFIED:20250320T171924Z
UID:10009583-1736071200-1736074800@meditario.org.br
SUMMARY:Preces pela Paz Mundial
DESCRIPTION:
URL:https://meditario.org.br/evento/preces-pela-paz-mundial/2025-01-05/
LOCATION:CMK Rio de Janeiro\, Rua Conde de Irajá\, 604 – Botafogo\, Rio de Janeiro\, Rio de Janeiro\, 22271-020\, Brasil
CATEGORIES:Preces
ATTACH;FMTTYPE=image/jpeg:https://meditario.org.br/wp-content/uploads/2024/11/confiar-no-guia-espiritual.jpg
END:VEVENT
BEGIN:VEVENT
DTSTART;TZID=America/Sao_Paulo:20250112T100000
DTEND;TZID=America/Sao_Paulo:20250112T110000
DTSTAMP:20260424T234145
CREATED:20241128T170241Z
LAST-MODIFIED:20250320T171924Z
UID:10000567-1736676000-1736679600@meditario.org.br
SUMMARY:Preces pela Paz Mundial
DESCRIPTION:
URL:https://meditario.org.br/evento/preces-pela-paz-mundial/2025-01-12/
LOCATION:CMK Rio de Janeiro\, Rua Conde de Irajá\, 604 – Botafogo\, Rio de Janeiro\, Rio de Janeiro\, 22271-020\, Brasil
CATEGORIES:Preces
ATTACH;FMTTYPE=image/jpeg:https://meditario.org.br/wp-content/uploads/2024/11/confiar-no-guia-espiritual.jpg
END:VEVENT
BEGIN:VEVENT
DTSTART;TZID=America/Sao_Paulo:20250115T063000
DTEND;TZID=America/Sao_Paulo:20250115T070000
DTSTAMP:20260424T234145
CREATED:20241212T171428Z
LAST-MODIFIED:20251027T212834Z
UID:10005799-1736922600-1736924400@meditario.org.br
SUMMARY:Vida Pura
DESCRIPTION:
URL:https://meditario.org.br/evento/vida-pura/2025-01-15/
LOCATION:CMK Rio de Janeiro\, Rua Conde de Irajá\, 604 – Botafogo\, Rio de Janeiro\, Rio de Janeiro\, 22271-020\, Brasil
CATEGORIES:Preces
ATTACH;FMTTYPE=image/jpeg:https://meditario.org.br/wp-content/uploads/2024/11/Vida-Pura.jpg
END:VEVENT
BEGIN:VEVENT
DTSTART;TZID=America/Sao_Paulo:20250119T100000
DTEND;TZID=America/Sao_Paulo:20250119T110000
DTSTAMP:20260424T234145
CREATED:20241128T170241Z
LAST-MODIFIED:20250320T171924Z
UID:10000568-1737280800-1737284400@meditario.org.br
SUMMARY:Preces pela Paz Mundial
DESCRIPTION:
URL:https://meditario.org.br/evento/preces-pela-paz-mundial/2025-01-19/
LOCATION:CMK Rio de Janeiro\, Rua Conde de Irajá\, 604 – Botafogo\, Rio de Janeiro\, Rio de Janeiro\, 22271-020\, Brasil
CATEGORIES:Preces
ATTACH;FMTTYPE=image/jpeg:https://meditario.org.br/wp-content/uploads/2024/11/confiar-no-guia-espiritual.jpg
END:VEVENT
BEGIN:VEVENT
DTSTART;TZID=America/Sao_Paulo:20250126T100000
DTEND;TZID=America/Sao_Paulo:20250126T110000
DTSTAMP:20260424T234145
CREATED:20241128T170241Z
LAST-MODIFIED:20250320T171924Z
UID:10000569-1737885600-1737889200@meditario.org.br
SUMMARY:Preces pela Paz Mundial
DESCRIPTION:
URL:https://meditario.org.br/evento/preces-pela-paz-mundial/2025-01-26/
LOCATION:CMK Rio de Janeiro\, Rua Conde de Irajá\, 604 – Botafogo\, Rio de Janeiro\, Rio de Janeiro\, 22271-020\, Brasil
CATEGORIES:Preces
ATTACH;FMTTYPE=image/jpeg:https://meditario.org.br/wp-content/uploads/2024/11/confiar-no-guia-espiritual.jpg
END:VEVENT
BEGIN:VEVENT
DTSTART;TZID=America/Sao_Paulo:20250127T170000
DTEND;TZID=America/Sao_Paulo:20250127T181500
DTSTAMP:20260424T234145
CREATED:20250127T194514Z
LAST-MODIFIED:20250127T194514Z
UID:10000612-1737997200-1738001700@meditario.org.br
SUMMARY:Joia-que-Satisfaz-os-Desejos ou Joia-Coração
DESCRIPTION:
URL:https://meditario.org.br/evento/joia-que-satisfaz-os-desejos-ou-joia-coracao-7-5/2025-01-27/
LOCATION:CMK Rio de Janeiro\, Rua Conde de Irajá\, 604 – Botafogo\, Rio de Janeiro\, Rio de Janeiro\, 22271-020\, Brasil
CATEGORIES:Preces
ATTACH;FMTTYPE=image/jpeg:https://meditario.org.br/wp-content/uploads/2024/11/JSD-e-JC.jpg
END:VEVENT
BEGIN:VEVENT
DTSTART;TZID=America/Sao_Paulo:20250128T170000
DTEND;TZID=America/Sao_Paulo:20250128T181500
DTSTAMP:20260424T234145
CREATED:20250127T194514Z
LAST-MODIFIED:20250127T194514Z
UID:10000613-1738083600-1738088100@meditario.org.br
SUMMARY:Joia-que-Satisfaz-os-Desejos ou Joia-Coração
DESCRIPTION:
URL:https://meditario.org.br/evento/joia-que-satisfaz-os-desejos-ou-joia-coracao-7-5/2025-01-28/
LOCATION:CMK Rio de Janeiro\, Rua Conde de Irajá\, 604 – Botafogo\, Rio de Janeiro\, Rio de Janeiro\, 22271-020\, Brasil
CATEGORIES:Preces
ATTACH;FMTTYPE=image/jpeg:https://meditario.org.br/wp-content/uploads/2024/11/JSD-e-JC.jpg
END:VEVENT
BEGIN:VEVENT
DTSTART;TZID=America/Sao_Paulo:20250130T170000
DTEND;TZID=America/Sao_Paulo:20250130T181500
DTSTAMP:20260424T234145
CREATED:20250127T194514Z
LAST-MODIFIED:20250127T194514Z
UID:10000615-1738256400-1738260900@meditario.org.br
SUMMARY:Joia-que-Satisfaz-os-Desejos ou Joia-Coração
DESCRIPTION:
URL:https://meditario.org.br/evento/joia-que-satisfaz-os-desejos-ou-joia-coracao-7-5/2025-01-30/
LOCATION:CMK Rio de Janeiro\, Rua Conde de Irajá\, 604 – Botafogo\, Rio de Janeiro\, Rio de Janeiro\, 22271-020\, Brasil
CATEGORIES:Preces
ATTACH;FMTTYPE=image/jpeg:https://meditario.org.br/wp-content/uploads/2024/11/JSD-e-JC.jpg
END:VEVENT
END:VCALENDAR