BEGIN:VCALENDAR
VERSION:2.0
PRODID:-//Centro de Meditação Kadampa Rio de Janeiro - ECPv6.15.20//NONSGML v1.0//EN
CALSCALE:GREGORIAN
METHOD:PUBLISH
X-WR-CALNAME:Centro de Meditação Kadampa Rio de Janeiro
X-ORIGINAL-URL:https://meditario.org.br
X-WR-CALDESC:Eventos para Centro de Meditação Kadampa Rio de Janeiro
REFRESH-INTERVAL;VALUE=DURATION:PT1H
X-Robots-Tag:noindex
X-PUBLISHED-TTL:PT1H
BEGIN:VTIMEZONE
TZID:America/Sao_Paulo
BEGIN:STANDARD
TZOFFSETFROM:-0300
TZOFFSETTO:-0300
TZNAME:-03
DTSTART:20230101T000000
END:STANDARD
END:VTIMEZONE
BEGIN:VEVENT
DTSTART;TZID=America/Sao_Paulo:20241130T100000
DTEND;TZID=America/Sao_Paulo:20241130T120000
DTSTAMP:20260425T125251
CREATED:20241128T210748Z
LAST-MODIFIED:20241204T143238Z
UID:10005584-1732960800-1732968000@meditario.org.br
SUMMARY:PF - Caminho Alegre da Boa Fortuna
DESCRIPTION:
URL:https://meditario.org.br/evento/pf-caminho-alegre-da-boa-fortuna/2024-11-30/
LOCATION:CMK Rio de Janeiro\, Rua Conde de Irajá\, 604 – Botafogo\, Rio de Janeiro\, Rio de Janeiro\, 22271-020\, Brasil
CATEGORIES:Estudo Aprofundado
ATTACH;FMTTYPE=image/jpeg:https://meditario.org.br/wp-content/uploads/2024/11/pf-cabf.jpg
END:VEVENT
BEGIN:VEVENT
DTSTART;TZID=America/Sao_Paulo:20241201T100000
DTEND;TZID=America/Sao_Paulo:20241201T110000
DTSTAMP:20260425T125251
CREATED:20241128T170241Z
LAST-MODIFIED:20250320T171924Z
UID:10000561-1733047200-1733050800@meditario.org.br
SUMMARY:Preces pela Paz Mundial
DESCRIPTION:
URL:https://meditario.org.br/evento/preces-pela-paz-mundial/2024-12-01/
LOCATION:CMK Rio de Janeiro\, Rua Conde de Irajá\, 604 – Botafogo\, Rio de Janeiro\, Rio de Janeiro\, 22271-020\, Brasil
CATEGORIES:Preces
ATTACH;FMTTYPE=image/jpeg:https://meditario.org.br/wp-content/uploads/2024/11/confiar-no-guia-espiritual.jpg
END:VEVENT
BEGIN:VEVENT
DTSTART;TZID=America/Sao_Paulo:20241208T100000
DTEND;TZID=America/Sao_Paulo:20241208T110000
DTSTAMP:20260425T125251
CREATED:20241128T170241Z
LAST-MODIFIED:20250320T171924Z
UID:10000562-1733652000-1733655600@meditario.org.br
SUMMARY:Preces pela Paz Mundial
DESCRIPTION:
URL:https://meditario.org.br/evento/preces-pela-paz-mundial/2024-12-08/
LOCATION:CMK Rio de Janeiro\, Rua Conde de Irajá\, 604 – Botafogo\, Rio de Janeiro\, Rio de Janeiro\, 22271-020\, Brasil
CATEGORIES:Preces
ATTACH;FMTTYPE=image/jpeg:https://meditario.org.br/wp-content/uploads/2024/11/confiar-no-guia-espiritual.jpg
END:VEVENT
BEGIN:VEVENT
DTSTART;TZID=America/Sao_Paulo:20241208T150000
DTEND;TZID=America/Sao_Paulo:20241208T183000
DTSTAMP:20260425T125251
CREATED:20241122T210631Z
LAST-MODIFIED:20241205T132423Z
UID:10000017-1733670000-1733682600@meditario.org.br
SUMMARY:Venha Conhecer a Nova Professora
DESCRIPTION:
URL:https://meditario.org.br/evento/venha-conhecer-a-nova-professora/
LOCATION:CMK Rio de Janeiro\, Rua Conde de Irajá\, 604 – Botafogo\, Rio de Janeiro\, Rio de Janeiro\, 22271-020\, Brasil
CATEGORIES:Atividades em Destaque,Atividades Especiais
ATTACH;FMTTYPE=image/jpeg:https://meditario.org.br/wp-content/uploads/2024/11/conhecer-a-professora-site.jpg
END:VEVENT
BEGIN:VEVENT
DTSTART;TZID=America/Sao_Paulo:20241211T193000
DTEND;TZID=America/Sao_Paulo:20241211T210000
DTSTAMP:20260425T125251
CREATED:20241125T210609Z
LAST-MODIFIED:20241204T163736Z
UID:10000019-1733945400-1733950800@meditario.org.br
SUMMARY:Aula Especial com Professor Convidado
DESCRIPTION:
URL:https://meditario.org.br/evento/aula-especial-com-professor-convidado/
LOCATION:CMK Rio de Janeiro\, Rua Conde de Irajá\, 604 – Botafogo\, Rio de Janeiro\, Rio de Janeiro\, 22271-020\, Brasil
CATEGORIES:Atividades Especiais,Aulas com Meditação
ATTACH;FMTTYPE=image/png:https://meditario.org.br/wp-content/uploads/2024/11/gen-drime-site.png
END:VEVENT
BEGIN:VEVENT
DTSTART;TZID=America/Sao_Paulo:20241214T093000
DTEND;TZID=America/Sao_Paulo:20241214T183000
DTSTAMP:20260425T125251
CREATED:20241122T205429Z
LAST-MODIFIED:20241205T132355Z
UID:10000016-1734168600-1734201000@meditario.org.br
SUMMARY:Retiro Urbano
DESCRIPTION:
URL:https://meditario.org.br/evento/retiro-urbano/
LOCATION:CMK Rio de Janeiro\, Rua Conde de Irajá\, 604 – Botafogo\, Rio de Janeiro\, Rio de Janeiro\, 22271-020\, Brasil
CATEGORIES:Retiros
ATTACH;FMTTYPE=image/jpeg:https://meditario.org.br/wp-content/uploads/2024/11/Retiro-urbano.jpg
END:VEVENT
BEGIN:VEVENT
DTSTART;TZID=America/Sao_Paulo:20241215T100000
DTEND;TZID=America/Sao_Paulo:20241215T110000
DTSTAMP:20260425T125251
CREATED:20241119T195506Z
LAST-MODIFIED:20241212T061157Z
UID:10000009-1734256800-1734260400@meditario.org.br
SUMMARY:Meditação Gratuita no Parque
DESCRIPTION:
URL:https://meditario.org.br/evento/meditacao-no-terraco/
LOCATION:Terraço do Parque Gloria Maria\, Rua Murtinho Nobre\, 169\, Rio de Janeiro\, Rio de Janeiro\, 20241050\, Brazil
CATEGORIES:Atividades em Destaque,Atividades Especiais,Meditações Guiadas
ATTACH;FMTTYPE=image/jpeg:https://meditario.org.br/wp-content/uploads/2024/11/meditacao-no-terraco.jpg
END:VEVENT
BEGIN:VEVENT
DTSTART;TZID=America/Sao_Paulo:20241215T100000
DTEND;TZID=America/Sao_Paulo:20241215T110000
DTSTAMP:20260425T125251
CREATED:20241128T170241Z
LAST-MODIFIED:20250320T171924Z
UID:10009580-1734256800-1734260400@meditario.org.br
SUMMARY:Preces pela Paz Mundial
DESCRIPTION:
URL:https://meditario.org.br/evento/preces-pela-paz-mundial/2024-12-15/
LOCATION:CMK Rio de Janeiro\, Rua Conde de Irajá\, 604 – Botafogo\, Rio de Janeiro\, Rio de Janeiro\, 22271-020\, Brasil
CATEGORIES:Preces
ATTACH;FMTTYPE=image/jpeg:https://meditario.org.br/wp-content/uploads/2024/11/confiar-no-guia-espiritual.jpg
END:VEVENT
BEGIN:VEVENT
DTSTART;TZID=America/Sao_Paulo:20241215T150000
DTEND;TZID=America/Sao_Paulo:20241215T170000
DTSTAMP:20260425T125251
CREATED:20241126T144923Z
LAST-MODIFIED:20241126T195042Z
UID:10000020-1734274800-1734282000@meditario.org.br
SUMMARY:Confraternização de Final de Ano
DESCRIPTION:
URL:https://meditario.org.br/evento/confraternizacao-de-final-de-ano/
LOCATION:CMK Rio de Janeiro\, Rua Conde de Irajá\, 604 – Botafogo\, Rio de Janeiro\, Rio de Janeiro\, 22271-020\, Brasil
CATEGORIES:Atividades em Destaque,Atividades Especiais
ATTACH;FMTTYPE=image/jpeg:https://meditario.org.br/wp-content/uploads/2024/11/confra.jpg
END:VEVENT
BEGIN:VEVENT
DTSTART;TZID=America/Sao_Paulo:20241222T100000
DTEND;TZID=America/Sao_Paulo:20241222T110000
DTSTAMP:20260425T125251
CREATED:20241128T170241Z
LAST-MODIFIED:20250320T171924Z
UID:10009581-1734861600-1734865200@meditario.org.br
SUMMARY:Preces pela Paz Mundial
DESCRIPTION:
URL:https://meditario.org.br/evento/preces-pela-paz-mundial/2024-12-22/
LOCATION:CMK Rio de Janeiro\, Rua Conde de Irajá\, 604 – Botafogo\, Rio de Janeiro\, Rio de Janeiro\, 22271-020\, Brasil
CATEGORIES:Preces
ATTACH;FMTTYPE=image/jpeg:https://meditario.org.br/wp-content/uploads/2024/11/confiar-no-guia-espiritual.jpg
END:VEVENT
BEGIN:VEVENT
DTSTART;TZID=America/Sao_Paulo:20241229T100000
DTEND;TZID=America/Sao_Paulo:20241229T110000
DTSTAMP:20260425T125251
CREATED:20241128T170241Z
LAST-MODIFIED:20250320T171924Z
UID:10009582-1735466400-1735470000@meditario.org.br
SUMMARY:Preces pela Paz Mundial
DESCRIPTION:
URL:https://meditario.org.br/evento/preces-pela-paz-mundial/2024-12-29/
LOCATION:CMK Rio de Janeiro\, Rua Conde de Irajá\, 604 – Botafogo\, Rio de Janeiro\, Rio de Janeiro\, 22271-020\, Brasil
CATEGORIES:Preces
ATTACH;FMTTYPE=image/jpeg:https://meditario.org.br/wp-content/uploads/2024/11/confiar-no-guia-espiritual.jpg
END:VEVENT
BEGIN:VEVENT
DTSTART;TZID=America/Sao_Paulo:20241231T220000
DTEND;TZID=America/Sao_Paulo:20250101T010000
DTSTAMP:20260425T125251
CREATED:20241119T193700Z
LAST-MODIFIED:20241215T035448Z
UID:10000008-1735682400-1735693200@meditario.org.br
SUMMARY:Virada de Ano no Rio: O Poder de um Desejo
DESCRIPTION:
URL:https://meditario.org.br/evento/virada-de-ano-no-rio-o-poder-de-um-desejo/
LOCATION:CMK Rio de Janeiro\, Rua Conde de Irajá\, 604 – Botafogo\, Rio de Janeiro\, Rio de Janeiro\, 22271-020\, Brasil
CATEGORIES:Atividades em Destaque,Atividades Especiais
ATTACH;FMTTYPE=image/jpeg:https://meditario.org.br/wp-content/uploads/2024/11/ano-novo-2024.jpg
END:VEVENT
BEGIN:VEVENT
DTSTART;TZID=America/Sao_Paulo:20250104T100000
DTEND;TZID=America/Sao_Paulo:20250104T170000
DTSTAMP:20260425T125251
CREATED:20241121T174125Z
LAST-MODIFIED:20241230T170853Z
UID:10000011-1735984800-1736010000@meditario.org.br
SUMMARY:Aprenda a Meditar e Acalmar a Sua Mente em 1 dia
DESCRIPTION:
URL:https://meditario.org.br/evento/desafio-de-meditacao-em-1-dia/
LOCATION:CMK Rio de Janeiro\, Rua Conde de Irajá\, 604 – Botafogo\, Rio de Janeiro\, Rio de Janeiro\, 22271-020\, Brasil
CATEGORIES:Atividades em Destaque,Atividades Especiais,Desafio de Meditação,Retiros
ATTACH;FMTTYPE=image/jpeg:https://meditario.org.br/wp-content/uploads/2024/11/1-desafio-de-meditacao-1.jpg
END:VEVENT
BEGIN:VEVENT
DTSTART;TZID=America/Sao_Paulo:20250105T100000
DTEND;TZID=America/Sao_Paulo:20250105T110000
DTSTAMP:20260425T125251
CREATED:20241128T170241Z
LAST-MODIFIED:20250320T171924Z
UID:10009583-1736071200-1736074800@meditario.org.br
SUMMARY:Preces pela Paz Mundial
DESCRIPTION:
URL:https://meditario.org.br/evento/preces-pela-paz-mundial/2025-01-05/
LOCATION:CMK Rio de Janeiro\, Rua Conde de Irajá\, 604 – Botafogo\, Rio de Janeiro\, Rio de Janeiro\, 22271-020\, Brasil
CATEGORIES:Preces
ATTACH;FMTTYPE=image/jpeg:https://meditario.org.br/wp-content/uploads/2024/11/confiar-no-guia-espiritual.jpg
END:VEVENT
BEGIN:VEVENT
DTSTART;TZID=America/Sao_Paulo:20250105T100000
DTEND;TZID=America/Sao_Paulo:20250105T130000
DTSTAMP:20260425T125251
CREATED:20241125T131826Z
LAST-MODIFIED:20241230T170840Z
UID:10000018-1736071200-1736082000@meditario.org.br
SUMMARY:Aprender a Viver em Paz: Liberte-se do Apego\, da Inveja e da Raiva
DESCRIPTION:
URL:https://meditario.org.br/evento/workshop-de-meditacao-com-brunch/
LOCATION:CMK Rio de Janeiro\, Rua Conde de Irajá\, 604 – Botafogo\, Rio de Janeiro\, Rio de Janeiro\, 22271-020\, Brasil
CATEGORIES:Atividades em Destaque,Atividades Especiais
ATTACH;FMTTYPE=image/jpeg:https://meditario.org.br/wp-content/uploads/2024/11/workshop-com-brunch.jpg
END:VEVENT
BEGIN:VEVENT
DTSTART;TZID=America/Sao_Paulo:20250111T100000
DTEND;TZID=America/Sao_Paulo:20250111T173000
DTSTAMP:20260425T125251
CREATED:20241121T173204Z
LAST-MODIFIED:20250107T172339Z
UID:10000010-1736589600-1736616600@meditario.org.br
SUMMARY:Como Atingir a Terra Pura em Uma Única Vida
DESCRIPTION:
URL:https://meditario.org.br/evento/o-ioga-incomum-da-inconceptibilidade/
LOCATION:CMK Rio de Janeiro\, Rua Conde de Irajá\, 604 – Botafogo\, Rio de Janeiro\, Rio de Janeiro\, 22271-020\, Brasil
CATEGORIES:Atividades Especiais
ATTACH;FMTTYPE=image/jpeg:https://meditario.org.br/wp-content/uploads/2024/11/ioga-incomum.jpg
END:VEVENT
BEGIN:VEVENT
DTSTART;TZID=America/Sao_Paulo:20250111T100000
DTEND;TZID=America/Sao_Paulo:20250112T170000
DTSTAMP:20260425T125251
CREATED:20241121T174626Z
LAST-MODIFIED:20250107T172137Z
UID:10000012-1736589600-1736701200@meditario.org.br
SUMMARY:Meditações para Equilibrar a Nossa Mente em Dois Dias
DESCRIPTION:
URL:https://meditario.org.br/evento/desafio-de-meditacao-em-2-dias/
LOCATION:CMK Rio de Janeiro\, Rua Conde de Irajá\, 604 – Botafogo\, Rio de Janeiro\, Rio de Janeiro\, 22271-020\, Brasil
CATEGORIES:Atividades Especiais,Desafio de Meditação,Retiros
ATTACH;FMTTYPE=image/jpeg:https://meditario.org.br/wp-content/uploads/2024/11/2-desafio-de-meditacao-2.jpg
END:VEVENT
BEGIN:VEVENT
DTSTART;TZID=America/Sao_Paulo:20250112T100000
DTEND;TZID=America/Sao_Paulo:20250112T110000
DTSTAMP:20260425T125251
CREATED:20241128T170241Z
LAST-MODIFIED:20250320T171924Z
UID:10000567-1736676000-1736679600@meditario.org.br
SUMMARY:Preces pela Paz Mundial
DESCRIPTION:
URL:https://meditario.org.br/evento/preces-pela-paz-mundial/2025-01-12/
LOCATION:CMK Rio de Janeiro\, Rua Conde de Irajá\, 604 – Botafogo\, Rio de Janeiro\, Rio de Janeiro\, 22271-020\, Brasil
CATEGORIES:Preces
ATTACH;FMTTYPE=image/jpeg:https://meditario.org.br/wp-content/uploads/2024/11/confiar-no-guia-espiritual.jpg
END:VEVENT
BEGIN:VEVENT
DTSTART;TZID=America/Sao_Paulo:20250112T170000
DTEND;TZID=America/Sao_Paulo:20250112T183000
DTSTAMP:20260425T125251
CREATED:20241126T153626Z
LAST-MODIFIED:20250107T202419Z
UID:10000021-1736701200-1736706600@meditario.org.br
SUMMARY:A Força da Motivação
DESCRIPTION:
URL:https://meditario.org.br/evento/a-forca-da-motivacao/
LOCATION:CMK Rio de Janeiro\, Rua Conde de Irajá\, 604 – Botafogo\, Rio de Janeiro\, Rio de Janeiro\, 22271-020\, Brasil
CATEGORIES:PGs de Domingo
ATTACH;FMTTYPE=image/jpeg:https://meditario.org.br/wp-content/uploads/2024/11/motivacao-novo.jpg
END:VEVENT
BEGIN:VEVENT
DTSTART;TZID=America/Sao_Paulo:20250113T123000
DTEND;TZID=America/Sao_Paulo:20250113T130000
DTSTAMP:20260425T125251
CREATED:20250104T155350Z
LAST-MODIFIED:20250128T150401Z
UID:10005821-1736771400-1736773200@meditario.org.br
SUMMARY:Tire 30 Minutos para a Paz Interior
DESCRIPTION:
URL:https://meditario.org.br/evento/meditacao-em-30-minutos-2/2025-01-13/
LOCATION:CMK Rio de Janeiro\, Rua Conde de Irajá\, 604 – Botafogo\, Rio de Janeiro\, Rio de Janeiro\, 22271-020\, Brasil
CATEGORIES:Meditações Guiadas
ATTACH;FMTTYPE=image/jpeg:https://meditario.org.br/wp-content/uploads/2024/11/medita-em-30.jpg
END:VEVENT
BEGIN:VEVENT
DTSTART;TZID=America/Sao_Paulo:20250114T104500
DTEND;TZID=America/Sao_Paulo:20250114T120000
DTSTAMP:20260425T125251
CREATED:20250104T231557Z
LAST-MODIFIED:20250107T173847Z
UID:10005818-1736851500-1736856000@meditario.org.br
SUMMARY:Meditação na Preciosidade da Nossa Vida Humana
DESCRIPTION:
URL:https://meditario.org.br/evento/meditacao-na-preciosidade-da-nossa-vida-humana-3/
LOCATION:CMK Rio de Janeiro\, Rua Conde de Irajá\, 604 – Botafogo\, Rio de Janeiro\, Rio de Janeiro\, 22271-020\, Brasil
CATEGORIES:PGs de Terça
ATTACH;FMTTYPE=image/jpeg:https://meditario.org.br/wp-content/uploads/2024/11/vida-humana.jpg
END:VEVENT
BEGIN:VEVENT
DTSTART;TZID=America/Sao_Paulo:20250114T123000
DTEND;TZID=America/Sao_Paulo:20250114T130000
DTSTAMP:20260425T125251
CREATED:20250104T155350Z
LAST-MODIFIED:20250128T150401Z
UID:10005822-1736857800-1736859600@meditario.org.br
SUMMARY:Tire 30 Minutos para a Paz Interior
DESCRIPTION:
URL:https://meditario.org.br/evento/meditacao-em-30-minutos-2/2025-01-14/
LOCATION:CMK Rio de Janeiro\, Rua Conde de Irajá\, 604 – Botafogo\, Rio de Janeiro\, Rio de Janeiro\, 22271-020\, Brasil
CATEGORIES:Meditações Guiadas
ATTACH;FMTTYPE=image/jpeg:https://meditario.org.br/wp-content/uploads/2024/11/medita-em-30.jpg
END:VEVENT
BEGIN:VEVENT
DTSTART;TZID=America/Sao_Paulo:20250114T193000
DTEND;TZID=America/Sao_Paulo:20250114T213000
DTSTAMP:20260425T125251
CREATED:20241128T210345Z
LAST-MODIFIED:20241128T210345Z
UID:10005564-1736883000-1736890200@meditario.org.br
SUMMARY:PF - Novo Oito Passos para a Felicidade
DESCRIPTION:
URL:https://meditario.org.br/evento/pf-novo-oito-passos-para-a-felicidade/2025-01-14/
LOCATION:CMK Rio de Janeiro\, Rua Conde de Irajá\, 604 – Botafogo\, Rio de Janeiro\, Rio de Janeiro\, 22271-020\, Brasil
CATEGORIES:Estudo Aprofundado
ATTACH;FMTTYPE=image/jpeg:https://meditario.org.br/wp-content/uploads/2024/11/pf-noppf.jpg
END:VEVENT
BEGIN:VEVENT
DTSTART;TZID=America/Sao_Paulo:20250115T063000
DTEND;TZID=America/Sao_Paulo:20250115T070000
DTSTAMP:20260425T125251
CREATED:20241212T171428Z
LAST-MODIFIED:20251027T212834Z
UID:10005799-1736922600-1736924400@meditario.org.br
SUMMARY:Vida Pura
DESCRIPTION:
URL:https://meditario.org.br/evento/vida-pura/2025-01-15/
LOCATION:CMK Rio de Janeiro\, Rua Conde de Irajá\, 604 – Botafogo\, Rio de Janeiro\, Rio de Janeiro\, 22271-020\, Brasil
CATEGORIES:Preces
ATTACH;FMTTYPE=image/jpeg:https://meditario.org.br/wp-content/uploads/2024/11/Vida-Pura.jpg
END:VEVENT
BEGIN:VEVENT
DTSTART;TZID=America/Sao_Paulo:20250115T123000
DTEND;TZID=America/Sao_Paulo:20250115T130000
DTSTAMP:20260425T125251
CREATED:20250104T155350Z
LAST-MODIFIED:20250128T150401Z
UID:10005823-1736944200-1736946000@meditario.org.br
SUMMARY:Tire 30 Minutos para a Paz Interior
DESCRIPTION:
URL:https://meditario.org.br/evento/meditacao-em-30-minutos-2/2025-01-15/
LOCATION:CMK Rio de Janeiro\, Rua Conde de Irajá\, 604 – Botafogo\, Rio de Janeiro\, Rio de Janeiro\, 22271-020\, Brasil
CATEGORIES:Meditações Guiadas
ATTACH;FMTTYPE=image/jpeg:https://meditario.org.br/wp-content/uploads/2024/11/medita-em-30.jpg
END:VEVENT
BEGIN:VEVENT
DTSTART;TZID=America/Sao_Paulo:20250115T193000
DTEND;TZID=America/Sao_Paulo:20250115T204500
DTSTAMP:20260425T125251
CREATED:20241126T160806Z
LAST-MODIFIED:20250107T195943Z
UID:10000027-1736969400-1736973900@meditario.org.br
SUMMARY:Meditação na preciosidade da nossa vida humana
DESCRIPTION:
URL:https://meditario.org.br/evento/meditacao-na-preciosidade-da-nossa-vida-humana-2/
LOCATION:CMK Rio de Janeiro\, Rua Conde de Irajá\, 604 – Botafogo\, Rio de Janeiro\, Rio de Janeiro\, 22271-020\, Brasil
CATEGORIES:PGs de Quarta
ATTACH;FMTTYPE=image/jpeg:https://meditario.org.br/wp-content/uploads/2024/11/vida-humana.jpg
END:VEVENT
BEGIN:VEVENT
DTSTART;TZID=America/Sao_Paulo:20250116T123000
DTEND;TZID=America/Sao_Paulo:20250116T130000
DTSTAMP:20260425T125251
CREATED:20250104T155350Z
LAST-MODIFIED:20250128T150401Z
UID:10005824-1737030600-1737032400@meditario.org.br
SUMMARY:Tire 30 Minutos para a Paz Interior
DESCRIPTION:
URL:https://meditario.org.br/evento/meditacao-em-30-minutos-2/2025-01-16/
LOCATION:CMK Rio de Janeiro\, Rua Conde de Irajá\, 604 – Botafogo\, Rio de Janeiro\, Rio de Janeiro\, 22271-020\, Brasil
CATEGORIES:Meditações Guiadas
ATTACH;FMTTYPE=image/jpeg:https://meditario.org.br/wp-content/uploads/2024/11/medita-em-30.jpg
END:VEVENT
BEGIN:VEVENT
DTSTART;TZID=America/Sao_Paulo:20250117T100000
DTEND;TZID=America/Sao_Paulo:20250119T170000
DTSTAMP:20260425T125251
CREATED:20250107T171808Z
LAST-MODIFIED:20250107T171913Z
UID:10005820-1737108000-1737306000@meditario.org.br
SUMMARY:Meditações Sobre a Clareza da Mente
DESCRIPTION:
URL:https://meditario.org.br/evento/meditacoes-sobre-a-clareza-da-mente/
LOCATION:CMK Rio de Janeiro\, Rua Conde de Irajá\, 604 – Botafogo\, Rio de Janeiro\, Rio de Janeiro\, 22271-020\, Brasil
CATEGORIES:Atividades Especiais,Desafio de Meditação,Retiros
ATTACH;FMTTYPE=image/jpeg:https://meditario.org.br/wp-content/uploads/2024/11/3-desafio-de-meditacao-3.jpg
END:VEVENT
BEGIN:VEVENT
DTSTART;TZID=America/Sao_Paulo:20250117T123000
DTEND;TZID=America/Sao_Paulo:20250117T130000
DTSTAMP:20260425T125251
CREATED:20250104T155350Z
LAST-MODIFIED:20250128T150401Z
UID:10009361-1737117000-1737118800@meditario.org.br
SUMMARY:Tire 30 Minutos para a Paz Interior
DESCRIPTION:
URL:https://meditario.org.br/evento/meditacao-em-30-minutos-2/2025-01-17/
LOCATION:CMK Rio de Janeiro\, Rua Conde de Irajá\, 604 – Botafogo\, Rio de Janeiro\, Rio de Janeiro\, 22271-020\, Brasil
CATEGORIES:Meditações Guiadas
ATTACH;FMTTYPE=image/jpeg:https://meditario.org.br/wp-content/uploads/2024/11/medita-em-30.jpg
END:VEVENT
BEGIN:VEVENT
DTSTART;TZID=America/Sao_Paulo:20250118T100000
DTEND;TZID=America/Sao_Paulo:20250118T120000
DTSTAMP:20260425T125251
CREATED:20241128T210748Z
LAST-MODIFIED:20241204T143238Z
UID:10005591-1737194400-1737201600@meditario.org.br
SUMMARY:PF - Caminho Alegre da Boa Fortuna
DESCRIPTION:
URL:https://meditario.org.br/evento/pf-caminho-alegre-da-boa-fortuna/2025-01-18/
LOCATION:CMK Rio de Janeiro\, Rua Conde de Irajá\, 604 – Botafogo\, Rio de Janeiro\, Rio de Janeiro\, 22271-020\, Brasil
CATEGORIES:Estudo Aprofundado
ATTACH;FMTTYPE=image/jpeg:https://meditario.org.br/wp-content/uploads/2024/11/pf-cabf.jpg
END:VEVENT
END:VCALENDAR