BEGIN:VCALENDAR
VERSION:2.0
PRODID:-//Centro de Meditação Kadampa Rio de Janeiro - ECPv6.15.20//NONSGML v1.0//EN
CALSCALE:GREGORIAN
METHOD:PUBLISH
X-WR-CALNAME:Centro de Meditação Kadampa Rio de Janeiro
X-ORIGINAL-URL:https://meditario.org.br
X-WR-CALDESC:Eventos para Centro de Meditação Kadampa Rio de Janeiro
REFRESH-INTERVAL;VALUE=DURATION:PT1H
X-Robots-Tag:noindex
X-PUBLISHED-TTL:PT1H
BEGIN:VTIMEZONE
TZID:America/Sao_Paulo
BEGIN:STANDARD
TZOFFSETFROM:-0300
TZOFFSETTO:-0300
TZNAME:-03
DTSTART:20240101T000000
END:STANDARD
END:VTIMEZONE
BEGIN:VEVENT
DTSTART;TZID=America/Sao_Paulo:20250218T104500
DTEND;TZID=America/Sao_Paulo:20250218T120000
DTSTAMP:20260424T212250
CREATED:20250203T212057Z
LAST-MODIFIED:20250620T144848Z
UID:10009584-1739875500-1739880000@meditario.org.br
SUMMARY:Aula com Meditação
DESCRIPTION:
URL:https://meditario.org.br/evento/meditacoes-de-budismo-moderno/
LOCATION:CMK Rio de Janeiro\, Rua Conde de Irajá\, 604 – Botafogo\, Rio de Janeiro\, Rio de Janeiro\, 22271-020\, Brasil
CATEGORIES:PGs de Terça
ATTACH;FMTTYPE=image/jpeg:https://meditario.org.br/wp-content/uploads/2025/02/o-que-devemos-conhecer-1.jpg
END:VEVENT
BEGIN:VEVENT
DTSTART;TZID=America/Sao_Paulo:20250218T170000
DTEND;TZID=America/Sao_Paulo:20250218T181500
DTSTAMP:20260424T212250
CREATED:20250127T194514Z
LAST-MODIFIED:20250127T194514Z
UID:10000628-1739898000-1739902500@meditario.org.br
SUMMARY:Joia-que-Satisfaz-os-Desejos ou Joia-Coração
DESCRIPTION:
URL:https://meditario.org.br/evento/joia-que-satisfaz-os-desejos-ou-joia-coracao-7-5/2025-02-18/
LOCATION:CMK Rio de Janeiro\, Rua Conde de Irajá\, 604 – Botafogo\, Rio de Janeiro\, Rio de Janeiro\, 22271-020\, Brasil
CATEGORIES:Preces
ATTACH;FMTTYPE=image/jpeg:https://meditario.org.br/wp-content/uploads/2024/11/JSD-e-JC.jpg
END:VEVENT
BEGIN:VEVENT
DTSTART;TZID=America/Sao_Paulo:20250218T183000
DTEND;TZID=America/Sao_Paulo:20250218T190000
DTSTAMP:20260424T212250
CREATED:20250118T170503Z
LAST-MODIFIED:20250131T224052Z
UID:10009415-1739903400-1739905200@meditario.org.br
SUMMARY:Meditação depois do trabalho
DESCRIPTION:
URL:https://meditario.org.br/evento/tire-30-minutos-para-a-paz-interior-9/2025-02-18/
LOCATION:CMK Rio de Janeiro\, Rua Conde de Irajá\, 604 – Botafogo\, Rio de Janeiro\, Rio de Janeiro\, 22271-020\, Brasil
CATEGORIES:Meditações Guiadas
ATTACH;FMTTYPE=image/jpeg:https://meditario.org.br/wp-content/uploads/2024/11/medita-em-30.jpg
END:VEVENT
BEGIN:VEVENT
DTSTART;TZID=America/Sao_Paulo:20250218T193000
DTEND;TZID=America/Sao_Paulo:20250218T213000
DTSTAMP:20260424T212250
CREATED:20241128T210345Z
LAST-MODIFIED:20241128T210345Z
UID:10005569-1739907000-1739914200@meditario.org.br
SUMMARY:PF - Novo Oito Passos para a Felicidade
DESCRIPTION:
URL:https://meditario.org.br/evento/pf-novo-oito-passos-para-a-felicidade/2025-02-18/
LOCATION:CMK Rio de Janeiro\, Rua Conde de Irajá\, 604 – Botafogo\, Rio de Janeiro\, Rio de Janeiro\, 22271-020\, Brasil
CATEGORIES:Estudo Aprofundado
ATTACH;FMTTYPE=image/jpeg:https://meditario.org.br/wp-content/uploads/2024/11/pf-noppf.jpg
END:VEVENT
BEGIN:VEVENT
DTSTART;TZID=America/Sao_Paulo:20250219T170000
DTEND;TZID=America/Sao_Paulo:20250219T181500
DTSTAMP:20260424T212250
CREATED:20250127T194514Z
LAST-MODIFIED:20250127T194514Z
UID:10000629-1739984400-1739988900@meditario.org.br
SUMMARY:Joia-que-Satisfaz-os-Desejos ou Joia-Coração
DESCRIPTION:
URL:https://meditario.org.br/evento/joia-que-satisfaz-os-desejos-ou-joia-coracao-7-5/2025-02-19/
LOCATION:CMK Rio de Janeiro\, Rua Conde de Irajá\, 604 – Botafogo\, Rio de Janeiro\, Rio de Janeiro\, 22271-020\, Brasil
CATEGORIES:Preces
ATTACH;FMTTYPE=image/jpeg:https://meditario.org.br/wp-content/uploads/2024/11/JSD-e-JC.jpg
END:VEVENT
BEGIN:VEVENT
DTSTART;TZID=America/Sao_Paulo:20250219T183000
DTEND;TZID=America/Sao_Paulo:20250219T190000
DTSTAMP:20260424T212250
CREATED:20250118T170503Z
LAST-MODIFIED:20250131T224052Z
UID:10009416-1739989800-1739991600@meditario.org.br
SUMMARY:Meditação depois do trabalho
DESCRIPTION:
URL:https://meditario.org.br/evento/tire-30-minutos-para-a-paz-interior-9/2025-02-19/
LOCATION:CMK Rio de Janeiro\, Rua Conde de Irajá\, 604 – Botafogo\, Rio de Janeiro\, Rio de Janeiro\, 22271-020\, Brasil
CATEGORIES:Meditações Guiadas
ATTACH;FMTTYPE=image/jpeg:https://meditario.org.br/wp-content/uploads/2024/11/medita-em-30.jpg
END:VEVENT
BEGIN:VEVENT
DTSTART;TZID=America/Sao_Paulo:20250219T193000
DTEND;TZID=America/Sao_Paulo:20250219T204500
DTSTAMP:20260424T212250
CREATED:20241126T162504Z
LAST-MODIFIED:20250620T144903Z
UID:10000035-1739993400-1739997900@meditario.org.br
SUMMARY:Aula com Meditação
DESCRIPTION:
URL:https://meditario.org.br/evento/meditacao-no-carma-2/
LOCATION:CMK Rio de Janeiro\, Rua Conde de Irajá\, 604 – Botafogo\, Rio de Janeiro\, Rio de Janeiro\, 22271-020\, Brasil
CATEGORIES:PGs de Quarta
ATTACH;FMTTYPE=image/jpeg:https://meditario.org.br/wp-content/uploads/2024/11/site-e-sympla-2025-1.jpg
END:VEVENT
BEGIN:VEVENT
DTSTART;TZID=America/Sao_Paulo:20250220T170000
DTEND;TZID=America/Sao_Paulo:20250220T181500
DTSTAMP:20260424T212250
CREATED:20250127T194514Z
LAST-MODIFIED:20250127T194514Z
UID:10000630-1740070800-1740075300@meditario.org.br
SUMMARY:Joia-que-Satisfaz-os-Desejos ou Joia-Coração
DESCRIPTION:
URL:https://meditario.org.br/evento/joia-que-satisfaz-os-desejos-ou-joia-coracao-7-5/2025-02-20/
LOCATION:CMK Rio de Janeiro\, Rua Conde de Irajá\, 604 – Botafogo\, Rio de Janeiro\, Rio de Janeiro\, 22271-020\, Brasil
CATEGORIES:Preces
ATTACH;FMTTYPE=image/jpeg:https://meditario.org.br/wp-content/uploads/2024/11/JSD-e-JC.jpg
END:VEVENT
BEGIN:VEVENT
DTSTART;TZID=America/Sao_Paulo:20250220T183000
DTEND;TZID=America/Sao_Paulo:20250220T190000
DTSTAMP:20260424T212250
CREATED:20250118T170503Z
LAST-MODIFIED:20250131T224052Z
UID:10009417-1740076200-1740078000@meditario.org.br
SUMMARY:Meditação depois do trabalho
DESCRIPTION:
URL:https://meditario.org.br/evento/tire-30-minutos-para-a-paz-interior-9/2025-02-20/
LOCATION:CMK Rio de Janeiro\, Rua Conde de Irajá\, 604 – Botafogo\, Rio de Janeiro\, Rio de Janeiro\, 22271-020\, Brasil
CATEGORIES:Meditações Guiadas
ATTACH;FMTTYPE=image/jpeg:https://meditario.org.br/wp-content/uploads/2024/11/medita-em-30.jpg
END:VEVENT
BEGIN:VEVENT
DTSTART;TZID=America/Sao_Paulo:20250220T193000
DTEND;TZID=America/Sao_Paulo:20250220T213000
DTSTAMP:20260424T212250
CREATED:20250128T201549Z
LAST-MODIFIED:20250129T224009Z
UID:10009481-1740079800-1740087000@meditario.org.br
SUMMARY:Programa de Formação de Professores
DESCRIPTION:
URL:https://meditario.org.br/evento/programa-de-formacao-de-professores/2025-02-20/
LOCATION:CMK Rio de Janeiro\, Rua Conde de Irajá\, 604 – Botafogo\, Rio de Janeiro\, Rio de Janeiro\, 22271-020\, Brasil
CATEGORIES:Estudo Aprofundado
ATTACH;FMTTYPE=image/jpeg:https://meditario.org.br/wp-content/uploads/2024/11/pfp.jpg
END:VEVENT
BEGIN:VEVENT
DTSTART;TZID=America/Sao_Paulo:20250221T193000
DTEND;TZID=America/Sao_Paulo:20250221T204500
DTSTAMP:20260424T212250
CREATED:20250130T193143Z
LAST-MODIFIED:20250130T193143Z
UID:10000631-1740166200-1740170700@meditario.org.br
SUMMARY:Joia-que-Satisfaz-os-Desejos ou Joia-Coração
DESCRIPTION:
URL:https://meditario.org.br/evento/joia-que-satisfaz-os-desejos-ou-joia-coracao-7-5-3/
LOCATION:CMK Rio de Janeiro\, Rua Conde de Irajá\, 604 – Botafogo\, Rio de Janeiro\, Rio de Janeiro\, 22271-020\, Brasil
CATEGORIES:Preces
ATTACH;FMTTYPE=image/jpeg:https://meditario.org.br/wp-content/uploads/2024/11/JSD-e-JC.jpg
END:VEVENT
BEGIN:VEVENT
DTSTART;TZID=America/Sao_Paulo:20250222T070000
DTEND;TZID=America/Sao_Paulo:20250222T081500
DTSTAMP:20260424T212250
CREATED:20250214T204706Z
LAST-MODIFIED:20250214T204706Z
UID:10010620-1740207600-1740212100@meditario.org.br
SUMMARY:Joia-que-Satisfaz-os-Desejos ou Joia-Coração
DESCRIPTION:
URL:https://meditario.org.br/evento/joia-que-satisfaz-os-desejos-ou-joia-coracao-6/
LOCATION:CMK Rio de Janeiro\, Rua Conde de Irajá\, 604 – Botafogo\, Rio de Janeiro\, Rio de Janeiro\, 22271-020\, Brasil
CATEGORIES:Preces
END:VEVENT
BEGIN:VEVENT
DTSTART;TZID=America/Sao_Paulo:20250222T090000
DTEND;TZID=America/Sao_Paulo:20250223T161500
DTSTAMP:20260424T212250
CREATED:20250118T073258Z
LAST-MODIFIED:20250211T110214Z
UID:10008581-1740214800-1740327300@meditario.org.br
SUMMARY:Retiro de Buda Amitayus
DESCRIPTION:
URL:https://meditario.org.br/evento/retiro-de-buda-amitayus/
LOCATION:CMK Rio de Janeiro\, Rua Conde de Irajá\, 604 – Botafogo\, Rio de Janeiro\, Rio de Janeiro\, 22271-020\, Brasil
CATEGORIES:Atividades em Destaque,Retiros
ATTACH;FMTTYPE=image/jpeg:https://meditario.org.br/wp-content/uploads/2025/01/retiro-de-amitayus.jpg
END:VEVENT
BEGIN:VEVENT
DTSTART;TZID=America/Sao_Paulo:20250222T100000
DTEND;TZID=America/Sao_Paulo:20250222T120000
DTSTAMP:20260424T212250
CREATED:20241128T210748Z
LAST-MODIFIED:20241204T143238Z
UID:10005596-1740218400-1740225600@meditario.org.br
SUMMARY:PF - Caminho Alegre da Boa Fortuna
DESCRIPTION:
URL:https://meditario.org.br/evento/pf-caminho-alegre-da-boa-fortuna/2025-02-22/
LOCATION:CMK Rio de Janeiro\, Rua Conde de Irajá\, 604 – Botafogo\, Rio de Janeiro\, Rio de Janeiro\, 22271-020\, Brasil
CATEGORIES:Estudo Aprofundado
ATTACH;FMTTYPE=image/jpeg:https://meditario.org.br/wp-content/uploads/2024/11/pf-cabf.jpg
END:VEVENT
BEGIN:VEVENT
DTSTART;TZID=America/Sao_Paulo:20250223T100000
DTEND;TZID=America/Sao_Paulo:20250223T110000
DTSTAMP:20260424T212250
CREATED:20241128T170241Z
LAST-MODIFIED:20250320T171924Z
UID:10012549-1740304800-1740308400@meditario.org.br
SUMMARY:Preces pela Paz Mundial
DESCRIPTION:
URL:https://meditario.org.br/evento/preces-pela-paz-mundial/2025-02-23/
LOCATION:CMK Rio de Janeiro\, Rua Conde de Irajá\, 604 – Botafogo\, Rio de Janeiro\, Rio de Janeiro\, 22271-020\, Brasil
CATEGORIES:Preces
ATTACH;FMTTYPE=image/jpeg:https://meditario.org.br/wp-content/uploads/2024/11/confiar-no-guia-espiritual.jpg
END:VEVENT
BEGIN:VEVENT
DTSTART;TZID=America/Sao_Paulo:20250223T170000
DTEND;TZID=America/Sao_Paulo:20250223T183000
DTSTAMP:20260424T212250
CREATED:20250118T065043Z
LAST-MODIFIED:20250203T193231Z
UID:10008575-1740330000-1740335400@meditario.org.br
SUMMARY:Aula com Meditação
DESCRIPTION:
URL:https://meditario.org.br/evento/aula-forca-na-tempestade/
LOCATION:CMK Rio de Janeiro\, Rua Conde de Irajá\, 604 – Botafogo\, Rio de Janeiro\, Rio de Janeiro\, 22271-020\, Brasil
CATEGORIES:PGs de Domingo Fevereiro
ATTACH;FMTTYPE=image/jpeg:https://meditario.org.br/wp-content/uploads/2025/01/site-e-sympla-2025-3.jpg
END:VEVENT
BEGIN:VEVENT
DTSTART;TZID=America/Sao_Paulo:20250223T193000
DTEND;TZID=America/Sao_Paulo:20250223T203000
DTSTAMP:20260424T212250
CREATED:20250127T192931Z
LAST-MODIFIED:20250127T192932Z
UID:10003714-1740339000-1740342600@meditario.org.br
SUMMARY:Joia-que-Satisfaz-os-Desejos ou Joia-Coração
DESCRIPTION:
URL:https://meditario.org.br/evento/joia-que-satisfaz-os-desejos-ou-joia-coracao-3-5/2025-02-23/
LOCATION:CMK Rio de Janeiro\, Rua Conde de Irajá\, 604 – Botafogo\, Rio de Janeiro\, Rio de Janeiro\, 22271-020\, Brasil
CATEGORIES:Preces
ATTACH;FMTTYPE=image/jpeg:https://meditario.org.br/wp-content/uploads/2024/11/JSD-e-JC.jpg
END:VEVENT
BEGIN:VEVENT
DTSTART;TZID=America/Sao_Paulo:20250224T170000
DTEND;TZID=America/Sao_Paulo:20250224T181500
DTSTAMP:20260424T212250
CREATED:20250127T194514Z
LAST-MODIFIED:20250127T194514Z
UID:10000632-1740416400-1740420900@meditario.org.br
SUMMARY:Joia-que-Satisfaz-os-Desejos ou Joia-Coração
DESCRIPTION:
URL:https://meditario.org.br/evento/joia-que-satisfaz-os-desejos-ou-joia-coracao-7-5/2025-02-24/
LOCATION:CMK Rio de Janeiro\, Rua Conde de Irajá\, 604 – Botafogo\, Rio de Janeiro\, Rio de Janeiro\, 22271-020\, Brasil
CATEGORIES:Preces
ATTACH;FMTTYPE=image/jpeg:https://meditario.org.br/wp-content/uploads/2024/11/JSD-e-JC.jpg
END:VEVENT
BEGIN:VEVENT
DTSTART;TZID=America/Sao_Paulo:20250224T183000
DTEND;TZID=America/Sao_Paulo:20250224T190000
DTSTAMP:20260424T212250
CREATED:20250118T170503Z
LAST-MODIFIED:20250131T224052Z
UID:10009418-1740421800-1740423600@meditario.org.br
SUMMARY:Meditação depois do trabalho
DESCRIPTION:
URL:https://meditario.org.br/evento/tire-30-minutos-para-a-paz-interior-9/2025-02-24/
LOCATION:CMK Rio de Janeiro\, Rua Conde de Irajá\, 604 – Botafogo\, Rio de Janeiro\, Rio de Janeiro\, 22271-020\, Brasil
CATEGORIES:Meditações Guiadas
ATTACH;FMTTYPE=image/jpeg:https://meditario.org.br/wp-content/uploads/2024/11/medita-em-30.jpg
END:VEVENT
BEGIN:VEVENT
DTSTART;TZID=America/Sao_Paulo:20250224T193000
DTEND;TZID=America/Sao_Paulo:20250224T213000
DTSTAMP:20260424T212250
CREATED:20250128T201549Z
LAST-MODIFIED:20250129T224009Z
UID:10009482-1740425400-1740432600@meditario.org.br
SUMMARY:Programa de Formação de Professores
DESCRIPTION:
URL:https://meditario.org.br/evento/programa-de-formacao-de-professores/2025-02-24/
LOCATION:CMK Rio de Janeiro\, Rua Conde de Irajá\, 604 – Botafogo\, Rio de Janeiro\, Rio de Janeiro\, 22271-020\, Brasil
CATEGORIES:Estudo Aprofundado
ATTACH;FMTTYPE=image/jpeg:https://meditario.org.br/wp-content/uploads/2024/11/pfp.jpg
END:VEVENT
BEGIN:VEVENT
DTSTART;TZID=America/Sao_Paulo:20250225T104500
DTEND;TZID=America/Sao_Paulo:20250225T120000
DTSTAMP:20260424T212250
CREATED:20250203T212635Z
LAST-MODIFIED:20250620T144836Z
UID:10009586-1740480300-1740484800@meditario.org.br
SUMMARY:Aula com Meditação
DESCRIPTION:
URL:https://meditario.org.br/evento/meditacoes-de-budismo-moderno-2/
LOCATION:CMK Rio de Janeiro\, Rua Conde de Irajá\, 604 – Botafogo\, Rio de Janeiro\, Rio de Janeiro\, 22271-020\, Brasil
CATEGORIES:PGs de Terça
ATTACH;FMTTYPE=image/jpeg:https://meditario.org.br/wp-content/uploads/2025/02/o-que-devemos-abandonar.jpg
END:VEVENT
BEGIN:VEVENT
DTSTART;TZID=America/Sao_Paulo:20250225T170000
DTEND;TZID=America/Sao_Paulo:20250225T181500
DTSTAMP:20260424T212250
CREATED:20250127T194514Z
LAST-MODIFIED:20250127T194514Z
UID:10000633-1740502800-1740507300@meditario.org.br
SUMMARY:Joia-que-Satisfaz-os-Desejos ou Joia-Coração
DESCRIPTION:
URL:https://meditario.org.br/evento/joia-que-satisfaz-os-desejos-ou-joia-coracao-7-5/2025-02-25/
LOCATION:CMK Rio de Janeiro\, Rua Conde de Irajá\, 604 – Botafogo\, Rio de Janeiro\, Rio de Janeiro\, 22271-020\, Brasil
CATEGORIES:Preces
ATTACH;FMTTYPE=image/jpeg:https://meditario.org.br/wp-content/uploads/2024/11/JSD-e-JC.jpg
END:VEVENT
BEGIN:VEVENT
DTSTART;TZID=America/Sao_Paulo:20250225T183000
DTEND;TZID=America/Sao_Paulo:20250225T190000
DTSTAMP:20260424T212250
CREATED:20250118T170503Z
LAST-MODIFIED:20250131T224052Z
UID:10009419-1740508200-1740510000@meditario.org.br
SUMMARY:Meditação depois do trabalho
DESCRIPTION:
URL:https://meditario.org.br/evento/tire-30-minutos-para-a-paz-interior-9/2025-02-25/
LOCATION:CMK Rio de Janeiro\, Rua Conde de Irajá\, 604 – Botafogo\, Rio de Janeiro\, Rio de Janeiro\, 22271-020\, Brasil
CATEGORIES:Meditações Guiadas
ATTACH;FMTTYPE=image/jpeg:https://meditario.org.br/wp-content/uploads/2024/11/medita-em-30.jpg
END:VEVENT
BEGIN:VEVENT
DTSTART;TZID=America/Sao_Paulo:20250226T170000
DTEND;TZID=America/Sao_Paulo:20250226T181500
DTSTAMP:20260424T212250
CREATED:20250127T194514Z
LAST-MODIFIED:20250127T194514Z
UID:10000634-1740589200-1740593700@meditario.org.br
SUMMARY:Joia-que-Satisfaz-os-Desejos ou Joia-Coração
DESCRIPTION:
URL:https://meditario.org.br/evento/joia-que-satisfaz-os-desejos-ou-joia-coracao-7-5/2025-02-26/
LOCATION:CMK Rio de Janeiro\, Rua Conde de Irajá\, 604 – Botafogo\, Rio de Janeiro\, Rio de Janeiro\, 22271-020\, Brasil
CATEGORIES:Preces
ATTACH;FMTTYPE=image/jpeg:https://meditario.org.br/wp-content/uploads/2024/11/JSD-e-JC.jpg
END:VEVENT
BEGIN:VEVENT
DTSTART;TZID=America/Sao_Paulo:20250226T183000
DTEND;TZID=America/Sao_Paulo:20250226T190000
DTSTAMP:20260424T212250
CREATED:20250118T170503Z
LAST-MODIFIED:20250131T224052Z
UID:10009420-1740594600-1740596400@meditario.org.br
SUMMARY:Meditação depois do trabalho
DESCRIPTION:
URL:https://meditario.org.br/evento/tire-30-minutos-para-a-paz-interior-9/2025-02-26/
LOCATION:CMK Rio de Janeiro\, Rua Conde de Irajá\, 604 – Botafogo\, Rio de Janeiro\, Rio de Janeiro\, 22271-020\, Brasil
CATEGORIES:Meditações Guiadas
ATTACH;FMTTYPE=image/jpeg:https://meditario.org.br/wp-content/uploads/2024/11/medita-em-30.jpg
END:VEVENT
BEGIN:VEVENT
DTSTART;TZID=America/Sao_Paulo:20250226T193000
DTEND;TZID=America/Sao_Paulo:20250226T204500
DTSTAMP:20260424T212250
CREATED:20250203T214426Z
LAST-MODIFIED:20250206T174725Z
UID:10009590-1740598200-1740602700@meditario.org.br
SUMMARY:Meditações de Budismo Moderno
DESCRIPTION:
URL:https://meditario.org.br/evento/meditacoes-de-budismo-moderno-6/
LOCATION:CMK Rio de Janeiro\, Rua Conde de Irajá\, 604 – Botafogo\, Rio de Janeiro\, Rio de Janeiro\, 22271-020\, Brasil
CATEGORIES:PGs de Quarta
ATTACH;FMTTYPE=image/jpeg:https://meditario.org.br/wp-content/uploads/2025/02/o-que-devemos-conhecer-1.jpg
END:VEVENT
BEGIN:VEVENT
DTSTART;TZID=America/Sao_Paulo:20250301T110000
DTEND;TZID=America/Sao_Paulo:20250306T180000
DTSTAMP:20260424T212250
CREATED:20250228T233433Z
LAST-MODIFIED:20250228T233629Z
UID:10011151-1740826800-1741284000@meditario.org.br
SUMMARY:Centro Fechado para a Celebração Brasileira de Dharma 2025
DESCRIPTION:
URL:https://meditario.org.br/evento/centro-fechado-para-a-celebracao-brasileira-de-dharma-2025/
LOCATION:Templo pela Paz Mundial (CMK Brasil)\, Av Cláudio Giannini\, 2035\, Jacaré\, 13318230\, Brazil
ATTACH;FMTTYPE=image/jpeg:https://meditario.org.br/wp-content/uploads/2025/02/cbd2025-header.jpg
END:VEVENT
BEGIN:VEVENT
DTSTART;TZID=America/Sao_Paulo:20250302T100000
DTEND;TZID=America/Sao_Paulo:20250302T110000
DTSTAMP:20260424T212250
CREATED:20241128T170241Z
LAST-MODIFIED:20250320T171924Z
UID:10012550-1740909600-1740913200@meditario.org.br
SUMMARY:Preces pela Paz Mundial
DESCRIPTION:
URL:https://meditario.org.br/evento/preces-pela-paz-mundial/2025-03-02/
LOCATION:CMK Rio de Janeiro\, Rua Conde de Irajá\, 604 – Botafogo\, Rio de Janeiro\, Rio de Janeiro\, 22271-020\, Brasil
CATEGORIES:Preces
ATTACH;FMTTYPE=image/jpeg:https://meditario.org.br/wp-content/uploads/2024/11/confiar-no-guia-espiritual.jpg
END:VEVENT
BEGIN:VEVENT
DTSTART;TZID=America/Sao_Paulo:20250307T193000
DTEND;TZID=America/Sao_Paulo:20250307T210000
DTSTAMP:20260424T212251
CREATED:20250214T001956Z
LAST-MODIFIED:20250214T001956Z
UID:10010058-1741375800-1741381200@meditario.org.br
SUMMARY:Joia-que-Satisfaz-os-Desejos ou Joia-Coração
DESCRIPTION:
URL:https://meditario.org.br/evento/joia-que-satisfaz-os-desejos-ou-joia-coracao/
LOCATION:CMK Rio de Janeiro\, Rua Conde de Irajá\, 604 – Botafogo\, Rio de Janeiro\, Rio de Janeiro\, 22271-020\, Brasil
CATEGORIES:Preces
ATTACH;FMTTYPE=image/jpeg:https://meditario.org.br/wp-content/uploads/2024/11/JSD-e-JC.jpg
END:VEVENT
BEGIN:VEVENT
DTSTART;TZID=America/Sao_Paulo:20250308T070000
DTEND;TZID=America/Sao_Paulo:20250308T080000
DTSTAMP:20260424T212251
CREATED:20250214T002218Z
LAST-MODIFIED:20250214T002218Z
UID:10010059-1741417200-1741420800@meditario.org.br
SUMMARY:Joia-Coração
DESCRIPTION:
URL:https://meditario.org.br/evento/joia-coracao/
LOCATION:CMK Rio de Janeiro\, Rua Conde de Irajá\, 604 – Botafogo\, Rio de Janeiro\, Rio de Janeiro\, 22271-020\, Brasil
CATEGORIES:Preces
ATTACH;FMTTYPE=image/jpeg:https://meditario.org.br/wp-content/uploads/2024/11/JSD-e-JC.jpg
END:VEVENT
END:VCALENDAR