BEGIN:VCALENDAR
VERSION:2.0
PRODID:-//Centro de Meditação Kadampa Rio de Janeiro - ECPv6.15.20//NONSGML v1.0//EN
CALSCALE:GREGORIAN
METHOD:PUBLISH
X-WR-CALNAME:Centro de Meditação Kadampa Rio de Janeiro
X-ORIGINAL-URL:https://meditario.org.br
X-WR-CALDESC:Eventos para Centro de Meditação Kadampa Rio de Janeiro
REFRESH-INTERVAL;VALUE=DURATION:PT1H
X-Robots-Tag:noindex
X-PUBLISHED-TTL:PT1H
BEGIN:VTIMEZONE
TZID:America/Sao_Paulo
BEGIN:STANDARD
TZOFFSETFROM:-0300
TZOFFSETTO:-0300
TZNAME:-03
DTSTART:20240101T000000
END:STANDARD
END:VTIMEZONE
BEGIN:VEVENT
DTSTART;TZID=America/Sao_Paulo:20250408T070000
DTEND;TZID=America/Sao_Paulo:20250408T083000
DTSTAMP:20260424T181511
CREATED:20250319T180258Z
LAST-MODIFIED:20250324T233209Z
UID:10011786-1744095600-1744101000@meditario.org.br
SUMMARY:Caminho Rápido ao Grande Êxtase
DESCRIPTION:
URL:https://meditario.org.br/evento/caminho-rapido-ao-grande-extase/2025-04-08/
LOCATION:CMK Rio de Janeiro\, Rua Conde de Irajá\, 604 – Botafogo\, Rio de Janeiro\, Rio de Janeiro\, 22271-020\, Brasil
CATEGORIES:Preces
END:VEVENT
BEGIN:VEVENT
DTSTART;TZID=America/Sao_Paulo:20250408T090000
DTEND;TZID=America/Sao_Paulo:20250408T093000
DTSTAMP:20260424T181511
CREATED:20250319T180809Z
LAST-MODIFIED:20250324T233154Z
UID:10012168-1744102800-1744104600@meditario.org.br
SUMMARY:A Confissão Bodhisattva das Quedas Morais
DESCRIPTION:
URL:https://meditario.org.br/evento/a-confissao-bodhisattva-das-quedas-morais/2025-04-08/
LOCATION:CMK Rio de Janeiro\, Rua Conde de Irajá\, 604 – Botafogo\, Rio de Janeiro\, Rio de Janeiro\, 22271-020\, Brasil
CATEGORIES:Preces
ATTACH;FMTTYPE=image/jpeg:https://meditario.org.br/wp-content/uploads/2024/11/Sutra-mahayana.jpg
END:VEVENT
BEGIN:VEVENT
DTSTART;TZID=America/Sao_Paulo:20250408T104500
DTEND;TZID=America/Sao_Paulo:20250408T120000
DTSTAMP:20260424T181511
CREATED:20250310T184610Z
LAST-MODIFIED:20250318T194829Z
UID:10011153-1744109100-1744113600@meditario.org.br
SUMMARY:Meditações de Budismo Moderno
DESCRIPTION:
URL:https://meditario.org.br/evento/meditacoes-de-budismo-moderno-11/
LOCATION:CMK Rio de Janeiro\, Rua Conde de Irajá\, 604 – Botafogo\, Rio de Janeiro\, Rio de Janeiro\, 22271-020\, Brasil
CATEGORIES:PGs de Terça
ATTACH;FMTTYPE=image/jpeg:https://meditario.org.br/wp-content/uploads/2025/03/supremo-bom-coracao.jpg
END:VEVENT
BEGIN:VEVENT
DTSTART;TZID=America/Sao_Paulo:20250408T123000
DTEND;TZID=America/Sao_Paulo:20250408T130000
DTSTAMP:20260424T181511
CREATED:20250320T184741Z
LAST-MODIFIED:20250324T232757Z
UID:10012557-1744115400-1744117200@meditario.org.br
SUMMARY:Meditação na hora do almoço
DESCRIPTION:
URL:https://meditario.org.br/evento/meditacao-na-hora-do-almoco-2/2025-04-08/
LOCATION:CMK Rio de Janeiro\, Rua Conde de Irajá\, 604 – Botafogo\, Rio de Janeiro\, Rio de Janeiro\, 22271-020\, Brasil
CATEGORIES:Meditações Guiadas
ATTACH;FMTTYPE=image/jpeg:https://meditario.org.br/wp-content/uploads/2025/01/site-e-sympla-2025-5.jpg
END:VEVENT
BEGIN:VEVENT
DTSTART;TZID=America/Sao_Paulo:20250408T170000
DTEND;TZID=America/Sao_Paulo:20250408T183000
DTSTAMP:20260424T181511
CREATED:20250407T191622Z
LAST-MODIFIED:20250407T191757Z
UID:10013327-1744131600-1744137000@meditario.org.br
SUMMARY:Joia-que-Satisfaz-os-Desejos ou Joia-Coração
DESCRIPTION:
URL:https://meditario.org.br/evento/joia-que-satisfaz-os-desejos-ou-joia-coracao-10-6/2025-04-08/
LOCATION:CMK Rio de Janeiro\, Rua Conde de Irajá\, 604 – Botafogo\, Rio de Janeiro\, Rio de Janeiro\, 22271-020\, Brasil
CATEGORIES:Preces
ATTACH;FMTTYPE=image/jpeg:https://meditario.org.br/wp-content/uploads/2024/11/JSD-e-JC.jpg
END:VEVENT
BEGIN:VEVENT
DTSTART;TZID=America/Sao_Paulo:20250408T183000
DTEND;TZID=America/Sao_Paulo:20250408T190000
DTSTAMP:20260424T181511
CREATED:20250320T185118Z
LAST-MODIFIED:20250324T232339Z
UID:10012943-1744137000-1744138800@meditario.org.br
SUMMARY:Meditação depois do trabalho
DESCRIPTION:
URL:https://meditario.org.br/evento/meditacao-depois-do-trabalho-4/2025-04-08/
LOCATION:CMK Rio de Janeiro\, Rua Conde de Irajá\, 604 – Botafogo\, Rio de Janeiro\, Rio de Janeiro\, 22271-020\, Brasil
CATEGORIES:Meditações Guiadas
ATTACH;FMTTYPE=image/jpeg:https://meditario.org.br/wp-content/uploads/2025/01/site-e-sympla-2025-5.jpg
END:VEVENT
BEGIN:VEVENT
DTSTART;TZID=America/Sao_Paulo:20250408T193000
DTEND;TZID=America/Sao_Paulo:20250408T213000
DTSTAMP:20260424T181511
CREATED:20250320T200140Z
LAST-MODIFIED:20250327T204821Z
UID:10013713-1744140600-1744147800@meditario.org.br
SUMMARY:PF (Novo Oito Passos para a Felicidade) com Prece para Tara
DESCRIPTION:
URL:https://meditario.org.br/evento/pf-novo-oito-passos-para-a-felicidade-3/
LOCATION:CMK Rio de Janeiro\, Rua Conde de Irajá\, 604 – Botafogo\, Rio de Janeiro\, Rio de Janeiro\, 22271-020\, Brasil
CATEGORIES:Estudo Aprofundado
ATTACH;FMTTYPE=image/jpeg:https://meditario.org.br/wp-content/uploads/2024/11/pf-noppf.jpg
END:VEVENT
BEGIN:VEVENT
DTSTART;TZID=America/Sao_Paulo:20250409T123000
DTEND;TZID=America/Sao_Paulo:20250409T130000
DTSTAMP:20260424T181511
CREATED:20250320T184741Z
LAST-MODIFIED:20250324T232757Z
UID:10012558-1744201800-1744203600@meditario.org.br
SUMMARY:Meditação na hora do almoço
DESCRIPTION:
URL:https://meditario.org.br/evento/meditacao-na-hora-do-almoco-2/2025-04-09/
LOCATION:CMK Rio de Janeiro\, Rua Conde de Irajá\, 604 – Botafogo\, Rio de Janeiro\, Rio de Janeiro\, 22271-020\, Brasil
CATEGORIES:Meditações Guiadas
ATTACH;FMTTYPE=image/jpeg:https://meditario.org.br/wp-content/uploads/2025/01/site-e-sympla-2025-5.jpg
END:VEVENT
BEGIN:VEVENT
DTSTART;TZID=America/Sao_Paulo:20250409T170000
DTEND;TZID=America/Sao_Paulo:20250409T183000
DTSTAMP:20260424T181511
CREATED:20250407T191622Z
LAST-MODIFIED:20250407T191757Z
UID:10013328-1744218000-1744223400@meditario.org.br
SUMMARY:Joia-que-Satisfaz-os-Desejos ou Joia-Coração
DESCRIPTION:
URL:https://meditario.org.br/evento/joia-que-satisfaz-os-desejos-ou-joia-coracao-10-6/2025-04-09/
LOCATION:CMK Rio de Janeiro\, Rua Conde de Irajá\, 604 – Botafogo\, Rio de Janeiro\, Rio de Janeiro\, 22271-020\, Brasil
CATEGORIES:Preces
ATTACH;FMTTYPE=image/jpeg:https://meditario.org.br/wp-content/uploads/2024/11/JSD-e-JC.jpg
END:VEVENT
BEGIN:VEVENT
DTSTART;TZID=America/Sao_Paulo:20250409T183000
DTEND;TZID=America/Sao_Paulo:20250409T190000
DTSTAMP:20260424T181511
CREATED:20250320T185118Z
LAST-MODIFIED:20250324T232339Z
UID:10012944-1744223400-1744225200@meditario.org.br
SUMMARY:Meditação depois do trabalho
DESCRIPTION:
URL:https://meditario.org.br/evento/meditacao-depois-do-trabalho-4/2025-04-09/
LOCATION:CMK Rio de Janeiro\, Rua Conde de Irajá\, 604 – Botafogo\, Rio de Janeiro\, Rio de Janeiro\, 22271-020\, Brasil
CATEGORIES:Meditações Guiadas
ATTACH;FMTTYPE=image/jpeg:https://meditario.org.br/wp-content/uploads/2025/01/site-e-sympla-2025-5.jpg
END:VEVENT
BEGIN:VEVENT
DTSTART;TZID=America/Sao_Paulo:20250409T193000
DTEND;TZID=America/Sao_Paulo:20250409T204500
DTSTAMP:20260424T181511
CREATED:20250310T191005Z
LAST-MODIFIED:20250318T200032Z
UID:10011159-1744227000-1744231500@meditario.org.br
SUMMARY:Meditações de Budismo Moderno
DESCRIPTION:
URL:https://meditario.org.br/evento/meditacoes-de-budismo-moderno-15/
LOCATION:CMK Rio de Janeiro\, Rua Conde de Irajá\, 604 – Botafogo\, Rio de Janeiro\, Rio de Janeiro\, 22271-020\, Brasil
CATEGORIES:PGs de Quarta
ATTACH;FMTTYPE=image/jpeg:https://meditario.org.br/wp-content/uploads/2025/03/compaixao-universal.jpg
END:VEVENT
BEGIN:VEVENT
DTSTART;TZID=America/Sao_Paulo:20250410T070000
DTEND;TZID=America/Sao_Paulo:20250410T083000
DTSTAMP:20260424T181511
CREATED:20250319T180258Z
LAST-MODIFIED:20250324T233209Z
UID:10011787-1744268400-1744273800@meditario.org.br
SUMMARY:Caminho Rápido ao Grande Êxtase
DESCRIPTION:
URL:https://meditario.org.br/evento/caminho-rapido-ao-grande-extase/2025-04-10/
LOCATION:CMK Rio de Janeiro\, Rua Conde de Irajá\, 604 – Botafogo\, Rio de Janeiro\, Rio de Janeiro\, 22271-020\, Brasil
CATEGORIES:Preces
END:VEVENT
BEGIN:VEVENT
DTSTART;TZID=America/Sao_Paulo:20250410T090000
DTEND;TZID=America/Sao_Paulo:20250410T093000
DTSTAMP:20260424T181511
CREATED:20250319T180809Z
LAST-MODIFIED:20250324T233154Z
UID:10012169-1744275600-1744277400@meditario.org.br
SUMMARY:A Confissão Bodhisattva das Quedas Morais
DESCRIPTION:
URL:https://meditario.org.br/evento/a-confissao-bodhisattva-das-quedas-morais/2025-04-10/
LOCATION:CMK Rio de Janeiro\, Rua Conde de Irajá\, 604 – Botafogo\, Rio de Janeiro\, Rio de Janeiro\, 22271-020\, Brasil
CATEGORIES:Preces
ATTACH;FMTTYPE=image/jpeg:https://meditario.org.br/wp-content/uploads/2024/11/Sutra-mahayana.jpg
END:VEVENT
BEGIN:VEVENT
DTSTART;TZID=America/Sao_Paulo:20250410T123000
DTEND;TZID=America/Sao_Paulo:20250410T130000
DTSTAMP:20260424T181511
CREATED:20250320T184741Z
LAST-MODIFIED:20250324T232757Z
UID:10012559-1744288200-1744290000@meditario.org.br
SUMMARY:Meditação na hora do almoço
DESCRIPTION:
URL:https://meditario.org.br/evento/meditacao-na-hora-do-almoco-2/2025-04-10/
LOCATION:CMK Rio de Janeiro\, Rua Conde de Irajá\, 604 – Botafogo\, Rio de Janeiro\, Rio de Janeiro\, 22271-020\, Brasil
CATEGORIES:Meditações Guiadas
ATTACH;FMTTYPE=image/jpeg:https://meditario.org.br/wp-content/uploads/2025/01/site-e-sympla-2025-5.jpg
END:VEVENT
BEGIN:VEVENT
DTSTART;TZID=America/Sao_Paulo:20250410T170000
DTEND;TZID=America/Sao_Paulo:20250410T183000
DTSTAMP:20260424T181511
CREATED:20250407T191622Z
LAST-MODIFIED:20250407T191757Z
UID:10013329-1744304400-1744309800@meditario.org.br
SUMMARY:Joia-que-Satisfaz-os-Desejos ou Joia-Coração
DESCRIPTION:
URL:https://meditario.org.br/evento/joia-que-satisfaz-os-desejos-ou-joia-coracao-10-6/2025-04-10/
LOCATION:CMK Rio de Janeiro\, Rua Conde de Irajá\, 604 – Botafogo\, Rio de Janeiro\, Rio de Janeiro\, 22271-020\, Brasil
CATEGORIES:Preces
ATTACH;FMTTYPE=image/jpeg:https://meditario.org.br/wp-content/uploads/2024/11/JSD-e-JC.jpg
END:VEVENT
BEGIN:VEVENT
DTSTART;TZID=America/Sao_Paulo:20250410T183000
DTEND;TZID=America/Sao_Paulo:20250410T190000
DTSTAMP:20260424T181511
CREATED:20250320T185118Z
LAST-MODIFIED:20250324T232339Z
UID:10012945-1744309800-1744311600@meditario.org.br
SUMMARY:Meditação depois do trabalho
DESCRIPTION:
URL:https://meditario.org.br/evento/meditacao-depois-do-trabalho-4/2025-04-10/
LOCATION:CMK Rio de Janeiro\, Rua Conde de Irajá\, 604 – Botafogo\, Rio de Janeiro\, Rio de Janeiro\, 22271-020\, Brasil
CATEGORIES:Meditações Guiadas
ATTACH;FMTTYPE=image/jpeg:https://meditario.org.br/wp-content/uploads/2025/01/site-e-sympla-2025-5.jpg
END:VEVENT
BEGIN:VEVENT
DTSTART;TZID=America/Sao_Paulo:20250411T070000
DTEND;TZID=America/Sao_Paulo:20250411T083000
DTSTAMP:20260424T181511
CREATED:20250319T180258Z
LAST-MODIFIED:20250324T233209Z
UID:10011788-1744354800-1744360200@meditario.org.br
SUMMARY:Caminho Rápido ao Grande Êxtase
DESCRIPTION:
URL:https://meditario.org.br/evento/caminho-rapido-ao-grande-extase/2025-04-11/
LOCATION:CMK Rio de Janeiro\, Rua Conde de Irajá\, 604 – Botafogo\, Rio de Janeiro\, Rio de Janeiro\, 22271-020\, Brasil
CATEGORIES:Preces
END:VEVENT
BEGIN:VEVENT
DTSTART;TZID=America/Sao_Paulo:20250411T090000
DTEND;TZID=America/Sao_Paulo:20250411T093000
DTSTAMP:20260424T181511
CREATED:20250319T180809Z
LAST-MODIFIED:20250324T233154Z
UID:10012170-1744362000-1744363800@meditario.org.br
SUMMARY:A Confissão Bodhisattva das Quedas Morais
DESCRIPTION:
URL:https://meditario.org.br/evento/a-confissao-bodhisattva-das-quedas-morais/2025-04-11/
LOCATION:CMK Rio de Janeiro\, Rua Conde de Irajá\, 604 – Botafogo\, Rio de Janeiro\, Rio de Janeiro\, 22271-020\, Brasil
CATEGORIES:Preces
ATTACH;FMTTYPE=image/jpeg:https://meditario.org.br/wp-content/uploads/2024/11/Sutra-mahayana.jpg
END:VEVENT
BEGIN:VEVENT
DTSTART;TZID=America/Sao_Paulo:20250411T123000
DTEND;TZID=America/Sao_Paulo:20250411T130000
DTSTAMP:20260424T181511
CREATED:20250320T184741Z
LAST-MODIFIED:20250324T232757Z
UID:10012560-1744374600-1744376400@meditario.org.br
SUMMARY:Meditação na hora do almoço
DESCRIPTION:
URL:https://meditario.org.br/evento/meditacao-na-hora-do-almoco-2/2025-04-11/
LOCATION:CMK Rio de Janeiro\, Rua Conde de Irajá\, 604 – Botafogo\, Rio de Janeiro\, Rio de Janeiro\, 22271-020\, Brasil
CATEGORIES:Meditações Guiadas
ATTACH;FMTTYPE=image/jpeg:https://meditario.org.br/wp-content/uploads/2025/01/site-e-sympla-2025-5.jpg
END:VEVENT
BEGIN:VEVENT
DTSTART;TZID=America/Sao_Paulo:20250411T170000
DTEND;TZID=America/Sao_Paulo:20250411T183000
DTSTAMP:20260424T181511
CREATED:20250321T184257Z
LAST-MODIFIED:20250321T184500Z
UID:10013828-1744390800-1744396200@meditario.org.br
SUMMARY:Joia-que-Satisfaz-os-Desejos ou Joia-Coração
DESCRIPTION:
URL:https://meditario.org.br/evento/joia-que-satisfaz-os-desejos-ou-joia-coracao-12/
LOCATION:CMK Rio de Janeiro\, Rua Conde de Irajá\, 604 – Botafogo\, Rio de Janeiro\, Rio de Janeiro\, 22271-020\, Brasil
CATEGORIES:Preces
ATTACH;FMTTYPE=image/jpeg:https://meditario.org.br/wp-content/uploads/2024/11/JSD-e-JC.jpg
END:VEVENT
BEGIN:VEVENT
DTSTART;TZID=America/Sao_Paulo:20250411T193000
DTEND;TZID=America/Sao_Paulo:20250413T173000
DTSTAMP:20260424T181511
CREATED:20250217T190212Z
LAST-MODIFIED:20250411T145337Z
UID:10011148-1744399800-1744565400@meditario.org.br
SUMMARY:Retiro Nyungnay - Ritual de Purificação
DESCRIPTION:
URL:https://meditario.org.br/evento/retiro-nyungnay-ritual-de-purificacao/
LOCATION:CMK Rio de Janeiro\, Rua Conde de Irajá\, 604 – Botafogo\, Rio de Janeiro\, Rio de Janeiro\, 22271-020\, Brasil
CATEGORIES:Atividades em Destaque,Retiros
ATTACH;FMTTYPE=image/jpeg:https://meditario.org.br/wp-content/uploads/2025/02/Nyungnay-Ritual-de-Purificacao-1.jpg
END:VEVENT
BEGIN:VEVENT
DTSTART;TZID=America/Sao_Paulo:20250412T193000
DTEND;TZID=America/Sao_Paulo:20250412T210000
DTSTAMP:20260424T181511
CREATED:20250321T184757Z
LAST-MODIFIED:20250411T145520Z
UID:10013834-1744486200-1744491600@meditario.org.br
SUMMARY:Joia-que-Satisfaz-os-Desejos com Tsog
DESCRIPTION:
URL:https://meditario.org.br/evento/joia-que-satisfaz-os-desejos-com-tsog/
LOCATION:CMK Rio de Janeiro\, Rua Conde de Irajá\, 604 – Botafogo\, Rio de Janeiro\, Rio de Janeiro\, 22271-020\, Brasil
CATEGORIES:Preces
ATTACH;FMTTYPE=image/jpeg:https://meditario.org.br/wp-content/uploads/2024/11/JSD-e-JC.jpg
END:VEVENT
BEGIN:VEVENT
DTSTART;TZID=America/Sao_Paulo:20250413T193000
DTEND;TZID=America/Sao_Paulo:20250413T210000
DTSTAMP:20260424T181511
CREATED:20250321T185424Z
LAST-MODIFIED:20250321T185424Z
UID:10013836-1744572600-1744578000@meditario.org.br
SUMMARY:Joia-Coração
DESCRIPTION:
URL:https://meditario.org.br/evento/joia-coracao-2/
LOCATION:CMK Rio de Janeiro\, Rua Conde de Irajá\, 604 – Botafogo\, Rio de Janeiro\, Rio de Janeiro\, 22271-020\, Brasil
CATEGORIES:Preces
ATTACH;FMTTYPE=image/jpeg:https://meditario.org.br/wp-content/uploads/2024/11/JSD-e-JC.jpg
END:VEVENT
BEGIN:VEVENT
DTSTART;TZID=America/Sao_Paulo:20250414T070000
DTEND;TZID=America/Sao_Paulo:20250414T083000
DTSTAMP:20260424T181511
CREATED:20250319T180258Z
LAST-MODIFIED:20250324T233209Z
UID:10011789-1744614000-1744619400@meditario.org.br
SUMMARY:Caminho Rápido ao Grande Êxtase
DESCRIPTION:
URL:https://meditario.org.br/evento/caminho-rapido-ao-grande-extase/2025-04-14/
LOCATION:CMK Rio de Janeiro\, Rua Conde de Irajá\, 604 – Botafogo\, Rio de Janeiro\, Rio de Janeiro\, 22271-020\, Brasil
CATEGORIES:Preces
END:VEVENT
BEGIN:VEVENT
DTSTART;TZID=America/Sao_Paulo:20250414T090000
DTEND;TZID=America/Sao_Paulo:20250414T093000
DTSTAMP:20260424T181511
CREATED:20250319T180809Z
LAST-MODIFIED:20250324T233154Z
UID:10012171-1744621200-1744623000@meditario.org.br
SUMMARY:A Confissão Bodhisattva das Quedas Morais
DESCRIPTION:
URL:https://meditario.org.br/evento/a-confissao-bodhisattva-das-quedas-morais/2025-04-14/
LOCATION:CMK Rio de Janeiro\, Rua Conde de Irajá\, 604 – Botafogo\, Rio de Janeiro\, Rio de Janeiro\, 22271-020\, Brasil
CATEGORIES:Preces
ATTACH;FMTTYPE=image/jpeg:https://meditario.org.br/wp-content/uploads/2024/11/Sutra-mahayana.jpg
END:VEVENT
BEGIN:VEVENT
DTSTART;TZID=America/Sao_Paulo:20250414T123000
DTEND;TZID=America/Sao_Paulo:20250414T130000
DTSTAMP:20260424T181511
CREATED:20250320T184741Z
LAST-MODIFIED:20250324T232757Z
UID:10012561-1744633800-1744635600@meditario.org.br
SUMMARY:Meditação na hora do almoço
DESCRIPTION:
URL:https://meditario.org.br/evento/meditacao-na-hora-do-almoco-2/2025-04-14/
LOCATION:CMK Rio de Janeiro\, Rua Conde de Irajá\, 604 – Botafogo\, Rio de Janeiro\, Rio de Janeiro\, 22271-020\, Brasil
CATEGORIES:Meditações Guiadas
ATTACH;FMTTYPE=image/jpeg:https://meditario.org.br/wp-content/uploads/2025/01/site-e-sympla-2025-5.jpg
END:VEVENT
BEGIN:VEVENT
DTSTART;TZID=America/Sao_Paulo:20250414T170000
DTEND;TZID=America/Sao_Paulo:20250414T183000
DTSTAMP:20260424T181511
CREATED:20250407T191622Z
LAST-MODIFIED:20250407T191757Z
UID:10013331-1744650000-1744655400@meditario.org.br
SUMMARY:Joia-que-Satisfaz-os-Desejos ou Joia-Coração
DESCRIPTION:
URL:https://meditario.org.br/evento/joia-que-satisfaz-os-desejos-ou-joia-coracao-10-6/2025-04-14/
LOCATION:CMK Rio de Janeiro\, Rua Conde de Irajá\, 604 – Botafogo\, Rio de Janeiro\, Rio de Janeiro\, 22271-020\, Brasil
CATEGORIES:Preces
ATTACH;FMTTYPE=image/jpeg:https://meditario.org.br/wp-content/uploads/2024/11/JSD-e-JC.jpg
END:VEVENT
BEGIN:VEVENT
DTSTART;TZID=America/Sao_Paulo:20250414T183000
DTEND;TZID=America/Sao_Paulo:20250414T190000
DTSTAMP:20260424T181511
CREATED:20250320T185118Z
LAST-MODIFIED:20250324T232339Z
UID:10012946-1744655400-1744657200@meditario.org.br
SUMMARY:Meditação depois do trabalho
DESCRIPTION:
URL:https://meditario.org.br/evento/meditacao-depois-do-trabalho-4/2025-04-14/
LOCATION:CMK Rio de Janeiro\, Rua Conde de Irajá\, 604 – Botafogo\, Rio de Janeiro\, Rio de Janeiro\, 22271-020\, Brasil
CATEGORIES:Meditações Guiadas
ATTACH;FMTTYPE=image/jpeg:https://meditario.org.br/wp-content/uploads/2025/01/site-e-sympla-2025-5.jpg
END:VEVENT
BEGIN:VEVENT
DTSTART;TZID=America/Sao_Paulo:20250414T193000
DTEND;TZID=America/Sao_Paulo:20250414T213000
DTSTAMP:20260424T181511
CREATED:20250320T201317Z
LAST-MODIFIED:20250324T233434Z
UID:10013717-1744659000-1744666200@meditario.org.br
SUMMARY:Programa de Formação de Professores
DESCRIPTION:
URL:https://meditario.org.br/evento/programa-de-formacao-de-professores-2/2025-04-14/
LOCATION:CMK Rio de Janeiro\, Rua Conde de Irajá\, 604 – Botafogo\, Rio de Janeiro\, Rio de Janeiro\, 22271-020\, Brasil
CATEGORIES:Estudo Aprofundado
ATTACH;FMTTYPE=image/jpeg:https://meditario.org.br/wp-content/uploads/2024/11/pfp.jpg
END:VEVENT
BEGIN:VEVENT
DTSTART;TZID=America/Sao_Paulo:20250415T070000
DTEND;TZID=America/Sao_Paulo:20250415T083000
DTSTAMP:20260424T181511
CREATED:20250327T210945Z
LAST-MODIFIED:20250327T210945Z
UID:10013850-1744700400-1744705800@meditario.org.br
SUMMARY:Caminho Rápido ao Grande Êxtase
DESCRIPTION:
URL:https://meditario.org.br/evento/caminho-rapido-ao-grande-extase-6/
LOCATION:CMK Rio de Janeiro\, Rua Conde de Irajá\, 604 – Botafogo\, Rio de Janeiro\, Rio de Janeiro\, 22271-020\, Brasil
CATEGORIES:Preces
ATTACH;FMTTYPE=image/jpeg:https://meditario.org.br/wp-content/uploads/2024/11/caminho-rapido.jpg
END:VEVENT
END:VCALENDAR