BEGIN:VCALENDAR
VERSION:2.0
PRODID:-//Centro de Meditação Kadampa Rio de Janeiro - ECPv6.15.20//NONSGML v1.0//EN
CALSCALE:GREGORIAN
METHOD:PUBLISH
X-WR-CALNAME:Centro de Meditação Kadampa Rio de Janeiro
X-ORIGINAL-URL:https://meditario.org.br
X-WR-CALDESC:Eventos para Centro de Meditação Kadampa Rio de Janeiro
REFRESH-INTERVAL;VALUE=DURATION:PT1H
X-Robots-Tag:noindex
X-PUBLISHED-TTL:PT1H
BEGIN:VTIMEZONE
TZID:America/Sao_Paulo
BEGIN:STANDARD
TZOFFSETFROM:-0300
TZOFFSETTO:-0300
TZNAME:-03
DTSTART:20240101T000000
END:STANDARD
END:VTIMEZONE
BEGIN:VEVENT
DTSTART;TZID=America/Sao_Paulo:20250518T100000
DTEND;TZID=America/Sao_Paulo:20250518T110000
DTSTAMP:20260424T163929
CREATED:20250407T224138Z
LAST-MODIFIED:20250407T224138Z
UID:10014160-1747562400-1747566000@meditario.org.br
SUMMARY:Preces pela Paz Mundial
DESCRIPTION:
URL:https://meditario.org.br/evento/preces-pela-paz-mundial-3/2025-05-18/
LOCATION:CMK Rio de Janeiro\, Rua Conde de Irajá\, 604 – Botafogo\, Rio de Janeiro\, Rio de Janeiro\, 22271-020\, Brasil
END:VEVENT
BEGIN:VEVENT
DTSTART;TZID=America/Sao_Paulo:20250518T150000
DTEND;TZID=America/Sao_Paulo:20250518T163000
DTSTAMP:20260424T163929
CREATED:20250407T224316Z
LAST-MODIFIED:20250407T224316Z
UID:10014163-1747580400-1747585800@meditario.org.br
SUMMARY:Joia-que-Satisfaz-os-Desejos ou Joia-Coração
DESCRIPTION:
URL:https://meditario.org.br/evento/joia-que-satisfaz-os-desejos-ou-joia-coracao-21/2025-05-18/
LOCATION:CMK Rio de Janeiro\, Rua Conde de Irajá\, 604 – Botafogo\, Rio de Janeiro\, Rio de Janeiro\, 22271-020\, Brasil
CATEGORIES:Preces
ATTACH;FMTTYPE=image/jpeg:https://meditario.org.br/wp-content/uploads/2024/11/JSD-e-JC.jpg
END:VEVENT
BEGIN:VEVENT
DTSTART;TZID=America/Sao_Paulo:20250518T170000
DTEND;TZID=America/Sao_Paulo:20250518T183000
DTSTAMP:20260424T163929
CREATED:20250318T210831Z
LAST-MODIFIED:20250321T210133Z
UID:10011172-1747587600-1747593000@meditario.org.br
SUMMARY:Aula com Meditação
DESCRIPTION:
URL:https://meditario.org.br/evento/aula-com-meditacao-8/
LOCATION:CMK Rio de Janeiro\, Rua Conde de Irajá\, 604 – Botafogo\, Rio de Janeiro\, Rio de Janeiro\, 22271-020\, Brasil
CATEGORIES:Aulas com Meditação,PGs de Domingo Maio Junho
ATTACH;FMTTYPE=image/jpeg:https://meditario.org.br/wp-content/uploads/2025/03/78.jpg
END:VEVENT
BEGIN:VEVENT
DTSTART;TZID=America/Sao_Paulo:20250519T123000
DTEND;TZID=America/Sao_Paulo:20250519T130000
DTSTAMP:20260424T163929
CREATED:20250407T214040Z
LAST-MODIFIED:20250407T214325Z
UID:10014121-1747657800-1747659600@meditario.org.br
SUMMARY:Meditação na hora do almoço
DESCRIPTION:
URL:https://meditario.org.br/evento/meditacao-na-hora-do-almoco-3/2025-05-19/
LOCATION:CMK Rio de Janeiro\, Rua Conde de Irajá\, 604 – Botafogo\, Rio de Janeiro\, Rio de Janeiro\, 22271-020\, Brasil
CATEGORIES:Meditação na Hora do Almoço
ATTACH;FMTTYPE=image/jpeg:https://meditario.org.br/wp-content/uploads/2024/11/medita-em-30.jpg
END:VEVENT
BEGIN:VEVENT
DTSTART;TZID=America/Sao_Paulo:20250519T170000
DTEND;TZID=America/Sao_Paulo:20250519T183000
DTSTAMP:20260424T163929
CREATED:20250407T225420Z
LAST-MODIFIED:20250508T174200Z
UID:10014222-1747674000-1747679400@meditario.org.br
SUMMARY:Joia-que-Satisfaz-os-Desejos ou Joia-Coração
DESCRIPTION:
URL:https://meditario.org.br/evento/joia-que-satisfaz-os-desejos-ou-joia-coracao-22/2025-05-19/
LOCATION:CMK Rio de Janeiro\, Rua Conde de Irajá\, 604 – Botafogo\, Rio de Janeiro\, Rio de Janeiro\, 22271-020\, Brasil
CATEGORIES:Preces
ATTACH;FMTTYPE=image/jpeg:https://meditario.org.br/wp-content/uploads/2024/11/JSD-e-JC.jpg
END:VEVENT
BEGIN:VEVENT
DTSTART;TZID=America/Sao_Paulo:20250519T183000
DTEND;TZID=America/Sao_Paulo:20250519T190000
DTSTAMP:20260424T163929
CREATED:20250407T214251Z
LAST-MODIFIED:20250407T230723Z
UID:10014180-1747679400-1747681200@meditario.org.br
SUMMARY:Meditação depois do trabalho
DESCRIPTION:
URL:https://meditario.org.br/evento/meditacao-depois-do-trabalho-5/2025-05-19/
LOCATION:CMK Rio de Janeiro\, Rua Conde de Irajá\, 604 – Botafogo\, Rio de Janeiro\, Rio de Janeiro\, 22271-020\, Brasil
CATEGORIES:Meditação depois do trabalho
ATTACH;FMTTYPE=image/jpeg:https://meditario.org.br/wp-content/uploads/2024/11/medita-em-30.jpg
END:VEVENT
BEGIN:VEVENT
DTSTART;TZID=America/Sao_Paulo:20250519T193000
DTEND;TZID=America/Sao_Paulo:20250519T213000
DTSTAMP:20260424T163929
CREATED:20250407T215845Z
LAST-MODIFIED:20250407T215845Z
UID:10014154-1747683000-1747690200@meditario.org.br
SUMMARY:Programa de Formação de Professores
DESCRIPTION:
URL:https://meditario.org.br/evento/programa-de-formacao-de-professores-3/2025-05-19/
LOCATION:CMK Rio de Janeiro\, Rua Conde de Irajá\, 604 – Botafogo\, Rio de Janeiro\, Rio de Janeiro\, 22271-020\, Brasil
CATEGORIES:Estudo Aprofundado
ATTACH;FMTTYPE=image/jpeg:https://meditario.org.br/wp-content/uploads/2024/11/pfp.jpg
END:VEVENT
BEGIN:VEVENT
DTSTART;TZID=America/Sao_Paulo:20250520T104500
DTEND;TZID=America/Sao_Paulo:20250520T120000
DTSTAMP:20260424T163929
CREATED:20250411T183118Z
LAST-MODIFIED:20250620T144748Z
UID:10014190-1747737900-1747742400@meditario.org.br
SUMMARY:Aula com Meditação
DESCRIPTION:
URL:https://meditario.org.br/evento/meditacoes-de-budismo-moderno-24/
LOCATION:CMK Rio de Janeiro\, Rua Conde de Irajá\, 604 – Botafogo\, Rio de Janeiro\, Rio de Janeiro\, 22271-020\, Brasil
CATEGORIES:Aulas com Meditação,PGs de Terça Junho Julho Agosto
ATTACH;FMTTYPE=image/jpeg:https://meditario.org.br/wp-content/uploads/2025/04/Quem-foi-Buda.jpg
END:VEVENT
BEGIN:VEVENT
DTSTART;TZID=America/Sao_Paulo:20250520T123000
DTEND;TZID=America/Sao_Paulo:20250520T130000
DTSTAMP:20260424T163929
CREATED:20250407T214040Z
LAST-MODIFIED:20250407T214325Z
UID:10014122-1747744200-1747746000@meditario.org.br
SUMMARY:Meditação na hora do almoço
DESCRIPTION:
URL:https://meditario.org.br/evento/meditacao-na-hora-do-almoco-3/2025-05-20/
LOCATION:CMK Rio de Janeiro\, Rua Conde de Irajá\, 604 – Botafogo\, Rio de Janeiro\, Rio de Janeiro\, 22271-020\, Brasil
CATEGORIES:Meditação na Hora do Almoço
ATTACH;FMTTYPE=image/jpeg:https://meditario.org.br/wp-content/uploads/2024/11/medita-em-30.jpg
END:VEVENT
BEGIN:VEVENT
DTSTART;TZID=America/Sao_Paulo:20250520T170000
DTEND;TZID=America/Sao_Paulo:20250520T183000
DTSTAMP:20260424T163929
CREATED:20250407T225420Z
LAST-MODIFIED:20250508T174200Z
UID:10014223-1747760400-1747765800@meditario.org.br
SUMMARY:Joia-que-Satisfaz-os-Desejos ou Joia-Coração
DESCRIPTION:
URL:https://meditario.org.br/evento/joia-que-satisfaz-os-desejos-ou-joia-coracao-22/2025-05-20/
LOCATION:CMK Rio de Janeiro\, Rua Conde de Irajá\, 604 – Botafogo\, Rio de Janeiro\, Rio de Janeiro\, 22271-020\, Brasil
CATEGORIES:Preces
ATTACH;FMTTYPE=image/jpeg:https://meditario.org.br/wp-content/uploads/2024/11/JSD-e-JC.jpg
END:VEVENT
BEGIN:VEVENT
DTSTART;TZID=America/Sao_Paulo:20250520T183000
DTEND;TZID=America/Sao_Paulo:20250520T190000
DTSTAMP:20260424T163929
CREATED:20250407T214251Z
LAST-MODIFIED:20250407T230723Z
UID:10014181-1747765800-1747767600@meditario.org.br
SUMMARY:Meditação depois do trabalho
DESCRIPTION:
URL:https://meditario.org.br/evento/meditacao-depois-do-trabalho-5/2025-05-20/
LOCATION:CMK Rio de Janeiro\, Rua Conde de Irajá\, 604 – Botafogo\, Rio de Janeiro\, Rio de Janeiro\, 22271-020\, Brasil
CATEGORIES:Meditação depois do trabalho
ATTACH;FMTTYPE=image/jpeg:https://meditario.org.br/wp-content/uploads/2024/11/medita-em-30.jpg
END:VEVENT
BEGIN:VEVENT
DTSTART;TZID=America/Sao_Paulo:20250520T193000
DTEND;TZID=America/Sao_Paulo:20250520T213000
DTSTAMP:20260424T163929
CREATED:20250407T224624Z
LAST-MODIFIED:20250407T224624Z
UID:10014166-1747769400-1747776600@meditario.org.br
SUMMARY:PF - Novo Oito Passos para a Felicidade
DESCRIPTION:
URL:https://meditario.org.br/evento/pf-novo-oito-passos-para-a-felicidade-4/2025-05-20/
LOCATION:CMK Rio de Janeiro\, Rua Conde de Irajá\, 604 – Botafogo\, Rio de Janeiro\, Rio de Janeiro\, 22271-020\, Brasil
CATEGORIES:Estudo Aprofundado
ATTACH;FMTTYPE=image/jpeg:https://meditario.org.br/wp-content/uploads/2024/11/pf-noppf.jpg
END:VEVENT
BEGIN:VEVENT
DTSTART;TZID=America/Sao_Paulo:20250521T123000
DTEND;TZID=America/Sao_Paulo:20250521T130000
DTSTAMP:20260424T163929
CREATED:20250407T214040Z
LAST-MODIFIED:20250407T214325Z
UID:10014123-1747830600-1747832400@meditario.org.br
SUMMARY:Meditação na hora do almoço
DESCRIPTION:
URL:https://meditario.org.br/evento/meditacao-na-hora-do-almoco-3/2025-05-21/
LOCATION:CMK Rio de Janeiro\, Rua Conde de Irajá\, 604 – Botafogo\, Rio de Janeiro\, Rio de Janeiro\, 22271-020\, Brasil
CATEGORIES:Meditação na Hora do Almoço
ATTACH;FMTTYPE=image/jpeg:https://meditario.org.br/wp-content/uploads/2024/11/medita-em-30.jpg
END:VEVENT
BEGIN:VEVENT
DTSTART;TZID=America/Sao_Paulo:20250521T170000
DTEND;TZID=America/Sao_Paulo:20250521T183000
DTSTAMP:20260424T163929
CREATED:20250407T225420Z
LAST-MODIFIED:20250508T174200Z
UID:10014224-1747846800-1747852200@meditario.org.br
SUMMARY:Joia-que-Satisfaz-os-Desejos ou Joia-Coração
DESCRIPTION:
URL:https://meditario.org.br/evento/joia-que-satisfaz-os-desejos-ou-joia-coracao-22/2025-05-21/
LOCATION:CMK Rio de Janeiro\, Rua Conde de Irajá\, 604 – Botafogo\, Rio de Janeiro\, Rio de Janeiro\, 22271-020\, Brasil
CATEGORIES:Preces
ATTACH;FMTTYPE=image/jpeg:https://meditario.org.br/wp-content/uploads/2024/11/JSD-e-JC.jpg
END:VEVENT
BEGIN:VEVENT
DTSTART;TZID=America/Sao_Paulo:20250521T183000
DTEND;TZID=America/Sao_Paulo:20250521T190000
DTSTAMP:20260424T163929
CREATED:20250407T214251Z
LAST-MODIFIED:20250407T230723Z
UID:10014182-1747852200-1747854000@meditario.org.br
SUMMARY:Meditação depois do trabalho
DESCRIPTION:
URL:https://meditario.org.br/evento/meditacao-depois-do-trabalho-5/2025-05-21/
LOCATION:CMK Rio de Janeiro\, Rua Conde de Irajá\, 604 – Botafogo\, Rio de Janeiro\, Rio de Janeiro\, 22271-020\, Brasil
CATEGORIES:Meditação depois do trabalho
ATTACH;FMTTYPE=image/jpeg:https://meditario.org.br/wp-content/uploads/2024/11/medita-em-30.jpg
END:VEVENT
BEGIN:VEVENT
DTSTART;TZID=America/Sao_Paulo:20250521T193000
DTEND;TZID=America/Sao_Paulo:20250521T204500
DTSTAMP:20260424T163929
CREATED:20250315T113811Z
LAST-MODIFIED:20250321T221720Z
UID:10011164-1747855800-1747860300@meditario.org.br
SUMMARY:Meditações de Budismo Moderno
DESCRIPTION:
URL:https://meditario.org.br/evento/meditacoes-de-budismo-moderno-21/
LOCATION:CMK Rio de Janeiro\, Rua Conde de Irajá\, 604 – Botafogo\, Rio de Janeiro\, Rio de Janeiro\, 22271-020\, Brasil
CATEGORIES:PGs de Quarta
ATTACH;FMTTYPE=image/jpeg:https://meditario.org.br/wp-content/uploads/2025/03/WhatsApp-Image-2025-03-14-at-12.07.21.jpeg
END:VEVENT
BEGIN:VEVENT
DTSTART;TZID=America/Sao_Paulo:20250522T123000
DTEND;TZID=America/Sao_Paulo:20250522T130000
DTSTAMP:20260424T163929
CREATED:20250407T214040Z
LAST-MODIFIED:20250407T214325Z
UID:10014124-1747917000-1747918800@meditario.org.br
SUMMARY:Meditação na hora do almoço
DESCRIPTION:
URL:https://meditario.org.br/evento/meditacao-na-hora-do-almoco-3/2025-05-22/
LOCATION:CMK Rio de Janeiro\, Rua Conde de Irajá\, 604 – Botafogo\, Rio de Janeiro\, Rio de Janeiro\, 22271-020\, Brasil
CATEGORIES:Meditação na Hora do Almoço
ATTACH;FMTTYPE=image/jpeg:https://meditario.org.br/wp-content/uploads/2024/11/medita-em-30.jpg
END:VEVENT
BEGIN:VEVENT
DTSTART;TZID=America/Sao_Paulo:20250522T170000
DTEND;TZID=America/Sao_Paulo:20250522T183000
DTSTAMP:20260424T163929
CREATED:20250407T225420Z
LAST-MODIFIED:20250508T174200Z
UID:10014225-1747933200-1747938600@meditario.org.br
SUMMARY:Joia-que-Satisfaz-os-Desejos ou Joia-Coração
DESCRIPTION:
URL:https://meditario.org.br/evento/joia-que-satisfaz-os-desejos-ou-joia-coracao-22/2025-05-22/
LOCATION:CMK Rio de Janeiro\, Rua Conde de Irajá\, 604 – Botafogo\, Rio de Janeiro\, Rio de Janeiro\, 22271-020\, Brasil
CATEGORIES:Preces
ATTACH;FMTTYPE=image/jpeg:https://meditario.org.br/wp-content/uploads/2024/11/JSD-e-JC.jpg
END:VEVENT
BEGIN:VEVENT
DTSTART;TZID=America/Sao_Paulo:20250522T183000
DTEND;TZID=America/Sao_Paulo:20250522T190000
DTSTAMP:20260424T163929
CREATED:20250407T214251Z
LAST-MODIFIED:20250407T230723Z
UID:10014183-1747938600-1747940400@meditario.org.br
SUMMARY:Meditação depois do trabalho
DESCRIPTION:
URL:https://meditario.org.br/evento/meditacao-depois-do-trabalho-5/2025-05-22/
LOCATION:CMK Rio de Janeiro\, Rua Conde de Irajá\, 604 – Botafogo\, Rio de Janeiro\, Rio de Janeiro\, 22271-020\, Brasil
CATEGORIES:Meditação depois do trabalho
ATTACH;FMTTYPE=image/jpeg:https://meditario.org.br/wp-content/uploads/2024/11/medita-em-30.jpg
END:VEVENT
BEGIN:VEVENT
DTSTART;TZID=America/Sao_Paulo:20250522T190000
DTEND;TZID=America/Sao_Paulo:20250522T201500
DTSTAMP:20260424T163929
CREATED:20250510T212754Z
LAST-MODIFIED:20250513T192043Z
UID:10014758-1747940400-1747944900@meditario.org.br
SUMMARY:Aula com Meditação em Vila Velha
DESCRIPTION:
URL:https://meditario.org.br/evento/meditacao-para-fazer-progresso-no-caminho-a-libertacao-o-que-devemos-abandonar/
LOCATION:Marzen\, R. Vinícius Tôrres\, 635\, vila velha\, ES\, 29.100430\, Brazil
CATEGORIES:Atividades Vila Velha,Vila Velha
ATTACH;FMTTYPE=image/png:https://meditario.org.br/wp-content/uploads/2025/05/Aula-Rafa-maio-Site-e-Sympla.png
END:VEVENT
BEGIN:VEVENT
DTSTART;TZID=America/Sao_Paulo:20250523T123000
DTEND;TZID=America/Sao_Paulo:20250523T130000
DTSTAMP:20260424T163929
CREATED:20250407T214040Z
LAST-MODIFIED:20250407T214325Z
UID:10014125-1748003400-1748005200@meditario.org.br
SUMMARY:Meditação na hora do almoço
DESCRIPTION:
URL:https://meditario.org.br/evento/meditacao-na-hora-do-almoco-3/2025-05-23/
LOCATION:CMK Rio de Janeiro\, Rua Conde de Irajá\, 604 – Botafogo\, Rio de Janeiro\, Rio de Janeiro\, 22271-020\, Brasil
CATEGORIES:Meditação na Hora do Almoço
ATTACH;FMTTYPE=image/jpeg:https://meditario.org.br/wp-content/uploads/2024/11/medita-em-30.jpg
END:VEVENT
BEGIN:VEVENT
DTSTART;TZID=America/Sao_Paulo:20250523T193000
DTEND;TZID=America/Sao_Paulo:20250523T210000
DTSTAMP:20260424T163929
CREATED:20250415T200020Z
LAST-MODIFIED:20250620T161824Z
UID:10014214-1748028600-1748034000@meditario.org.br
SUMMARY:Joia-que-Satisfaz-os-Desejos com Tsog
DESCRIPTION:
URL:https://meditario.org.br/evento/joia-que-satisfaz-os-desejos-ou-joia-coracao-20/2025-05-23/
LOCATION:CMK Rio de Janeiro\, Rua Conde de Irajá\, 604 – Botafogo\, Rio de Janeiro\, Rio de Janeiro\, 22271-020\, Brasil
CATEGORIES:Preces
ATTACH;FMTTYPE=image/jpeg:https://meditario.org.br/wp-content/uploads/2024/11/JSD-e-JC.jpg
END:VEVENT
BEGIN:VEVENT
DTSTART;TZID=America/Sao_Paulo:20250524T130000
DTEND;TZID=America/Sao_Paulo:20250524T150000
DTSTAMP:20260424T163930
CREATED:20250316T122945Z
LAST-MODIFIED:20250317T215033Z
UID:10011169-1748091600-1748098800@meditario.org.br
SUMMARY:Evento especial no CMK Rio
DESCRIPTION:
URL:https://meditario.org.br/evento/evento-especial-o-spring-festival-online-no-cmk-rio/
LOCATION:CMK Rio de Janeiro\, Rua Conde de Irajá\, 604 – Botafogo\, Rio de Janeiro\, Rio de Janeiro\, 22271-020\, Brasil
CATEGORIES:Atividades Especiais
ATTACH;FMTTYPE=image/jpeg:https://meditario.org.br/wp-content/uploads/2025/03/Spring-Festival-1.jpg
END:VEVENT
BEGIN:VEVENT
DTSTART;TZID=America/Sao_Paulo:20250525T170000
DTEND;TZID=America/Sao_Paulo:20250525T183000
DTSTAMP:20260424T163930
CREATED:20250318T221640Z
LAST-MODIFIED:20250321T210205Z
UID:10011173-1748192400-1748197800@meditario.org.br
SUMMARY:Aula com Meditação
DESCRIPTION:
URL:https://meditario.org.br/evento/aula-com-meditacao-9/
LOCATION:CMK Rio de Janeiro\, Rua Conde de Irajá\, 604 – Botafogo\, Rio de Janeiro\, Rio de Janeiro\, 22271-020\, Brasil
CATEGORIES:Aulas com Meditação,PGs de Domingo Maio Junho
ATTACH;FMTTYPE=image/jpeg:https://meditario.org.br/wp-content/uploads/2025/03/79.jpg
END:VEVENT
BEGIN:VEVENT
DTSTART;TZID=America/Sao_Paulo:20250526T123000
DTEND;TZID=America/Sao_Paulo:20250526T130000
DTSTAMP:20260424T163930
CREATED:20250407T214040Z
LAST-MODIFIED:20250407T214325Z
UID:10014126-1748262600-1748264400@meditario.org.br
SUMMARY:Meditação na hora do almoço
DESCRIPTION:
URL:https://meditario.org.br/evento/meditacao-na-hora-do-almoco-3/2025-05-26/
LOCATION:CMK Rio de Janeiro\, Rua Conde de Irajá\, 604 – Botafogo\, Rio de Janeiro\, Rio de Janeiro\, 22271-020\, Brasil
CATEGORIES:Meditação na Hora do Almoço
ATTACH;FMTTYPE=image/jpeg:https://meditario.org.br/wp-content/uploads/2024/11/medita-em-30.jpg
END:VEVENT
BEGIN:VEVENT
DTSTART;TZID=America/Sao_Paulo:20250526T170000
DTEND;TZID=America/Sao_Paulo:20250526T183000
DTSTAMP:20260424T163930
CREATED:20250407T225420Z
LAST-MODIFIED:20250508T174200Z
UID:10014226-1748278800-1748284200@meditario.org.br
SUMMARY:Joia-que-Satisfaz-os-Desejos ou Joia-Coração
DESCRIPTION:
URL:https://meditario.org.br/evento/joia-que-satisfaz-os-desejos-ou-joia-coracao-22/2025-05-26/
LOCATION:CMK Rio de Janeiro\, Rua Conde de Irajá\, 604 – Botafogo\, Rio de Janeiro\, Rio de Janeiro\, 22271-020\, Brasil
CATEGORIES:Preces
ATTACH;FMTTYPE=image/jpeg:https://meditario.org.br/wp-content/uploads/2024/11/JSD-e-JC.jpg
END:VEVENT
BEGIN:VEVENT
DTSTART;TZID=America/Sao_Paulo:20250526T183000
DTEND;TZID=America/Sao_Paulo:20250526T190000
DTSTAMP:20260424T163930
CREATED:20250407T214251Z
LAST-MODIFIED:20250407T230723Z
UID:10014184-1748284200-1748286000@meditario.org.br
SUMMARY:Meditação depois do trabalho
DESCRIPTION:
URL:https://meditario.org.br/evento/meditacao-depois-do-trabalho-5/2025-05-26/
LOCATION:CMK Rio de Janeiro\, Rua Conde de Irajá\, 604 – Botafogo\, Rio de Janeiro\, Rio de Janeiro\, 22271-020\, Brasil
CATEGORIES:Meditação depois do trabalho
ATTACH;FMTTYPE=image/jpeg:https://meditario.org.br/wp-content/uploads/2024/11/medita-em-30.jpg
END:VEVENT
BEGIN:VEVENT
DTSTART;TZID=America/Sao_Paulo:20250527T104500
DTEND;TZID=America/Sao_Paulo:20250527T120000
DTSTAMP:20260424T163930
CREATED:20250411T192912Z
LAST-MODIFIED:20250620T144734Z
UID:10014191-1748342700-1748347200@meditario.org.br
SUMMARY:Aula com Meditação
DESCRIPTION:
URL:https://meditario.org.br/evento/meditacoes-de-budismo-moderno-23/
LOCATION:CMK Rio de Janeiro\, Rua Conde de Irajá\, 604 – Botafogo\, Rio de Janeiro\, Rio de Janeiro\, 22271-020\, Brasil
CATEGORIES:Aulas com Meditação,PGs de Terça Junho Julho Agosto
ATTACH;FMTTYPE=image/jpeg:https://meditario.org.br/wp-content/uploads/2025/04/Entender-a-mente.jpg
END:VEVENT
BEGIN:VEVENT
DTSTART;TZID=America/Sao_Paulo:20250527T123000
DTEND;TZID=America/Sao_Paulo:20250527T130000
DTSTAMP:20260424T163930
CREATED:20250407T214040Z
LAST-MODIFIED:20250407T214325Z
UID:10014127-1748349000-1748350800@meditario.org.br
SUMMARY:Meditação na hora do almoço
DESCRIPTION:
URL:https://meditario.org.br/evento/meditacao-na-hora-do-almoco-3/2025-05-27/
LOCATION:CMK Rio de Janeiro\, Rua Conde de Irajá\, 604 – Botafogo\, Rio de Janeiro\, Rio de Janeiro\, 22271-020\, Brasil
CATEGORIES:Meditação na Hora do Almoço
ATTACH;FMTTYPE=image/jpeg:https://meditario.org.br/wp-content/uploads/2024/11/medita-em-30.jpg
END:VEVENT
BEGIN:VEVENT
DTSTART;TZID=America/Sao_Paulo:20250527T170000
DTEND;TZID=America/Sao_Paulo:20250527T183000
DTSTAMP:20260424T163930
CREATED:20250407T225420Z
LAST-MODIFIED:20250508T174200Z
UID:10014227-1748365200-1748370600@meditario.org.br
SUMMARY:Joia-que-Satisfaz-os-Desejos ou Joia-Coração
DESCRIPTION:
URL:https://meditario.org.br/evento/joia-que-satisfaz-os-desejos-ou-joia-coracao-22/2025-05-27/
LOCATION:CMK Rio de Janeiro\, Rua Conde de Irajá\, 604 – Botafogo\, Rio de Janeiro\, Rio de Janeiro\, 22271-020\, Brasil
CATEGORIES:Preces
ATTACH;FMTTYPE=image/jpeg:https://meditario.org.br/wp-content/uploads/2024/11/JSD-e-JC.jpg
END:VEVENT
END:VCALENDAR