BEGIN:VCALENDAR
VERSION:2.0
PRODID:-//Centro de Meditação Kadampa Rio de Janeiro - ECPv6.15.20//NONSGML v1.0//EN
CALSCALE:GREGORIAN
METHOD:PUBLISH
X-WR-CALNAME:Centro de Meditação Kadampa Rio de Janeiro
X-ORIGINAL-URL:https://meditario.org.br
X-WR-CALDESC:Eventos para Centro de Meditação Kadampa Rio de Janeiro
REFRESH-INTERVAL;VALUE=DURATION:PT1H
X-Robots-Tag:noindex
X-PUBLISHED-TTL:PT1H
BEGIN:VTIMEZONE
TZID:America/Sao_Paulo
BEGIN:STANDARD
TZOFFSETFROM:-0300
TZOFFSETTO:-0300
TZNAME:-03
DTSTART:20240101T000000
END:STANDARD
END:VTIMEZONE
BEGIN:VEVENT
DTSTART;TZID=America/Sao_Paulo:20250605T070000
DTEND;TZID=America/Sao_Paulo:20250605T083000
DTSTAMP:20260424T150055
CREATED:20250528T141334Z
LAST-MODIFIED:20250528T143801Z
UID:10014773-1749106800-1749112200@meditario.org.br
SUMMARY:Caminho Rápido ao Grande Êxtase
DESCRIPTION:
URL:https://meditario.org.br/evento/caminho-rapido-ao-grande-extase-2/2025-06-05/
LOCATION:CMK Rio de Janeiro\, Rua Conde de Irajá\, 604 – Botafogo\, Rio de Janeiro\, Rio de Janeiro\, 22271-020\, Brasil
CATEGORIES:Preces
ATTACH;FMTTYPE=image/jpeg:https://meditario.org.br/wp-content/uploads/2024/11/caminho-rapido.jpg
END:VEVENT
BEGIN:VEVENT
DTSTART;TZID=America/Sao_Paulo:20250605T090000
DTEND;TZID=America/Sao_Paulo:20250605T093000
DTSTAMP:20260424T150055
CREATED:20250528T143508Z
LAST-MODIFIED:20250528T143508Z
UID:10015001-1749114000-1749115800@meditario.org.br
SUMMARY:A Confissão Bodhisattva das Quedas Morais
DESCRIPTION:
URL:https://meditario.org.br/evento/a-confissao-bodhisattva-das-quedas-morais-5/2025-06-05/
LOCATION:CMK Rio de Janeiro\, Rua Conde de Irajá\, 604 – Botafogo\, Rio de Janeiro\, Rio de Janeiro\, 22271-020\, Brasil
CATEGORIES:Preces
ATTACH;FMTTYPE=image/jpeg:https://meditario.org.br/wp-content/uploads/2024/11/Sutra-mahayana.jpg
END:VEVENT
BEGIN:VEVENT
DTSTART;TZID=America/Sao_Paulo:20250605T123000
DTEND;TZID=America/Sao_Paulo:20250605T130000
DTSTAMP:20260424T150055
CREATED:20250528T180136Z
LAST-MODIFIED:20250528T180136Z
UID:10015059-1749126600-1749128400@meditario.org.br
SUMMARY:Meditação na Hora do Almoço
DESCRIPTION:
URL:https://meditario.org.br/evento/meditacao-na-hora-do-almoco-4/2025-06-05/
LOCATION:CMK Rio de Janeiro\, Rua Conde de Irajá\, 604 – Botafogo\, Rio de Janeiro\, Rio de Janeiro\, 22271-020\, Brasil
CATEGORIES:Meditação na Hora do Almoço
ATTACH;FMTTYPE=image/jpeg:https://meditario.org.br/wp-content/uploads/2024/11/medita-em-30.jpg
END:VEVENT
BEGIN:VEVENT
DTSTART;TZID=America/Sao_Paulo:20250605T170000
DTEND;TZID=America/Sao_Paulo:20250605T183000
DTSTAMP:20260424T150055
CREATED:20250528T152744Z
LAST-MODIFIED:20250528T152744Z
UID:10015018-1749142800-1749148200@meditario.org.br
SUMMARY:Joia-que-Satisfaz-os-Desejos ou Joia-Coração
DESCRIPTION:
URL:https://meditario.org.br/evento/joia-que-satisfaz-os-desejos-ou-joia-coracao-19/2025-06-05/
LOCATION:CMK Rio de Janeiro\, Rua Conde de Irajá\, 604 – Botafogo\, Rio de Janeiro\, Rio de Janeiro\, 22271-020\, Brasil
CATEGORIES:Preces
ATTACH;FMTTYPE=image/jpeg:https://meditario.org.br/wp-content/uploads/2024/11/JSD-e-JC.jpg
END:VEVENT
BEGIN:VEVENT
DTSTART;TZID=America/Sao_Paulo:20250605T183000
DTEND;TZID=America/Sao_Paulo:20250605T190000
DTSTAMP:20260424T150055
CREATED:20250528T180857Z
LAST-MODIFIED:20250528T180857Z
UID:10015078-1749148200-1749150000@meditario.org.br
SUMMARY:Meditação Depois do Trabalho
DESCRIPTION:
URL:https://meditario.org.br/evento/meditacao-depois-do-trabalho-6/2025-06-05/
LOCATION:CMK Rio de Janeiro\, Rua Conde de Irajá\, 604 – Botafogo\, Rio de Janeiro\, Rio de Janeiro\, 22271-020\, Brasil
CATEGORIES:Meditação depois do trabalho
ATTACH;FMTTYPE=image/jpeg:https://meditario.org.br/wp-content/uploads/2024/11/medita-em-30.jpg
END:VEVENT
BEGIN:VEVENT
DTSTART;TZID=America/Sao_Paulo:20250605T193000
DTEND;TZID=America/Sao_Paulo:20250605T213000
DTSTAMP:20260424T150055
CREATED:20250528T160256Z
LAST-MODIFIED:20250528T224858Z
UID:10015105-1749151800-1749159000@meditario.org.br
SUMMARY:Programa de Formação de Professores
DESCRIPTION:
URL:https://meditario.org.br/evento/programa-de-formacao-de-professores-5/2025-06-05/
LOCATION:CMK Rio de Janeiro\, Rua Conde de Irajá\, 604 – Botafogo\, Rio de Janeiro\, Rio de Janeiro\, 22271-020\, Brasil
CATEGORIES:Estudo Aprofundado
ATTACH;FMTTYPE=image/jpeg:https://meditario.org.br/wp-content/uploads/2024/11/pfp.jpg
END:VEVENT
BEGIN:VEVENT
DTSTART;TZID=America/Sao_Paulo:20250606T070000
DTEND;TZID=America/Sao_Paulo:20250606T083000
DTSTAMP:20260424T150055
CREATED:20250528T141334Z
LAST-MODIFIED:20250528T143801Z
UID:10014774-1749193200-1749198600@meditario.org.br
SUMMARY:Caminho Rápido ao Grande Êxtase
DESCRIPTION:
URL:https://meditario.org.br/evento/caminho-rapido-ao-grande-extase-2/2025-06-06/
LOCATION:CMK Rio de Janeiro\, Rua Conde de Irajá\, 604 – Botafogo\, Rio de Janeiro\, Rio de Janeiro\, 22271-020\, Brasil
CATEGORIES:Preces
ATTACH;FMTTYPE=image/jpeg:https://meditario.org.br/wp-content/uploads/2024/11/caminho-rapido.jpg
END:VEVENT
BEGIN:VEVENT
DTSTART;TZID=America/Sao_Paulo:20250606T090000
DTEND;TZID=America/Sao_Paulo:20250606T093000
DTSTAMP:20260424T150055
CREATED:20250528T143508Z
LAST-MODIFIED:20250528T143508Z
UID:10015002-1749200400-1749202200@meditario.org.br
SUMMARY:A Confissão Bodhisattva das Quedas Morais
DESCRIPTION:
URL:https://meditario.org.br/evento/a-confissao-bodhisattva-das-quedas-morais-5/2025-06-06/
LOCATION:CMK Rio de Janeiro\, Rua Conde de Irajá\, 604 – Botafogo\, Rio de Janeiro\, Rio de Janeiro\, 22271-020\, Brasil
CATEGORIES:Preces
ATTACH;FMTTYPE=image/jpeg:https://meditario.org.br/wp-content/uploads/2024/11/Sutra-mahayana.jpg
END:VEVENT
BEGIN:VEVENT
DTSTART;TZID=America/Sao_Paulo:20250606T123000
DTEND;TZID=America/Sao_Paulo:20250606T130000
DTSTAMP:20260424T150055
CREATED:20250528T180136Z
LAST-MODIFIED:20250528T180136Z
UID:10015060-1749213000-1749214800@meditario.org.br
SUMMARY:Meditação na Hora do Almoço
DESCRIPTION:
URL:https://meditario.org.br/evento/meditacao-na-hora-do-almoco-4/2025-06-06/
LOCATION:CMK Rio de Janeiro\, Rua Conde de Irajá\, 604 – Botafogo\, Rio de Janeiro\, Rio de Janeiro\, 22271-020\, Brasil
CATEGORIES:Meditação na Hora do Almoço
ATTACH;FMTTYPE=image/jpeg:https://meditario.org.br/wp-content/uploads/2024/11/medita-em-30.jpg
END:VEVENT
BEGIN:VEVENT
DTSTART;TZID=America/Sao_Paulo:20250606T193000
DTEND;TZID=America/Sao_Paulo:20250606T210000
DTSTAMP:20260424T150055
CREATED:20250415T200020Z
LAST-MODIFIED:20250620T161824Z
UID:10014497-1749238200-1749243600@meditario.org.br
SUMMARY:Joia-que-Satisfaz-os-Desejos com Tsog
DESCRIPTION:
URL:https://meditario.org.br/evento/joia-que-satisfaz-os-desejos-ou-joia-coracao-20/2025-06-06/
LOCATION:CMK Rio de Janeiro\, Rua Conde de Irajá\, 604 – Botafogo\, Rio de Janeiro\, Rio de Janeiro\, 22271-020\, Brasil
CATEGORIES:Preces
ATTACH;FMTTYPE=image/jpeg:https://meditario.org.br/wp-content/uploads/2024/11/JSD-e-JC.jpg
END:VEVENT
BEGIN:VEVENT
DTSTART;TZID=America/Sao_Paulo:20250607T093000
DTEND;TZID=America/Sao_Paulo:20250607T163000
DTSTAMP:20260424T150055
CREATED:20250518T192605Z
LAST-MODIFIED:20250518T201433Z
UID:10014770-1749288600-1749313800@meditario.org.br
SUMMARY:Evento especial em Vila Velha
DESCRIPTION:
URL:https://meditario.org.br/evento/evento-especial-em-vila-velha/
LOCATION:Marzen\, R. Vinícius Tôrres\, 635\, vila velha\, ES\, 29.100430\, Brazil
CATEGORIES:Atividades Vila Velha,Vila Velha
ATTACH;FMTTYPE=image/png:https://meditario.org.br/wp-content/uploads/2025/05/Vila-Velha-Retiro-de-Purificacao-Site-e-Sympla.png
END:VEVENT
BEGIN:VEVENT
DTSTART;TZID=America/Sao_Paulo:20250607T100000
DTEND;TZID=America/Sao_Paulo:20250608T111500
DTSTAMP:20260424T150055
CREATED:20250415T173540Z
LAST-MODIFIED:20250606T010705Z
UID:10014211-1749290400-1749381300@meditario.org.br
SUMMARY:Curso Especial
DESCRIPTION:
URL:https://meditario.org.br/evento/curso-especial-o-poder-das-preces/
LOCATION:CMK Rio de Janeiro\, Rua Conde de Irajá\, 604 – Botafogo\, Rio de Janeiro\, Rio de Janeiro\, 22271-020\, Brasil
CATEGORIES:Atividades em Destaque,Atividades Especiais
ATTACH;FMTTYPE=image/jpeg:https://meditario.org.br/wp-content/uploads/2025/04/Curso-especial-O-poder-das-preces.jpg
END:VEVENT
BEGIN:VEVENT
DTSTART;TZID=America/Sao_Paulo:20250607T193000
DTEND;TZID=America/Sao_Paulo:20250607T210000
DTSTAMP:20260424T150055
CREATED:20250528T142358Z
LAST-MODIFIED:20250528T142627Z
UID:10013859-1749324600-1749330000@meditario.org.br
SUMMARY:Caminho Rápido ao Grande Êxtase
DESCRIPTION:
URL:https://meditario.org.br/evento/caminho-rapido-ao-grande-extase-7-2/2025-06-07/
LOCATION:CMK Rio de Janeiro\, Rua Conde de Irajá\, 604 – Botafogo\, Rio de Janeiro\, Rio de Janeiro\, 22271-020\, Brasil
CATEGORIES:Preces
ATTACH;FMTTYPE=image/jpeg:https://meditario.org.br/wp-content/uploads/2024/11/caminho-rapido.jpg
END:VEVENT
BEGIN:VEVENT
DTSTART;TZID=America/Sao_Paulo:20250608T150000
DTEND;TZID=America/Sao_Paulo:20250608T163000
DTSTAMP:20260424T150055
CREATED:20250528T154734Z
LAST-MODIFIED:20250528T154734Z
UID:10015033-1749394800-1749400200@meditario.org.br
SUMMARY:Joia-Coração com Lamrim
DESCRIPTION:
URL:https://meditario.org.br/evento/joia-coracao-com-lamrim/2025-06-08/
LOCATION:CMK Rio de Janeiro\, Rua Conde de Irajá\, 604 – Botafogo\, Rio de Janeiro\, Rio de Janeiro\, 22271-020\, Brasil
CATEGORIES:Preces
ATTACH;FMTTYPE=image/jpeg:https://meditario.org.br/wp-content/uploads/2024/11/JSD-e-JC.jpg
END:VEVENT
BEGIN:VEVENT
DTSTART;TZID=America/Sao_Paulo:20250608T170000
DTEND;TZID=America/Sao_Paulo:20250608T183000
DTSTAMP:20260424T150055
CREATED:20250512T150653Z
LAST-MODIFIED:20250512T200818Z
UID:10014766-1749402000-1749407400@meditario.org.br
SUMMARY:Aula com Meditação
DESCRIPTION:
URL:https://meditario.org.br/evento/aula-com-meditacao-11/
LOCATION:CMK Rio de Janeiro\, Rua Conde de Irajá\, 604 – Botafogo\, Rio de Janeiro\, Rio de Janeiro\, 22271-020\, Brasil
CATEGORIES:Aulas com Meditação,PGs de Domingo Junho
ATTACH;FMTTYPE=image/jpeg:https://meditario.org.br/wp-content/uploads/2025/05/site-e-sympla-2025-2.jpg
END:VEVENT
BEGIN:VEVENT
DTSTART;TZID=America/Sao_Paulo:20250609T070000
DTEND;TZID=America/Sao_Paulo:20250609T083000
DTSTAMP:20260424T150055
CREATED:20250528T141334Z
LAST-MODIFIED:20250528T143801Z
UID:10014775-1749452400-1749457800@meditario.org.br
SUMMARY:Caminho Rápido ao Grande Êxtase
DESCRIPTION:
URL:https://meditario.org.br/evento/caminho-rapido-ao-grande-extase-2/2025-06-09/
LOCATION:CMK Rio de Janeiro\, Rua Conde de Irajá\, 604 – Botafogo\, Rio de Janeiro\, Rio de Janeiro\, 22271-020\, Brasil
CATEGORIES:Preces
ATTACH;FMTTYPE=image/jpeg:https://meditario.org.br/wp-content/uploads/2024/11/caminho-rapido.jpg
END:VEVENT
BEGIN:VEVENT
DTSTART;TZID=America/Sao_Paulo:20250609T090000
DTEND;TZID=America/Sao_Paulo:20250609T093000
DTSTAMP:20260424T150055
CREATED:20250528T143508Z
LAST-MODIFIED:20250528T143508Z
UID:10015003-1749459600-1749461400@meditario.org.br
SUMMARY:A Confissão Bodhisattva das Quedas Morais
DESCRIPTION:
URL:https://meditario.org.br/evento/a-confissao-bodhisattva-das-quedas-morais-5/2025-06-09/
LOCATION:CMK Rio de Janeiro\, Rua Conde de Irajá\, 604 – Botafogo\, Rio de Janeiro\, Rio de Janeiro\, 22271-020\, Brasil
CATEGORIES:Preces
ATTACH;FMTTYPE=image/jpeg:https://meditario.org.br/wp-content/uploads/2024/11/Sutra-mahayana.jpg
END:VEVENT
BEGIN:VEVENT
DTSTART;TZID=America/Sao_Paulo:20250609T123000
DTEND;TZID=America/Sao_Paulo:20250609T130000
DTSTAMP:20260424T150055
CREATED:20250528T180136Z
LAST-MODIFIED:20250528T180136Z
UID:10015061-1749472200-1749474000@meditario.org.br
SUMMARY:Meditação na Hora do Almoço
DESCRIPTION:
URL:https://meditario.org.br/evento/meditacao-na-hora-do-almoco-4/2025-06-09/
LOCATION:CMK Rio de Janeiro\, Rua Conde de Irajá\, 604 – Botafogo\, Rio de Janeiro\, Rio de Janeiro\, 22271-020\, Brasil
CATEGORIES:Meditação na Hora do Almoço
ATTACH;FMTTYPE=image/jpeg:https://meditario.org.br/wp-content/uploads/2024/11/medita-em-30.jpg
END:VEVENT
BEGIN:VEVENT
DTSTART;TZID=America/Sao_Paulo:20250609T173000
DTEND;TZID=America/Sao_Paulo:20250609T190000
DTSTAMP:20260424T150055
CREATED:20250608T183734Z
LAST-MODIFIED:20250608T183735Z
UID:10015019-1749490200-1749495600@meditario.org.br
SUMMARY:Joia-que-Satisfaz-os-Desejos ou Joia-Coração
DESCRIPTION:
URL:https://meditario.org.br/evento/joia-que-satisfaz-os-desejos-ou-joia-coracao-19-2/2025-06-09/
LOCATION:CMK Rio de Janeiro\, Rua Conde de Irajá\, 604 – Botafogo\, Rio de Janeiro\, Rio de Janeiro\, 22271-020\, Brasil
CATEGORIES:Preces
ATTACH;FMTTYPE=image/jpeg:https://meditario.org.br/wp-content/uploads/2024/11/JSD-e-JC.jpg
END:VEVENT
BEGIN:VEVENT
DTSTART;TZID=America/Sao_Paulo:20250609T183000
DTEND;TZID=America/Sao_Paulo:20250609T190000
DTSTAMP:20260424T150055
CREATED:20250528T180857Z
LAST-MODIFIED:20250528T180857Z
UID:10015079-1749493800-1749495600@meditario.org.br
SUMMARY:Meditação Depois do Trabalho
DESCRIPTION:
URL:https://meditario.org.br/evento/meditacao-depois-do-trabalho-6/2025-06-09/
LOCATION:CMK Rio de Janeiro\, Rua Conde de Irajá\, 604 – Botafogo\, Rio de Janeiro\, Rio de Janeiro\, 22271-020\, Brasil
CATEGORIES:Meditação depois do trabalho
ATTACH;FMTTYPE=image/jpeg:https://meditario.org.br/wp-content/uploads/2024/11/medita-em-30.jpg
END:VEVENT
BEGIN:VEVENT
DTSTART;TZID=America/Sao_Paulo:20250609T193000
DTEND;TZID=America/Sao_Paulo:20250609T213000
DTSTAMP:20260424T150055
CREATED:20250528T160256Z
LAST-MODIFIED:20250528T224858Z
UID:10015106-1749497400-1749504600@meditario.org.br
SUMMARY:Programa de Formação de Professores
DESCRIPTION:
URL:https://meditario.org.br/evento/programa-de-formacao-de-professores-5/2025-06-09/
LOCATION:CMK Rio de Janeiro\, Rua Conde de Irajá\, 604 – Botafogo\, Rio de Janeiro\, Rio de Janeiro\, 22271-020\, Brasil
CATEGORIES:Estudo Aprofundado
ATTACH;FMTTYPE=image/jpeg:https://meditario.org.br/wp-content/uploads/2024/11/pfp.jpg
END:VEVENT
BEGIN:VEVENT
DTSTART;TZID=America/Sao_Paulo:20250610T070000
DTEND;TZID=America/Sao_Paulo:20250610T083000
DTSTAMP:20260424T150055
CREATED:20250528T141334Z
LAST-MODIFIED:20250528T143801Z
UID:10014776-1749538800-1749544200@meditario.org.br
SUMMARY:Caminho Rápido ao Grande Êxtase
DESCRIPTION:
URL:https://meditario.org.br/evento/caminho-rapido-ao-grande-extase-2/2025-06-10/
LOCATION:CMK Rio de Janeiro\, Rua Conde de Irajá\, 604 – Botafogo\, Rio de Janeiro\, Rio de Janeiro\, 22271-020\, Brasil
CATEGORIES:Preces
ATTACH;FMTTYPE=image/jpeg:https://meditario.org.br/wp-content/uploads/2024/11/caminho-rapido.jpg
END:VEVENT
BEGIN:VEVENT
DTSTART;TZID=America/Sao_Paulo:20250610T090000
DTEND;TZID=America/Sao_Paulo:20250610T093000
DTSTAMP:20260424T150055
CREATED:20250528T143508Z
LAST-MODIFIED:20250528T143508Z
UID:10015004-1749546000-1749547800@meditario.org.br
SUMMARY:A Confissão Bodhisattva das Quedas Morais
DESCRIPTION:
URL:https://meditario.org.br/evento/a-confissao-bodhisattva-das-quedas-morais-5/2025-06-10/
LOCATION:CMK Rio de Janeiro\, Rua Conde de Irajá\, 604 – Botafogo\, Rio de Janeiro\, Rio de Janeiro\, 22271-020\, Brasil
CATEGORIES:Preces
ATTACH;FMTTYPE=image/jpeg:https://meditario.org.br/wp-content/uploads/2024/11/Sutra-mahayana.jpg
END:VEVENT
BEGIN:VEVENT
DTSTART;TZID=America/Sao_Paulo:20250610T104500
DTEND;TZID=America/Sao_Paulo:20250610T120000
DTSTAMP:20260424T150055
CREATED:20250414T174640Z
LAST-MODIFIED:20250620T144713Z
UID:10014193-1749552300-1749556800@meditario.org.br
SUMMARY:Aula com Meditação
DESCRIPTION:
URL:https://meditario.org.br/evento/meditacoes-de-budismo-moderno-26/
LOCATION:CMK Rio de Janeiro\, Rua Conde de Irajá\, 604 – Botafogo\, Rio de Janeiro\, Rio de Janeiro\, 22271-020\, Brasil
CATEGORIES:Aulas com Meditação,PGs de Terça Junho Julho Agosto
ATTACH;FMTTYPE=image/jpeg:https://meditario.org.br/wp-content/uploads/2025/04/o-que-e-carma.jpg
END:VEVENT
BEGIN:VEVENT
DTSTART;TZID=America/Sao_Paulo:20250610T123000
DTEND;TZID=America/Sao_Paulo:20250610T130000
DTSTAMP:20260424T150055
CREATED:20250528T180136Z
LAST-MODIFIED:20250528T180136Z
UID:10015062-1749558600-1749560400@meditario.org.br
SUMMARY:Meditação na Hora do Almoço
DESCRIPTION:
URL:https://meditario.org.br/evento/meditacao-na-hora-do-almoco-4/2025-06-10/
LOCATION:CMK Rio de Janeiro\, Rua Conde de Irajá\, 604 – Botafogo\, Rio de Janeiro\, Rio de Janeiro\, 22271-020\, Brasil
CATEGORIES:Meditação na Hora do Almoço
ATTACH;FMTTYPE=image/jpeg:https://meditario.org.br/wp-content/uploads/2024/11/medita-em-30.jpg
END:VEVENT
BEGIN:VEVENT
DTSTART;TZID=America/Sao_Paulo:20250610T173000
DTEND;TZID=America/Sao_Paulo:20250610T190000
DTSTAMP:20260424T150055
CREATED:20250608T183734Z
LAST-MODIFIED:20250608T183735Z
UID:10015124-1749576600-1749582000@meditario.org.br
SUMMARY:Joia-que-Satisfaz-os-Desejos ou Joia-Coração
DESCRIPTION:
URL:https://meditario.org.br/evento/joia-que-satisfaz-os-desejos-ou-joia-coracao-19-2/2025-06-10/
LOCATION:CMK Rio de Janeiro\, Rua Conde de Irajá\, 604 – Botafogo\, Rio de Janeiro\, Rio de Janeiro\, 22271-020\, Brasil
CATEGORIES:Preces
ATTACH;FMTTYPE=image/jpeg:https://meditario.org.br/wp-content/uploads/2024/11/JSD-e-JC.jpg
END:VEVENT
BEGIN:VEVENT
DTSTART;TZID=America/Sao_Paulo:20250610T183000
DTEND;TZID=America/Sao_Paulo:20250610T190000
DTSTAMP:20260424T150055
CREATED:20250528T180857Z
LAST-MODIFIED:20250528T180857Z
UID:10015080-1749580200-1749582000@meditario.org.br
SUMMARY:Meditação Depois do Trabalho
DESCRIPTION:
URL:https://meditario.org.br/evento/meditacao-depois-do-trabalho-6/2025-06-10/
LOCATION:CMK Rio de Janeiro\, Rua Conde de Irajá\, 604 – Botafogo\, Rio de Janeiro\, Rio de Janeiro\, 22271-020\, Brasil
CATEGORIES:Meditação depois do trabalho
ATTACH;FMTTYPE=image/jpeg:https://meditario.org.br/wp-content/uploads/2024/11/medita-em-30.jpg
END:VEVENT
BEGIN:VEVENT
DTSTART;TZID=America/Sao_Paulo:20250611T123000
DTEND;TZID=America/Sao_Paulo:20250611T130000
DTSTAMP:20260424T150055
CREATED:20250528T180136Z
LAST-MODIFIED:20250528T180136Z
UID:10015063-1749645000-1749646800@meditario.org.br
SUMMARY:Meditação na Hora do Almoço
DESCRIPTION:
URL:https://meditario.org.br/evento/meditacao-na-hora-do-almoco-4/2025-06-11/
LOCATION:CMK Rio de Janeiro\, Rua Conde de Irajá\, 604 – Botafogo\, Rio de Janeiro\, Rio de Janeiro\, 22271-020\, Brasil
CATEGORIES:Meditação na Hora do Almoço
ATTACH;FMTTYPE=image/jpeg:https://meditario.org.br/wp-content/uploads/2024/11/medita-em-30.jpg
END:VEVENT
BEGIN:VEVENT
DTSTART;TZID=America/Sao_Paulo:20250611T173000
DTEND;TZID=America/Sao_Paulo:20250611T190000
DTSTAMP:20260424T150055
CREATED:20250608T183734Z
LAST-MODIFIED:20250608T183735Z
UID:10015125-1749663000-1749668400@meditario.org.br
SUMMARY:Joia-que-Satisfaz-os-Desejos ou Joia-Coração
DESCRIPTION:
URL:https://meditario.org.br/evento/joia-que-satisfaz-os-desejos-ou-joia-coracao-19-2/2025-06-11/
LOCATION:CMK Rio de Janeiro\, Rua Conde de Irajá\, 604 – Botafogo\, Rio de Janeiro\, Rio de Janeiro\, 22271-020\, Brasil
CATEGORIES:Preces
ATTACH;FMTTYPE=image/jpeg:https://meditario.org.br/wp-content/uploads/2024/11/JSD-e-JC.jpg
END:VEVENT
BEGIN:VEVENT
DTSTART;TZID=America/Sao_Paulo:20250611T183000
DTEND;TZID=America/Sao_Paulo:20250611T190000
DTSTAMP:20260424T150055
CREATED:20250528T180857Z
LAST-MODIFIED:20250528T180857Z
UID:10015081-1749666600-1749668400@meditario.org.br
SUMMARY:Meditação Depois do Trabalho
DESCRIPTION:
URL:https://meditario.org.br/evento/meditacao-depois-do-trabalho-6/2025-06-11/
LOCATION:CMK Rio de Janeiro\, Rua Conde de Irajá\, 604 – Botafogo\, Rio de Janeiro\, Rio de Janeiro\, 22271-020\, Brasil
CATEGORIES:Meditação depois do trabalho
ATTACH;FMTTYPE=image/jpeg:https://meditario.org.br/wp-content/uploads/2024/11/medita-em-30.jpg
END:VEVENT
END:VCALENDAR