BEGIN:VCALENDAR
VERSION:2.0
PRODID:-//Centro de Meditação Kadampa Rio de Janeiro - ECPv6.15.20//NONSGML v1.0//EN
CALSCALE:GREGORIAN
METHOD:PUBLISH
X-WR-CALNAME:Centro de Meditação Kadampa Rio de Janeiro
X-ORIGINAL-URL:https://meditario.org.br
X-WR-CALDESC:Eventos para Centro de Meditação Kadampa Rio de Janeiro
REFRESH-INTERVAL;VALUE=DURATION:PT1H
X-Robots-Tag:noindex
X-PUBLISHED-TTL:PT1H
BEGIN:VTIMEZONE
TZID:America/Sao_Paulo
BEGIN:STANDARD
TZOFFSETFROM:-0300
TZOFFSETTO:-0300
TZNAME:-03
DTSTART:20240101T000000
END:STANDARD
END:VTIMEZONE
BEGIN:VEVENT
DTSTART;TZID=America/Sao_Paulo:20250920T100000
DTEND;TZID=America/Sao_Paulo:20250920T120000
DTSTAMP:20260424T095550
CREATED:20250826T151914Z
LAST-MODIFIED:20250826T151952Z
UID:10016303-1758362400-1758369600@meditario.org.br
SUMMARY:PF - Caminho Alegre da Boa Fortuna
DESCRIPTION:
URL:https://meditario.org.br/evento/pf-caminho-alegre-da-boa-fortuna-5-2/2025-09-20/
LOCATION:CMK Rio de Janeiro\, Rua Conde de Irajá\, 604 – Botafogo\, Rio de Janeiro\, Rio de Janeiro\, 22271-020\, Brasil
CATEGORIES:Estudo Aprofundado
ATTACH;FMTTYPE=image/jpeg:https://meditario.org.br/wp-content/uploads/2024/11/pf-cabf.jpg
END:VEVENT
BEGIN:VEVENT
DTSTART;TZID=America/Sao_Paulo:20250920T100000
DTEND;TZID=America/Sao_Paulo:20250920T123000
DTSTAMP:20260424T095550
CREATED:20250706T150036Z
LAST-MODIFIED:20250919T211931Z
UID:10015806-1758362400-1758371400@meditario.org.br
SUMMARY:Workshop de Meditação com Brunch
DESCRIPTION:
URL:https://meditario.org.br/evento/workshop-com-brunch/
LOCATION:CMK Rio de Janeiro\, Rua Conde de Irajá\, 604 – Botafogo\, Rio de Janeiro\, Rio de Janeiro\, 22271-020\, Brasil
CATEGORIES:Atividades em Destaque,Atividades Especiais
ATTACH;FMTTYPE=image/png:https://meditario.org.br/wp-content/uploads/2025/07/Captura-de-Tela-2025-07-06-as-11.58.30.png
END:VEVENT
BEGIN:VEVENT
DTSTART;TZID=America/Sao_Paulo:20250920T150000
DTEND;TZID=America/Sao_Paulo:20250920T163000
DTSTAMP:20260424T095550
CREATED:20250706T214932Z
LAST-MODIFIED:20250821T215230Z
UID:10015808-1758380400-1758385800@meditario.org.br
SUMMARY:Aula para Crianças
DESCRIPTION:
URL:https://meditario.org.br/evento/aula-para-criancas-3/
LOCATION:CMK Rio de Janeiro\, Rua Conde de Irajá\, 604 – Botafogo\, Rio de Janeiro\, Rio de Janeiro\, 22271-020\, Brasil
CATEGORIES:Para Crianças
ATTACH;FMTTYPE=image/jpeg:https://meditario.org.br/wp-content/uploads/2025/07/aula-para-criancas-julho-1.jpg
END:VEVENT
BEGIN:VEVENT
DTSTART;TZID=America/Sao_Paulo:20250920T193000
DTEND;TZID=America/Sao_Paulo:20250920T210000
DTSTAMP:20260424T095550
CREATED:20250620T145433Z
LAST-MODIFIED:20250826T140106Z
UID:10016181-1758396600-1758402000@meditario.org.br
SUMMARY:Caminho Rápido ao Grande Êxtase
DESCRIPTION:
URL:https://meditario.org.br/evento/caminho-rapido-ao-grande-extase-10/2025-09-20/
LOCATION:CMK Rio de Janeiro\, Rua Conde de Irajá\, 604 – Botafogo\, Rio de Janeiro\, Rio de Janeiro\, 22271-020\, Brasil
CATEGORIES:Preces
ATTACH;FMTTYPE=image/jpeg:https://meditario.org.br/wp-content/uploads/2024/11/caminho-rapido.jpg
END:VEVENT
BEGIN:VEVENT
DTSTART;TZID=America/Sao_Paulo:20250921T100000
DTEND;TZID=America/Sao_Paulo:20250921T110000
DTSTAMP:20260424T095550
CREATED:20250620T163720Z
LAST-MODIFIED:20250826T144239Z
UID:10016256-1758448800-1758452400@meditario.org.br
SUMMARY:Preces pela Paz Mundial
DESCRIPTION:
URL:https://meditario.org.br/evento/preces-pela-paz-mundial-5/2025-09-21/
LOCATION:CMK Rio de Janeiro\, Rua Conde de Irajá\, 604 – Botafogo\, Rio de Janeiro\, Rio de Janeiro\, 22271-020\, Brasil
CATEGORIES:Preces
ATTACH;FMTTYPE=image/jpeg:https://meditario.org.br/wp-content/uploads/2024/11/Preces-pela-Paz-Mundial.jpg
END:VEVENT
BEGIN:VEVENT
DTSTART;TZID=America/Sao_Paulo:20250921T150000
DTEND;TZID=America/Sao_Paulo:20250921T163000
DTSTAMP:20260424T095550
CREATED:20250826T143553Z
LAST-MODIFIED:20250826T143632Z
UID:10016254-1758466800-1758472200@meditario.org.br
SUMMARY:Joia-Coração com Lamrim
DESCRIPTION:
URL:https://meditario.org.br/evento/joia-coracao-com-lamrim-2-2/2025-09-21/
LOCATION:CMK Rio de Janeiro\, Rua Conde de Irajá\, 604 – Botafogo\, Rio de Janeiro\, Rio de Janeiro\, 22271-020\, Brasil
CATEGORIES:Preces
ATTACH;FMTTYPE=image/jpeg:https://meditario.org.br/wp-content/uploads/2024/11/JSD-e-JC.jpg
END:VEVENT
BEGIN:VEVENT
DTSTART;TZID=America/Sao_Paulo:20250921T170000
DTEND;TZID=America/Sao_Paulo:20250921T183000
DTSTAMP:20260424T095550
CREATED:20250720T145858Z
LAST-MODIFIED:20250915T185028Z
UID:10015908-1758474000-1758479400@meditario.org.br
SUMMARY:Aula com Meditação
DESCRIPTION:
URL:https://meditario.org.br/evento/aula-com-meditacao-22/
LOCATION:CMK Rio de Janeiro\, Rua Conde de Irajá\, 604 – Botafogo\, Rio de Janeiro\, Rio de Janeiro\, 22271-020\, Brasil
CATEGORIES:Atividades em Destaque,Aulas com Meditação,PGs de Domingo Setembro
ATTACH;FMTTYPE=image/png:https://meditario.org.br/wp-content/uploads/2025/07/Captura-de-Tela-2025-07-20-as-11.04.07.png
END:VEVENT
BEGIN:VEVENT
DTSTART;TZID=America/Sao_Paulo:20250922T070000
DTEND;TZID=America/Sao_Paulo:20250922T083000
DTSTAMP:20260424T095550
CREATED:20250826T134921Z
LAST-MODIFIED:20250826T153052Z
UID:10015965-1758524400-1758529800@meditario.org.br
SUMMARY:Caminho Rápido ao Grande Êxtase
DESCRIPTION:
URL:https://meditario.org.br/evento/caminho-rapido-ao-grande-extase-9-2/2025-09-22/
LOCATION:CMK Rio de Janeiro\, Rua Conde de Irajá\, 604 – Botafogo\, Rio de Janeiro\, Rio de Janeiro\, 22271-020\, Brasil
CATEGORIES:Preces
ATTACH;FMTTYPE=image/jpeg:https://meditario.org.br/wp-content/uploads/2024/11/caminho-rapido.jpg
END:VEVENT
BEGIN:VEVENT
DTSTART;TZID=America/Sao_Paulo:20250922T090000
DTEND;TZID=America/Sao_Paulo:20250922T093000
DTSTAMP:20260424T095550
CREATED:20250826T140328Z
LAST-MODIFIED:20250826T153352Z
UID:10016193-1758531600-1758533400@meditario.org.br
SUMMARY:A Confissão Bodhisattva das Quedas Morais
DESCRIPTION:
URL:https://meditario.org.br/evento/a-confissao-bodhisattva-das-quedas-morais-6-2/2025-09-22/
LOCATION:CMK Rio de Janeiro\, Rua Conde de Irajá\, 604 – Botafogo\, Rio de Janeiro\, Rio de Janeiro\, 22271-020\, Brasil
CATEGORIES:Preces
ATTACH;FMTTYPE=image/jpeg:https://meditario.org.br/wp-content/uploads/2024/11/Sutra-mahayana.jpg
END:VEVENT
BEGIN:VEVENT
DTSTART;TZID=America/Sao_Paulo:20250922T123000
DTEND;TZID=America/Sao_Paulo:20250922T130000
DTSTAMP:20260424T095550
CREATED:20250826T145707Z
LAST-MODIFIED:20250826T145801Z
UID:10016272-1758544200-1758546000@meditario.org.br
SUMMARY:Meditação na Hora do Almoço
DESCRIPTION:
URL:https://meditario.org.br/evento/meditacao-na-hora-do-almoco-5-2/2025-09-22/
LOCATION:CMK Rio de Janeiro\, Rua Conde de Irajá\, 604 – Botafogo\, Rio de Janeiro\, Rio de Janeiro\, 22271-020\, Brasil
CATEGORIES:Meditação na Hora do Almoço
ATTACH;FMTTYPE=image/jpeg:https://meditario.org.br/wp-content/uploads/2024/11/medita-em-30.jpg
END:VEVENT
BEGIN:VEVENT
DTSTART;TZID=America/Sao_Paulo:20250922T170000
DTEND;TZID=America/Sao_Paulo:20250922T183000
DTSTAMP:20260424T095550
CREATED:20250826T140846Z
LAST-MODIFIED:20250826T141542Z
UID:10016237-1758560400-1758565800@meditario.org.br
SUMMARY:Joia-que-Satisfaz-os-Desejos ou Joia-Coração
DESCRIPTION:
URL:https://meditario.org.br/evento/joia-que-satisfaz-os-desejos-ou-joia-coracao-28/2025-09-22/
LOCATION:CMK Rio de Janeiro\, Rua Conde de Irajá\, 604 – Botafogo\, Rio de Janeiro\, Rio de Janeiro\, 22271-020\, Brasil
CATEGORIES:Preces
ATTACH;FMTTYPE=image/jpeg:https://meditario.org.br/wp-content/uploads/2024/11/JSD-e-JC.jpg
END:VEVENT
BEGIN:VEVENT
DTSTART;TZID=America/Sao_Paulo:20250922T183000
DTEND;TZID=America/Sao_Paulo:20250922T190000
DTSTAMP:20260424T095550
CREATED:20250826T150055Z
LAST-MODIFIED:20250826T150142Z
UID:10016290-1758565800-1758567600@meditario.org.br
SUMMARY:Meditação Depois do Trabalho
DESCRIPTION:
URL:https://meditario.org.br/evento/meditacao-depois-do-trabalho-7-2/2025-09-22/
LOCATION:CMK Rio de Janeiro\, Rua Conde de Irajá\, 604 – Botafogo\, Rio de Janeiro\, Rio de Janeiro\, 22271-020\, Brasil
CATEGORIES:Meditação depois do trabalho
ATTACH;FMTTYPE=image/jpeg:https://meditario.org.br/wp-content/uploads/2024/11/medita-em-30.jpg
END:VEVENT
BEGIN:VEVENT
DTSTART;TZID=America/Sao_Paulo:20250923T070000
DTEND;TZID=America/Sao_Paulo:20250923T083000
DTSTAMP:20260424T095550
CREATED:20250826T134921Z
LAST-MODIFIED:20250826T153052Z
UID:10015966-1758610800-1758616200@meditario.org.br
SUMMARY:Caminho Rápido ao Grande Êxtase
DESCRIPTION:
URL:https://meditario.org.br/evento/caminho-rapido-ao-grande-extase-9-2/2025-09-23/
LOCATION:CMK Rio de Janeiro\, Rua Conde de Irajá\, 604 – Botafogo\, Rio de Janeiro\, Rio de Janeiro\, 22271-020\, Brasil
CATEGORIES:Preces
ATTACH;FMTTYPE=image/jpeg:https://meditario.org.br/wp-content/uploads/2024/11/caminho-rapido.jpg
END:VEVENT
BEGIN:VEVENT
DTSTART;TZID=America/Sao_Paulo:20250923T090000
DTEND;TZID=America/Sao_Paulo:20250923T093000
DTSTAMP:20260424T095550
CREATED:20250826T140328Z
LAST-MODIFIED:20250826T153352Z
UID:10016194-1758618000-1758619800@meditario.org.br
SUMMARY:A Confissão Bodhisattva das Quedas Morais
DESCRIPTION:
URL:https://meditario.org.br/evento/a-confissao-bodhisattva-das-quedas-morais-6-2/2025-09-23/
LOCATION:CMK Rio de Janeiro\, Rua Conde de Irajá\, 604 – Botafogo\, Rio de Janeiro\, Rio de Janeiro\, 22271-020\, Brasil
CATEGORIES:Preces
ATTACH;FMTTYPE=image/jpeg:https://meditario.org.br/wp-content/uploads/2024/11/Sutra-mahayana.jpg
END:VEVENT
BEGIN:VEVENT
DTSTART;TZID=America/Sao_Paulo:20250923T104500
DTEND;TZID=America/Sao_Paulo:20250923T120000
DTSTAMP:20260424T095550
CREATED:20250721T132817Z
LAST-MODIFIED:20250922T135425Z
UID:10015914-1758624300-1758628800@meditario.org.br
SUMMARY:Aula com Meditação
DESCRIPTION:
URL:https://meditario.org.br/evento/aula-com-meditacao-31/
LOCATION:CMK Rio de Janeiro\, Rua Conde de Irajá\, 604 – Botafogo\, Rio de Janeiro\, Rio de Janeiro\, 22271-020\, Brasil
CATEGORIES:Aulas com Meditação,PGs de Terça Janeiro e Fevereiro
ATTACH;FMTTYPE=image/png:https://meditario.org.br/wp-content/uploads/2025/07/Captura-de-Tela-2025-07-20-as-12.56.10.png
END:VEVENT
BEGIN:VEVENT
DTSTART;TZID=America/Sao_Paulo:20250923T123000
DTEND;TZID=America/Sao_Paulo:20250923T130000
DTSTAMP:20260424T095550
CREATED:20250826T145707Z
LAST-MODIFIED:20250826T145801Z
UID:10016273-1758630600-1758632400@meditario.org.br
SUMMARY:Meditação na Hora do Almoço
DESCRIPTION:
URL:https://meditario.org.br/evento/meditacao-na-hora-do-almoco-5-2/2025-09-23/
LOCATION:CMK Rio de Janeiro\, Rua Conde de Irajá\, 604 – Botafogo\, Rio de Janeiro\, Rio de Janeiro\, 22271-020\, Brasil
CATEGORIES:Meditação na Hora do Almoço
ATTACH;FMTTYPE=image/jpeg:https://meditario.org.br/wp-content/uploads/2024/11/medita-em-30.jpg
END:VEVENT
BEGIN:VEVENT
DTSTART;TZID=America/Sao_Paulo:20250923T170000
DTEND;TZID=America/Sao_Paulo:20250923T183000
DTSTAMP:20260424T095550
CREATED:20250826T140846Z
LAST-MODIFIED:20250826T141542Z
UID:10016238-1758646800-1758652200@meditario.org.br
SUMMARY:Joia-que-Satisfaz-os-Desejos ou Joia-Coração
DESCRIPTION:
URL:https://meditario.org.br/evento/joia-que-satisfaz-os-desejos-ou-joia-coracao-28/2025-09-23/
LOCATION:CMK Rio de Janeiro\, Rua Conde de Irajá\, 604 – Botafogo\, Rio de Janeiro\, Rio de Janeiro\, 22271-020\, Brasil
CATEGORIES:Preces
ATTACH;FMTTYPE=image/jpeg:https://meditario.org.br/wp-content/uploads/2024/11/JSD-e-JC.jpg
END:VEVENT
BEGIN:VEVENT
DTSTART;TZID=America/Sao_Paulo:20250923T183000
DTEND;TZID=America/Sao_Paulo:20250923T190000
DTSTAMP:20260424T095550
CREATED:20250826T150055Z
LAST-MODIFIED:20250826T150142Z
UID:10016291-1758652200-1758654000@meditario.org.br
SUMMARY:Meditação Depois do Trabalho
DESCRIPTION:
URL:https://meditario.org.br/evento/meditacao-depois-do-trabalho-7-2/2025-09-23/
LOCATION:CMK Rio de Janeiro\, Rua Conde de Irajá\, 604 – Botafogo\, Rio de Janeiro\, Rio de Janeiro\, 22271-020\, Brasil
CATEGORIES:Meditação depois do trabalho
ATTACH;FMTTYPE=image/jpeg:https://meditario.org.br/wp-content/uploads/2024/11/medita-em-30.jpg
END:VEVENT
BEGIN:VEVENT
DTSTART;TZID=America/Sao_Paulo:20250923T193000
DTEND;TZID=America/Sao_Paulo:20250923T213000
DTSTAMP:20260424T095550
CREATED:20250826T151336Z
LAST-MODIFIED:20250826T151500Z
UID:10016301-1758655800-1758663000@meditario.org.br
SUMMARY:PF - Novo Oito Passos para a Felicidade
DESCRIPTION:
URL:https://meditario.org.br/evento/pf-novo-oito-passos-para-a-felicidade-6-2/2025-09-23/
LOCATION:CMK Rio de Janeiro\, Rua Conde de Irajá\, 604 – Botafogo\, Rio de Janeiro\, Rio de Janeiro\, 22271-020\, Brasil
CATEGORIES:Estudo Aprofundado
ATTACH;FMTTYPE=image/jpeg:https://meditario.org.br/wp-content/uploads/2024/11/pf-noppf.jpg
END:VEVENT
BEGIN:VEVENT
DTSTART;TZID=America/Sao_Paulo:20250924T123000
DTEND;TZID=America/Sao_Paulo:20250924T130000
DTSTAMP:20260424T095550
CREATED:20250826T145707Z
LAST-MODIFIED:20250826T145801Z
UID:10016274-1758717000-1758718800@meditario.org.br
SUMMARY:Meditação na Hora do Almoço
DESCRIPTION:
URL:https://meditario.org.br/evento/meditacao-na-hora-do-almoco-5-2/2025-09-24/
LOCATION:CMK Rio de Janeiro\, Rua Conde de Irajá\, 604 – Botafogo\, Rio de Janeiro\, Rio de Janeiro\, 22271-020\, Brasil
CATEGORIES:Meditação na Hora do Almoço
ATTACH;FMTTYPE=image/jpeg:https://meditario.org.br/wp-content/uploads/2024/11/medita-em-30.jpg
END:VEVENT
BEGIN:VEVENT
DTSTART;TZID=America/Sao_Paulo:20250924T170000
DTEND;TZID=America/Sao_Paulo:20250924T183000
DTSTAMP:20260424T095550
CREATED:20250826T140846Z
LAST-MODIFIED:20250826T141542Z
UID:10016239-1758733200-1758738600@meditario.org.br
SUMMARY:Joia-que-Satisfaz-os-Desejos ou Joia-Coração
DESCRIPTION:
URL:https://meditario.org.br/evento/joia-que-satisfaz-os-desejos-ou-joia-coracao-28/2025-09-24/
LOCATION:CMK Rio de Janeiro\, Rua Conde de Irajá\, 604 – Botafogo\, Rio de Janeiro\, Rio de Janeiro\, 22271-020\, Brasil
CATEGORIES:Preces
ATTACH;FMTTYPE=image/jpeg:https://meditario.org.br/wp-content/uploads/2024/11/JSD-e-JC.jpg
END:VEVENT
BEGIN:VEVENT
DTSTART;TZID=America/Sao_Paulo:20250924T183000
DTEND;TZID=America/Sao_Paulo:20250924T190000
DTSTAMP:20260424T095550
CREATED:20250826T150055Z
LAST-MODIFIED:20250826T150142Z
UID:10016292-1758738600-1758740400@meditario.org.br
SUMMARY:Meditação Depois do Trabalho
DESCRIPTION:
URL:https://meditario.org.br/evento/meditacao-depois-do-trabalho-7-2/2025-09-24/
LOCATION:CMK Rio de Janeiro\, Rua Conde de Irajá\, 604 – Botafogo\, Rio de Janeiro\, Rio de Janeiro\, 22271-020\, Brasil
CATEGORIES:Meditação depois do trabalho
ATTACH;FMTTYPE=image/jpeg:https://meditario.org.br/wp-content/uploads/2024/11/medita-em-30.jpg
END:VEVENT
BEGIN:VEVENT
DTSTART;TZID=America/Sao_Paulo:20250924T193000
DTEND;TZID=America/Sao_Paulo:20250924T204500
DTSTAMP:20260424T095550
CREATED:20250706T143838Z
LAST-MODIFIED:20250922T135852Z
UID:10015801-1758742200-1758746700@meditario.org.br
SUMMARY:Aulas com Meditação
DESCRIPTION:
URL:https://meditario.org.br/evento/aulas-com-meditacao-2/
LOCATION:CMK Rio de Janeiro\, Rua Conde de Irajá\, 604 – Botafogo\, Rio de Janeiro\, Rio de Janeiro\, 22271-020\, Brasil
CATEGORIES:Aulas com Meditação,PGs de Quarta Junho Julho Agosto
ATTACH;FMTTYPE=image/png:https://meditario.org.br/wp-content/uploads/2025/07/Captura-de-Tela-2025-07-06-as-11.26.14.png
END:VEVENT
BEGIN:VEVENT
DTSTART;TZID=America/Sao_Paulo:20250925T070000
DTEND;TZID=America/Sao_Paulo:20250925T083000
DTSTAMP:20260424T095550
CREATED:20250826T134921Z
LAST-MODIFIED:20250826T153052Z
UID:10015967-1758783600-1758789000@meditario.org.br
SUMMARY:Caminho Rápido ao Grande Êxtase
DESCRIPTION:
URL:https://meditario.org.br/evento/caminho-rapido-ao-grande-extase-9-2/2025-09-25/
LOCATION:CMK Rio de Janeiro\, Rua Conde de Irajá\, 604 – Botafogo\, Rio de Janeiro\, Rio de Janeiro\, 22271-020\, Brasil
CATEGORIES:Preces
ATTACH;FMTTYPE=image/jpeg:https://meditario.org.br/wp-content/uploads/2024/11/caminho-rapido.jpg
END:VEVENT
BEGIN:VEVENT
DTSTART;TZID=America/Sao_Paulo:20250925T090000
DTEND;TZID=America/Sao_Paulo:20250925T093000
DTSTAMP:20260424T095550
CREATED:20250826T140328Z
LAST-MODIFIED:20250826T153352Z
UID:10016195-1758790800-1758792600@meditario.org.br
SUMMARY:A Confissão Bodhisattva das Quedas Morais
DESCRIPTION:
URL:https://meditario.org.br/evento/a-confissao-bodhisattva-das-quedas-morais-6-2/2025-09-25/
LOCATION:CMK Rio de Janeiro\, Rua Conde de Irajá\, 604 – Botafogo\, Rio de Janeiro\, Rio de Janeiro\, 22271-020\, Brasil
CATEGORIES:Preces
ATTACH;FMTTYPE=image/jpeg:https://meditario.org.br/wp-content/uploads/2024/11/Sutra-mahayana.jpg
END:VEVENT
BEGIN:VEVENT
DTSTART;TZID=America/Sao_Paulo:20250925T123000
DTEND;TZID=America/Sao_Paulo:20250925T130000
DTSTAMP:20260424T095550
CREATED:20250826T145707Z
LAST-MODIFIED:20250826T145801Z
UID:10016275-1758803400-1758805200@meditario.org.br
SUMMARY:Meditação na Hora do Almoço
DESCRIPTION:
URL:https://meditario.org.br/evento/meditacao-na-hora-do-almoco-5-2/2025-09-25/
LOCATION:CMK Rio de Janeiro\, Rua Conde de Irajá\, 604 – Botafogo\, Rio de Janeiro\, Rio de Janeiro\, 22271-020\, Brasil
CATEGORIES:Meditação na Hora do Almoço
ATTACH;FMTTYPE=image/jpeg:https://meditario.org.br/wp-content/uploads/2024/11/medita-em-30.jpg
END:VEVENT
BEGIN:VEVENT
DTSTART;TZID=America/Sao_Paulo:20250925T183000
DTEND;TZID=America/Sao_Paulo:20250925T190000
DTSTAMP:20260424T095550
CREATED:20250826T150055Z
LAST-MODIFIED:20250826T150142Z
UID:10016293-1758825000-1758826800@meditario.org.br
SUMMARY:Meditação Depois do Trabalho
DESCRIPTION:
URL:https://meditario.org.br/evento/meditacao-depois-do-trabalho-7-2/2025-09-25/
LOCATION:CMK Rio de Janeiro\, Rua Conde de Irajá\, 604 – Botafogo\, Rio de Janeiro\, Rio de Janeiro\, 22271-020\, Brasil
CATEGORIES:Meditação depois do trabalho
ATTACH;FMTTYPE=image/jpeg:https://meditario.org.br/wp-content/uploads/2024/11/medita-em-30.jpg
END:VEVENT
BEGIN:VEVENT
DTSTART;TZID=America/Sao_Paulo:20250926T070000
DTEND;TZID=America/Sao_Paulo:20250926T083000
DTSTAMP:20260424T095550
CREATED:20250826T134921Z
LAST-MODIFIED:20250826T153052Z
UID:10015968-1758870000-1758875400@meditario.org.br
SUMMARY:Caminho Rápido ao Grande Êxtase
DESCRIPTION:
URL:https://meditario.org.br/evento/caminho-rapido-ao-grande-extase-9-2/2025-09-26/
LOCATION:CMK Rio de Janeiro\, Rua Conde de Irajá\, 604 – Botafogo\, Rio de Janeiro\, Rio de Janeiro\, 22271-020\, Brasil
CATEGORIES:Preces
ATTACH;FMTTYPE=image/jpeg:https://meditario.org.br/wp-content/uploads/2024/11/caminho-rapido.jpg
END:VEVENT
BEGIN:VEVENT
DTSTART;TZID=America/Sao_Paulo:20250926T090000
DTEND;TZID=America/Sao_Paulo:20250926T093000
DTSTAMP:20260424T095550
CREATED:20250826T140328Z
LAST-MODIFIED:20250826T153352Z
UID:10016196-1758877200-1758879000@meditario.org.br
SUMMARY:A Confissão Bodhisattva das Quedas Morais
DESCRIPTION:
URL:https://meditario.org.br/evento/a-confissao-bodhisattva-das-quedas-morais-6-2/2025-09-26/
LOCATION:CMK Rio de Janeiro\, Rua Conde de Irajá\, 604 – Botafogo\, Rio de Janeiro\, Rio de Janeiro\, 22271-020\, Brasil
CATEGORIES:Preces
ATTACH;FMTTYPE=image/jpeg:https://meditario.org.br/wp-content/uploads/2024/11/Sutra-mahayana.jpg
END:VEVENT
BEGIN:VEVENT
DTSTART;TZID=America/Sao_Paulo:20250926T123000
DTEND;TZID=America/Sao_Paulo:20250926T130000
DTSTAMP:20260424T095550
CREATED:20250826T145707Z
LAST-MODIFIED:20250826T145801Z
UID:10016276-1758889800-1758891600@meditario.org.br
SUMMARY:Meditação na Hora do Almoço
DESCRIPTION:
URL:https://meditario.org.br/evento/meditacao-na-hora-do-almoco-5-2/2025-09-26/
LOCATION:CMK Rio de Janeiro\, Rua Conde de Irajá\, 604 – Botafogo\, Rio de Janeiro\, Rio de Janeiro\, 22271-020\, Brasil
CATEGORIES:Meditação na Hora do Almoço
ATTACH;FMTTYPE=image/jpeg:https://meditario.org.br/wp-content/uploads/2024/11/medita-em-30.jpg
END:VEVENT
END:VCALENDAR