BEGIN:VCALENDAR
VERSION:2.0
PRODID:-//Centro de Meditação Kadampa Rio de Janeiro - ECPv6.15.20//NONSGML v1.0//EN
CALSCALE:GREGORIAN
METHOD:PUBLISH
X-WR-CALNAME:Centro de Meditação Kadampa Rio de Janeiro
X-ORIGINAL-URL:https://meditario.org.br
X-WR-CALDESC:Eventos para Centro de Meditação Kadampa Rio de Janeiro
REFRESH-INTERVAL;VALUE=DURATION:PT1H
X-Robots-Tag:noindex
X-PUBLISHED-TTL:PT1H
BEGIN:VTIMEZONE
TZID:America/Sao_Paulo
BEGIN:STANDARD
TZOFFSETFROM:-0300
TZOFFSETTO:-0300
TZNAME:-03
DTSTART:20240101T000000
END:STANDARD
END:VTIMEZONE
BEGIN:VEVENT
DTSTART;TZID=America/Sao_Paulo:20251104T070000
DTEND;TZID=America/Sao_Paulo:20251104T083000
DTSTAMP:20260424T081429
CREATED:20251023T192938Z
LAST-MODIFIED:20251023T193045Z
UID:10016521-1762239600-1762245000@meditario.org.br
SUMMARY:Caminho Rápido ao Grande Êxtase
DESCRIPTION:
URL:https://meditario.org.br/evento/caminho-rapido-ao-grande-extase-9-2-2/2025-11-04/
LOCATION:CMK Rio de Janeiro\, Rua Conde de Irajá\, 604 – Botafogo\, Rio de Janeiro\, Rio de Janeiro\, 22271-020\, Brasil
CATEGORIES:Preces
ATTACH;FMTTYPE=image/jpeg:https://meditario.org.br/wp-content/uploads/2024/11/caminho-rapido.jpg
END:VEVENT
BEGIN:VEVENT
DTSTART;TZID=America/Sao_Paulo:20251104T090000
DTEND;TZID=America/Sao_Paulo:20251104T093000
DTSTAMP:20260424T081429
CREATED:20251023T193248Z
LAST-MODIFIED:20251023T193346Z
UID:10016532-1762246800-1762248600@meditario.org.br
SUMMARY:A Confissão Bodhisattva das Quedas Morais
DESCRIPTION:
URL:https://meditario.org.br/evento/a-confissao-bodhisattva-das-quedas-morais-6-2-2/2025-11-04/
LOCATION:CMK Rio de Janeiro\, Rua Conde de Irajá\, 604 – Botafogo\, Rio de Janeiro\, Rio de Janeiro\, 22271-020\, Brasil
CATEGORIES:Preces
ATTACH;FMTTYPE=image/jpeg:https://meditario.org.br/wp-content/uploads/2024/11/Sutra-mahayana.jpg
END:VEVENT
BEGIN:VEVENT
DTSTART;TZID=America/Sao_Paulo:20251104T104500
DTEND;TZID=America/Sao_Paulo:20251104T120000
DTSTAMP:20260424T081429
CREATED:20251024T132819Z
LAST-MODIFIED:20251024T132819Z
UID:10016570-1762253100-1762257600@meditario.org.br
SUMMARY:Aula com Meditação
DESCRIPTION:
URL:https://meditario.org.br/evento/aula-com-meditacao-52/
LOCATION:CMK Rio de Janeiro\, Rua Conde de Irajá\, 604 – Botafogo\, Rio de Janeiro\, Rio de Janeiro\, 22271-020\, Brasil
CATEGORIES:Aulas com Meditação,PGs de Terça Janeiro e Fevereiro
ATTACH;FMTTYPE=image/png:https://meditario.org.br/wp-content/uploads/2025/10/Captura-de-Tela-2025-10-24-as-10.25.02.png
END:VEVENT
BEGIN:VEVENT
DTSTART;TZID=America/Sao_Paulo:20251104T123000
DTEND;TZID=America/Sao_Paulo:20251104T130000
DTSTAMP:20260424T081429
CREATED:20251023T193521Z
LAST-MODIFIED:20251023T193619Z
UID:10016543-1762259400-1762261200@meditario.org.br
SUMMARY:Meditação na Hora do Almoço
DESCRIPTION:
URL:https://meditario.org.br/evento/meditacao-na-hora-do-almoco-5-2-2/2025-11-04/
LOCATION:CMK Rio de Janeiro\, Rua Conde de Irajá\, 604 – Botafogo\, Rio de Janeiro\, Rio de Janeiro\, 22271-020\, Brasil
CATEGORIES:Meditação na Hora do Almoço
ATTACH;FMTTYPE=image/jpeg:https://meditario.org.br/wp-content/uploads/2024/11/medita-em-30.jpg
END:VEVENT
BEGIN:VEVENT
DTSTART;TZID=America/Sao_Paulo:20251104T170000
DTEND;TZID=America/Sao_Paulo:20251104T183000
DTSTAMP:20260424T081429
CREATED:20251023T190847Z
LAST-MODIFIED:20251023T191036Z
UID:10016493-1762275600-1762281000@meditario.org.br
SUMMARY:Joia-que-Satisfaz-os-Desejos ou Joia-Coração
DESCRIPTION:
URL:https://meditario.org.br/evento/joia-que-satisfaz-os-desejos-ou-joia-coracao-28-2/2025-11-04/
LOCATION:CMK Rio de Janeiro\, Rua Conde de Irajá\, 604 – Botafogo\, Rio de Janeiro\, Rio de Janeiro\, 22271-020\, Brasil
CATEGORIES:Preces
ATTACH;FMTTYPE=image/jpeg:https://meditario.org.br/wp-content/uploads/2024/11/JSD-e-JC.jpg
END:VEVENT
BEGIN:VEVENT
DTSTART;TZID=America/Sao_Paulo:20251104T183000
DTEND;TZID=America/Sao_Paulo:20251104T190000
DTSTAMP:20260424T081429
CREATED:20251023T193649Z
LAST-MODIFIED:20251023T193745Z
UID:10016558-1762281000-1762282800@meditario.org.br
SUMMARY:Meditação Depois do Trabalho
DESCRIPTION:
URL:https://meditario.org.br/evento/meditacao-depois-do-trabalho-7-2-2/2025-11-04/
LOCATION:CMK Rio de Janeiro\, Rua Conde de Irajá\, 604 – Botafogo\, Rio de Janeiro\, Rio de Janeiro\, 22271-020\, Brasil
CATEGORIES:Meditação depois do trabalho
ATTACH;FMTTYPE=image/jpeg:https://meditario.org.br/wp-content/uploads/2024/11/medita-em-30.jpg
END:VEVENT
BEGIN:VEVENT
DTSTART;TZID=America/Sao_Paulo:20251104T193000
DTEND;TZID=America/Sao_Paulo:20251104T213000
DTSTAMP:20260424T081429
CREATED:20251023T192208Z
LAST-MODIFIED:20251023T192242Z
UID:10016302-1762284600-1762291800@meditario.org.br
SUMMARY:PF - Novo Oito Passos para a Felicidade
DESCRIPTION:
URL:https://meditario.org.br/evento/pf-novo-oito-passos-para-a-felicidade-6-2-2/2025-11-04/
LOCATION:CMK Rio de Janeiro\, Rua Conde de Irajá\, 604 – Botafogo\, Rio de Janeiro\, Rio de Janeiro\, 22271-020\, Brasil
CATEGORIES:Estudo Aprofundado
ATTACH;FMTTYPE=image/jpeg:https://meditario.org.br/wp-content/uploads/2024/11/pf-noppf.jpg
END:VEVENT
BEGIN:VEVENT
DTSTART;TZID=America/Sao_Paulo:20251105T123000
DTEND;TZID=America/Sao_Paulo:20251105T130000
DTSTAMP:20260424T081429
CREATED:20251023T193521Z
LAST-MODIFIED:20251023T193619Z
UID:10016544-1762345800-1762347600@meditario.org.br
SUMMARY:Meditação na Hora do Almoço
DESCRIPTION:
URL:https://meditario.org.br/evento/meditacao-na-hora-do-almoco-5-2-2/2025-11-05/
LOCATION:CMK Rio de Janeiro\, Rua Conde de Irajá\, 604 – Botafogo\, Rio de Janeiro\, Rio de Janeiro\, 22271-020\, Brasil
CATEGORIES:Meditação na Hora do Almoço
ATTACH;FMTTYPE=image/jpeg:https://meditario.org.br/wp-content/uploads/2024/11/medita-em-30.jpg
END:VEVENT
BEGIN:VEVENT
DTSTART;TZID=America/Sao_Paulo:20251105T170000
DTEND;TZID=America/Sao_Paulo:20251105T183000
DTSTAMP:20260424T081429
CREATED:20251023T190847Z
LAST-MODIFIED:20251023T191036Z
UID:10016494-1762362000-1762367400@meditario.org.br
SUMMARY:Joia-que-Satisfaz-os-Desejos ou Joia-Coração
DESCRIPTION:
URL:https://meditario.org.br/evento/joia-que-satisfaz-os-desejos-ou-joia-coracao-28-2/2025-11-05/
LOCATION:CMK Rio de Janeiro\, Rua Conde de Irajá\, 604 – Botafogo\, Rio de Janeiro\, Rio de Janeiro\, 22271-020\, Brasil
CATEGORIES:Preces
ATTACH;FMTTYPE=image/jpeg:https://meditario.org.br/wp-content/uploads/2024/11/JSD-e-JC.jpg
END:VEVENT
BEGIN:VEVENT
DTSTART;TZID=America/Sao_Paulo:20251105T183000
DTEND;TZID=America/Sao_Paulo:20251105T190000
DTSTAMP:20260424T081429
CREATED:20251023T193649Z
LAST-MODIFIED:20251023T193745Z
UID:10016559-1762367400-1762369200@meditario.org.br
SUMMARY:Meditação Depois do Trabalho
DESCRIPTION:
URL:https://meditario.org.br/evento/meditacao-depois-do-trabalho-7-2-2/2025-11-05/
LOCATION:CMK Rio de Janeiro\, Rua Conde de Irajá\, 604 – Botafogo\, Rio de Janeiro\, Rio de Janeiro\, 22271-020\, Brasil
CATEGORIES:Meditação depois do trabalho
ATTACH;FMTTYPE=image/jpeg:https://meditario.org.br/wp-content/uploads/2024/11/medita-em-30.jpg
END:VEVENT
BEGIN:VEVENT
DTSTART;TZID=America/Sao_Paulo:20251105T193000
DTEND;TZID=America/Sao_Paulo:20251105T210000
DTSTAMP:20260424T081429
CREATED:20250724T022152Z
LAST-MODIFIED:20250922T140559Z
UID:10015925-1762371000-1762376400@meditario.org.br
SUMMARY:Aula com Meditação
DESCRIPTION:
URL:https://meditario.org.br/evento/aula-com-meditacao-39/
LOCATION:CMK Rio de Janeiro\, Rua Conde de Irajá\, 604 – Botafogo\, Rio de Janeiro\, Rio de Janeiro\, 22271-020\, Brasil
CATEGORIES:Aulas com Meditação,PGs de Quarta Outubro Novembro Dezembro
ATTACH;FMTTYPE=image/png:https://meditario.org.br/wp-content/uploads/2025/07/Captura-de-Tela-2025-07-20-as-12.55.20.png
END:VEVENT
BEGIN:VEVENT
DTSTART;TZID=America/Sao_Paulo:20251106T070000
DTEND;TZID=America/Sao_Paulo:20251106T083000
DTSTAMP:20260424T081429
CREATED:20251023T192938Z
LAST-MODIFIED:20251023T193045Z
UID:10016522-1762412400-1762417800@meditario.org.br
SUMMARY:Caminho Rápido ao Grande Êxtase
DESCRIPTION:
URL:https://meditario.org.br/evento/caminho-rapido-ao-grande-extase-9-2-2/2025-11-06/
LOCATION:CMK Rio de Janeiro\, Rua Conde de Irajá\, 604 – Botafogo\, Rio de Janeiro\, Rio de Janeiro\, 22271-020\, Brasil
CATEGORIES:Preces
ATTACH;FMTTYPE=image/jpeg:https://meditario.org.br/wp-content/uploads/2024/11/caminho-rapido.jpg
END:VEVENT
BEGIN:VEVENT
DTSTART;TZID=America/Sao_Paulo:20251106T090000
DTEND;TZID=America/Sao_Paulo:20251106T093000
DTSTAMP:20260424T081429
CREATED:20251023T193248Z
LAST-MODIFIED:20251023T193346Z
UID:10016533-1762419600-1762421400@meditario.org.br
SUMMARY:A Confissão Bodhisattva das Quedas Morais
DESCRIPTION:
URL:https://meditario.org.br/evento/a-confissao-bodhisattva-das-quedas-morais-6-2-2/2025-11-06/
LOCATION:CMK Rio de Janeiro\, Rua Conde de Irajá\, 604 – Botafogo\, Rio de Janeiro\, Rio de Janeiro\, 22271-020\, Brasil
CATEGORIES:Preces
ATTACH;FMTTYPE=image/jpeg:https://meditario.org.br/wp-content/uploads/2024/11/Sutra-mahayana.jpg
END:VEVENT
BEGIN:VEVENT
DTSTART;TZID=America/Sao_Paulo:20251106T123000
DTEND;TZID=America/Sao_Paulo:20251106T130000
DTSTAMP:20260424T081429
CREATED:20251023T193521Z
LAST-MODIFIED:20251023T193619Z
UID:10016545-1762432200-1762434000@meditario.org.br
SUMMARY:Meditação na Hora do Almoço
DESCRIPTION:
URL:https://meditario.org.br/evento/meditacao-na-hora-do-almoco-5-2-2/2025-11-06/
LOCATION:CMK Rio de Janeiro\, Rua Conde de Irajá\, 604 – Botafogo\, Rio de Janeiro\, Rio de Janeiro\, 22271-020\, Brasil
CATEGORIES:Meditação na Hora do Almoço
ATTACH;FMTTYPE=image/jpeg:https://meditario.org.br/wp-content/uploads/2024/11/medita-em-30.jpg
END:VEVENT
BEGIN:VEVENT
DTSTART;TZID=America/Sao_Paulo:20251106T170000
DTEND;TZID=America/Sao_Paulo:20251106T183000
DTSTAMP:20260424T081429
CREATED:20251023T190847Z
LAST-MODIFIED:20251023T191036Z
UID:10016495-1762448400-1762453800@meditario.org.br
SUMMARY:Joia-que-Satisfaz-os-Desejos ou Joia-Coração
DESCRIPTION:
URL:https://meditario.org.br/evento/joia-que-satisfaz-os-desejos-ou-joia-coracao-28-2/2025-11-06/
LOCATION:CMK Rio de Janeiro\, Rua Conde de Irajá\, 604 – Botafogo\, Rio de Janeiro\, Rio de Janeiro\, 22271-020\, Brasil
CATEGORIES:Preces
ATTACH;FMTTYPE=image/jpeg:https://meditario.org.br/wp-content/uploads/2024/11/JSD-e-JC.jpg
END:VEVENT
BEGIN:VEVENT
DTSTART;TZID=America/Sao_Paulo:20251106T183000
DTEND;TZID=America/Sao_Paulo:20251106T190000
DTSTAMP:20260424T081429
CREATED:20251023T193649Z
LAST-MODIFIED:20251023T193745Z
UID:10016560-1762453800-1762455600@meditario.org.br
SUMMARY:Meditação Depois do Trabalho
DESCRIPTION:
URL:https://meditario.org.br/evento/meditacao-depois-do-trabalho-7-2-2/2025-11-06/
LOCATION:CMK Rio de Janeiro\, Rua Conde de Irajá\, 604 – Botafogo\, Rio de Janeiro\, Rio de Janeiro\, 22271-020\, Brasil
CATEGORIES:Meditação depois do trabalho
ATTACH;FMTTYPE=image/jpeg:https://meditario.org.br/wp-content/uploads/2024/11/medita-em-30.jpg
END:VEVENT
BEGIN:VEVENT
DTSTART;TZID=America/Sao_Paulo:20251106T190000
DTEND;TZID=America/Sao_Paulo:20251106T201500
DTSTAMP:20260424T081429
CREATED:20250927T120326Z
LAST-MODIFIED:20250930T132817Z
UID:10016467-1762455600-1762460100@meditario.org.br
SUMMARY:Aula com Meditação em Vila Velha
DESCRIPTION:
URL:https://meditario.org.br/evento/aula-com-meditacao-em-vila-velha-12/
LOCATION:Marzen\, R. Vinícius Tôrres\, 635\, vila velha\, ES\, 29.100430\, Brazil
CATEGORIES:Atividades Vila Velha,Vila Velha
ATTACH;FMTTYPE=image/png:https://meditario.org.br/wp-content/uploads/2025/07/Captura-de-Tela-2025-07-20-as-12.55.20.png
END:VEVENT
BEGIN:VEVENT
DTSTART;TZID=America/Sao_Paulo:20251106T193000
DTEND;TZID=America/Sao_Paulo:20251106T213000
DTSTAMP:20260424T081429
CREATED:20251023T192606Z
LAST-MODIFIED:20251023T192709Z
UID:10016516-1762457400-1762464600@meditario.org.br
SUMMARY:Programa de Formação de Professores
DESCRIPTION:
URL:https://meditario.org.br/evento/programa-de-formacao-de-professores-5-2-2/2025-11-06/
LOCATION:CMK Rio de Janeiro\, Rua Conde de Irajá\, 604 – Botafogo\, Rio de Janeiro\, Rio de Janeiro\, 22271-020\, Brasil
CATEGORIES:Estudo Aprofundado
ATTACH;FMTTYPE=image/jpeg:https://meditario.org.br/wp-content/uploads/2024/11/pfp.jpg
END:VEVENT
BEGIN:VEVENT
DTSTART;TZID=America/Sao_Paulo:20251107T070000
DTEND;TZID=America/Sao_Paulo:20251107T083000
DTSTAMP:20260424T081429
CREATED:20251023T192938Z
LAST-MODIFIED:20251023T193045Z
UID:10016523-1762498800-1762504200@meditario.org.br
SUMMARY:Caminho Rápido ao Grande Êxtase
DESCRIPTION:
URL:https://meditario.org.br/evento/caminho-rapido-ao-grande-extase-9-2-2/2025-11-07/
LOCATION:CMK Rio de Janeiro\, Rua Conde de Irajá\, 604 – Botafogo\, Rio de Janeiro\, Rio de Janeiro\, 22271-020\, Brasil
CATEGORIES:Preces
ATTACH;FMTTYPE=image/jpeg:https://meditario.org.br/wp-content/uploads/2024/11/caminho-rapido.jpg
END:VEVENT
BEGIN:VEVENT
DTSTART;TZID=America/Sao_Paulo:20251107T090000
DTEND;TZID=America/Sao_Paulo:20251107T093000
DTSTAMP:20260424T081430
CREATED:20251023T193248Z
LAST-MODIFIED:20251023T193346Z
UID:10016534-1762506000-1762507800@meditario.org.br
SUMMARY:A Confissão Bodhisattva das Quedas Morais
DESCRIPTION:
URL:https://meditario.org.br/evento/a-confissao-bodhisattva-das-quedas-morais-6-2-2/2025-11-07/
LOCATION:CMK Rio de Janeiro\, Rua Conde de Irajá\, 604 – Botafogo\, Rio de Janeiro\, Rio de Janeiro\, 22271-020\, Brasil
CATEGORIES:Preces
ATTACH;FMTTYPE=image/jpeg:https://meditario.org.br/wp-content/uploads/2024/11/Sutra-mahayana.jpg
END:VEVENT
BEGIN:VEVENT
DTSTART;TZID=America/Sao_Paulo:20251107T123000
DTEND;TZID=America/Sao_Paulo:20251107T130000
DTSTAMP:20260424T081430
CREATED:20251023T193521Z
LAST-MODIFIED:20251023T193619Z
UID:10016546-1762518600-1762520400@meditario.org.br
SUMMARY:Meditação na Hora do Almoço
DESCRIPTION:
URL:https://meditario.org.br/evento/meditacao-na-hora-do-almoco-5-2-2/2025-11-07/
LOCATION:CMK Rio de Janeiro\, Rua Conde de Irajá\, 604 – Botafogo\, Rio de Janeiro\, Rio de Janeiro\, 22271-020\, Brasil
CATEGORIES:Meditação na Hora do Almoço
ATTACH;FMTTYPE=image/jpeg:https://meditario.org.br/wp-content/uploads/2024/11/medita-em-30.jpg
END:VEVENT
BEGIN:VEVENT
DTSTART;TZID=America/Sao_Paulo:20251108T100000
DTEND;TZID=America/Sao_Paulo:20251108T120000
DTSTAMP:20260424T081430
CREATED:20250620T161118Z
LAST-MODIFIED:20251023T192533Z
UID:10015899-1762596000-1762603200@meditario.org.br
SUMMARY:PF - Compaixão Universal
DESCRIPTION:
URL:https://meditario.org.br/evento/pf-caminho-alegre-da-boa-fortuna-6/2025-11-08/
LOCATION:CMK Rio de Janeiro\, Rua Conde de Irajá\, 604 – Botafogo\, Rio de Janeiro\, Rio de Janeiro\, 22271-020\, Brasil
CATEGORIES:Estudo Aprofundado
ATTACH;FMTTYPE=image/jpeg:https://meditario.org.br/wp-content/uploads/2025/07/pf-de-sabado.jpg
END:VEVENT
BEGIN:VEVENT
DTSTART;TZID=America/Sao_Paulo:20251108T140000
DTEND;TZID=America/Sao_Paulo:20251109T111500
DTSTAMP:20260424T081430
CREATED:20250820T020212Z
LAST-MODIFIED:20251104T140343Z
UID:10015951-1762610400-1762686900@meditario.org.br
SUMMARY:Retiro de Tara 24h
DESCRIPTION:
URL:https://meditario.org.br/evento/retiro-de-tara-24h-2/
LOCATION:CMK Rio de Janeiro\, Rua Conde de Irajá\, 604 – Botafogo\, Rio de Janeiro\, Rio de Janeiro\, 22271-020\, Brasil
CATEGORIES:Retiros
ATTACH;FMTTYPE=image/png:https://meditario.org.br/wp-content/uploads/2025/01/retiro-tara-24h.png
END:VEVENT
BEGIN:VEVENT
DTSTART;TZID=America/Sao_Paulo:20251109T150000
DTEND;TZID=America/Sao_Paulo:20251109T163000
DTSTAMP:20260424T081430
CREATED:20251023T192010Z
LAST-MODIFIED:20251023T192100Z
UID:10016509-1762700400-1762705800@meditario.org.br
SUMMARY:Joia-Coração com Lamrim
DESCRIPTION:
URL:https://meditario.org.br/evento/joia-coracao-com-lamrim-2-2-2/2025-11-09/
LOCATION:CMK Rio de Janeiro\, Rua Conde de Irajá\, 604 – Botafogo\, Rio de Janeiro\, Rio de Janeiro\, 22271-020\, Brasil
CATEGORIES:Preces
ATTACH;FMTTYPE=image/jpeg:https://meditario.org.br/wp-content/uploads/2024/11/JSD-e-JC.jpg
END:VEVENT
BEGIN:VEVENT
DTSTART;TZID=America/Sao_Paulo:20251109T170000
DTEND;TZID=America/Sao_Paulo:20251109T183000
DTSTAMP:20260424T081430
CREATED:20250825T000449Z
LAST-MODIFIED:20251023T182105Z
UID:10015943-1762707600-1762713000@meditario.org.br
SUMMARY:Aula com Meditação
DESCRIPTION:
URL:https://meditario.org.br/evento/aula-com-meditacao-44/
LOCATION:Rio de Janeiro
CATEGORIES:Aulas com Meditação,PGs de Domingo Novembro
ATTACH;FMTTYPE=image/png:https://meditario.org.br/wp-content/uploads/2025/08/Captura-de-Tela-2025-08-19-as-00.58.37.png
END:VEVENT
BEGIN:VEVENT
DTSTART;TZID=America/Sao_Paulo:20251110T123000
DTEND;TZID=America/Sao_Paulo:20251110T130000
DTSTAMP:20260424T081430
CREATED:20251023T193521Z
LAST-MODIFIED:20251023T193619Z
UID:10016547-1762777800-1762779600@meditario.org.br
SUMMARY:Meditação na Hora do Almoço
DESCRIPTION:
URL:https://meditario.org.br/evento/meditacao-na-hora-do-almoco-5-2-2/2025-11-10/
LOCATION:CMK Rio de Janeiro\, Rua Conde de Irajá\, 604 – Botafogo\, Rio de Janeiro\, Rio de Janeiro\, 22271-020\, Brasil
CATEGORIES:Meditação na Hora do Almoço
ATTACH;FMTTYPE=image/jpeg:https://meditario.org.br/wp-content/uploads/2024/11/medita-em-30.jpg
END:VEVENT
BEGIN:VEVENT
DTSTART;TZID=America/Sao_Paulo:20251110T170000
DTEND;TZID=America/Sao_Paulo:20251110T183000
DTSTAMP:20260424T081430
CREATED:20251023T190847Z
LAST-MODIFIED:20251023T191036Z
UID:10016496-1762794000-1762799400@meditario.org.br
SUMMARY:Joia-que-Satisfaz-os-Desejos ou Joia-Coração
DESCRIPTION:
URL:https://meditario.org.br/evento/joia-que-satisfaz-os-desejos-ou-joia-coracao-28-2/2025-11-10/
LOCATION:CMK Rio de Janeiro\, Rua Conde de Irajá\, 604 – Botafogo\, Rio de Janeiro\, Rio de Janeiro\, 22271-020\, Brasil
CATEGORIES:Preces
ATTACH;FMTTYPE=image/jpeg:https://meditario.org.br/wp-content/uploads/2024/11/JSD-e-JC.jpg
END:VEVENT
BEGIN:VEVENT
DTSTART;TZID=America/Sao_Paulo:20251110T183000
DTEND;TZID=America/Sao_Paulo:20251110T190000
DTSTAMP:20260424T081430
CREATED:20251023T193649Z
LAST-MODIFIED:20251023T193745Z
UID:10016561-1762799400-1762801200@meditario.org.br
SUMMARY:Meditação Depois do Trabalho
DESCRIPTION:
URL:https://meditario.org.br/evento/meditacao-depois-do-trabalho-7-2-2/2025-11-10/
LOCATION:CMK Rio de Janeiro\, Rua Conde de Irajá\, 604 – Botafogo\, Rio de Janeiro\, Rio de Janeiro\, 22271-020\, Brasil
CATEGORIES:Meditação depois do trabalho
ATTACH;FMTTYPE=image/jpeg:https://meditario.org.br/wp-content/uploads/2024/11/medita-em-30.jpg
END:VEVENT
BEGIN:VEVENT
DTSTART;TZID=America/Sao_Paulo:20251111T070000
DTEND;TZID=America/Sao_Paulo:20251111T083000
DTSTAMP:20260424T081430
CREATED:20251023T192938Z
LAST-MODIFIED:20251023T193045Z
UID:10016524-1762844400-1762849800@meditario.org.br
SUMMARY:Caminho Rápido ao Grande Êxtase
DESCRIPTION:
URL:https://meditario.org.br/evento/caminho-rapido-ao-grande-extase-9-2-2/2025-11-11/
LOCATION:CMK Rio de Janeiro\, Rua Conde de Irajá\, 604 – Botafogo\, Rio de Janeiro\, Rio de Janeiro\, 22271-020\, Brasil
CATEGORIES:Preces
ATTACH;FMTTYPE=image/jpeg:https://meditario.org.br/wp-content/uploads/2024/11/caminho-rapido.jpg
END:VEVENT
BEGIN:VEVENT
DTSTART;TZID=America/Sao_Paulo:20251111T090000
DTEND;TZID=America/Sao_Paulo:20251111T093000
DTSTAMP:20260424T081430
CREATED:20251023T193248Z
LAST-MODIFIED:20251023T193346Z
UID:10016535-1762851600-1762853400@meditario.org.br
SUMMARY:A Confissão Bodhisattva das Quedas Morais
DESCRIPTION:
URL:https://meditario.org.br/evento/a-confissao-bodhisattva-das-quedas-morais-6-2-2/2025-11-11/
LOCATION:CMK Rio de Janeiro\, Rua Conde de Irajá\, 604 – Botafogo\, Rio de Janeiro\, Rio de Janeiro\, 22271-020\, Brasil
CATEGORIES:Preces
ATTACH;FMTTYPE=image/jpeg:https://meditario.org.br/wp-content/uploads/2024/11/Sutra-mahayana.jpg
END:VEVENT
END:VCALENDAR