BEGIN:VCALENDAR
VERSION:2.0
PRODID:-//Centro de Meditação Kadampa Rio de Janeiro - ECPv6.15.20//NONSGML v1.0//EN
CALSCALE:GREGORIAN
METHOD:PUBLISH
X-WR-CALNAME:Centro de Meditação Kadampa Rio de Janeiro
X-ORIGINAL-URL:https://meditario.org.br
X-WR-CALDESC:Eventos para Centro de Meditação Kadampa Rio de Janeiro
REFRESH-INTERVAL;VALUE=DURATION:PT1H
X-Robots-Tag:noindex
X-PUBLISHED-TTL:PT1H
BEGIN:VTIMEZONE
TZID:America/Sao_Paulo
BEGIN:STANDARD
TZOFFSETFROM:-0300
TZOFFSETTO:-0300
TZNAME:-03
DTSTART:20250101T000000
END:STANDARD
END:VTIMEZONE
BEGIN:VEVENT
DTSTART;TZID=America/Sao_Paulo:20260105T123000
DTEND;TZID=America/Sao_Paulo:20260131T130000
DTSTAMP:20260424T033445
CREATED:20251019T025600Z
LAST-MODIFIED:20260130T134357Z
UID:10016488-1767616200-1769864400@meditario.org.br
SUMMARY:Desafio Projeto Verão 2026
DESCRIPTION:
URL:https://meditario.org.br/evento/desafio-projeto-verao-2026/
LOCATION:CMK Rio de Janeiro\, Rua Conde de Irajá\, 604 – Botafogo\, Rio de Janeiro\, Rio de Janeiro\, 22271-020\, Brasil
CATEGORIES:Atividades Especiais
ATTACH;FMTTYPE=image/png:https://meditario.org.br/wp-content/uploads/2025/10/Captura-de-Tela-2025-10-18-as-23.48.29.png
END:VEVENT
BEGIN:VEVENT
DTSTART;TZID=America/Sao_Paulo:20260109T070000
DTEND;TZID=America/Sao_Paulo:20260109T083000
DTSTAMP:20260424T033445
CREATED:20251212T202730Z
LAST-MODIFIED:20251212T203028Z
UID:10016891-1767942000-1767947400@meditario.org.br
SUMMARY:Caminho Rápido ao Grande Êxtase
DESCRIPTION:
URL:https://meditario.org.br/evento/caminho-rapido-ao-grande-extase-9-2-2-3/2026-01-09/
LOCATION:CMK Rio de Janeiro\, Rua Conde de Irajá\, 604 – Botafogo\, Rio de Janeiro\, Rio de Janeiro\, 22271-020\, Brasil
CATEGORIES:Preces
ATTACH;FMTTYPE=image/jpeg:https://meditario.org.br/wp-content/uploads/2024/11/caminho-rapido.jpg
END:VEVENT
BEGIN:VEVENT
DTSTART;TZID=America/Sao_Paulo:20260109T090000
DTEND;TZID=America/Sao_Paulo:20260109T093000
DTSTAMP:20260424T033445
CREATED:20251212T203402Z
LAST-MODIFIED:20251212T203455Z
UID:10016909-1767949200-1767951000@meditario.org.br
SUMMARY:A Confissão Bodhisattva das Quedas Morais
DESCRIPTION:
URL:https://meditario.org.br/evento/a-confissao-bodhisattva-das-quedas-morais-6-2-2-2/2026-01-09/
LOCATION:CMK Rio de Janeiro\, Rua Conde de Irajá\, 604 – Botafogo\, Rio de Janeiro\, Rio de Janeiro\, 22271-020\, Brasil
CATEGORIES:Preces
ATTACH;FMTTYPE=image/jpeg:https://meditario.org.br/wp-content/uploads/2024/11/Sutra-mahayana.jpg
END:VEVENT
BEGIN:VEVENT
DTSTART;TZID=America/Sao_Paulo:20260109T123000
DTEND;TZID=America/Sao_Paulo:20260109T130000
DTSTAMP:20260424T033445
CREATED:20251212T203802Z
LAST-MODIFIED:20251212T203845Z
UID:10016928-1767961800-1767963600@meditario.org.br
SUMMARY:Meditação na Hora do Almoço
DESCRIPTION:
URL:https://meditario.org.br/evento/meditacao-na-hora-do-almoco-5-2-2-2/2026-01-09/
LOCATION:CMK Rio de Janeiro\, Rua Conde de Irajá\, 604 – Botafogo\, Rio de Janeiro\, Rio de Janeiro\, 22271-020\, Brasil
CATEGORIES:Meditação na Hora do Almoço
ATTACH;FMTTYPE=image/jpeg:https://meditario.org.br/wp-content/uploads/2024/11/medita-em-30.jpg
END:VEVENT
BEGIN:VEVENT
DTSTART;TZID=America/Sao_Paulo:20260109T193000
DTEND;TZID=America/Sao_Paulo:20260109T210000
DTSTAMP:20260424T033445
CREATED:20251210T160525Z
LAST-MODIFIED:20251213T205458Z
UID:10016850-1767987000-1767992400@meditario.org.br
SUMMARY:Filial Salvador (BA): Palestra com a Monja Budista
DESCRIPTION:
URL:https://meditario.org.br/evento/palestra-com-a-monja-budista/
LOCATION:Villa de Gaia – Pituba\, R. Rio de Janeiro\, 694 - Pituba\, Salvador\, Bahia\, 41830-400\, Brazil
CATEGORIES:Atividades em Salvador
ATTACH;FMTTYPE=image/jpeg:https://meditario.org.br/wp-content/uploads/2025/12/site-e-sympla-2025-4.jpg
END:VEVENT
BEGIN:VEVENT
DTSTART;TZID=America/Sao_Paulo:20260109T193000
DTEND;TZID=America/Sao_Paulo:20260109T210000
DTSTAMP:20260424T033445
CREATED:20251212T200916Z
LAST-MODIFIED:20251212T200954Z
UID:10016243-1767987000-1767992400@meditario.org.br
SUMMARY:Joia-que-Satisfaz-os-Desejos com Tsog
DESCRIPTION:
URL:https://meditario.org.br/evento/joia-que-satisfaz-os-desejos-ou-joia-coracao-26-2/2026-01-09/
LOCATION:CMK Rio de Janeiro\, Rua Conde de Irajá\, 604 – Botafogo\, Rio de Janeiro\, Rio de Janeiro\, 22271-020\, Brasil
CATEGORIES:Preces
ATTACH;FMTTYPE=image/jpeg:https://meditario.org.br/wp-content/uploads/2024/11/JSD-e-JC.jpg
END:VEVENT
BEGIN:VEVENT
DTSTART;TZID=America/Sao_Paulo:20260109T193000
DTEND;TZID=America/Sao_Paulo:20260110T173000
DTSTAMP:20260424T033445
CREATED:20251210T155844Z
LAST-MODIFIED:20251210T155844Z
UID:10016849-1767987000-1768066200@meditario.org.br
SUMMARY:Visita da Monja Kelsang Monlam a Salvador
DESCRIPTION:
URL:https://meditario.org.br/evento/visita-da-monja-kelsang-monlam-a-salvador/
LOCATION:Villa de Gaia – Pituba\, R. Rio de Janeiro\, 694 - Pituba\, Salvador\, Bahia\, 41830-400\, Brazil
CATEGORIES:Atividades em Salvador
ATTACH;FMTTYPE=image/jpeg:https://meditario.org.br/wp-content/uploads/2025/12/site-e-sympla-2025-3.jpg
END:VEVENT
BEGIN:VEVENT
DTSTART;TZID=America/Sao_Paulo:20260110T090000
DTEND;TZID=America/Sao_Paulo:20260110T130000
DTSTAMP:20260424T033445
CREATED:20251019T030228Z
LAST-MODIFIED:20251111T140818Z
UID:10016489-1768035600-1768050000@meditario.org.br
SUMMARY:Feliz Dia de Vajrayogini
DESCRIPTION:
URL:https://meditario.org.br/evento/feliz-dia-de-vajrayogini/
LOCATION:CMK Rio de Janeiro\, Rua Conde de Irajá\, 604 – Botafogo\, Rio de Janeiro\, Rio de Janeiro\, 22271-020\, Brasil
CATEGORIES:Atividades Especiais
ATTACH;FMTTYPE=image/png:https://meditario.org.br/wp-content/uploads/2025/10/Captura-de-Tela-2025-10-19-as-00.00.11.png
END:VEVENT
BEGIN:VEVENT
DTSTART;TZID=America/Sao_Paulo:20260110T100000
DTEND;TZID=America/Sao_Paulo:20260110T130000
DTSTAMP:20260424T033445
CREATED:20251210T162353Z
LAST-MODIFIED:20251213T205152Z
UID:10016853-1768039200-1768050000@meditario.org.br
SUMMARY:Filial Salvador (BA): Mini Curso
DESCRIPTION:
URL:https://meditario.org.br/evento/mini-curso-3/
LOCATION:Vivarte – Pituba\, R. Mato Grosso\, 660 - Pituba\, Salvador\, Bahia\, 41830-151\, Brazil
CATEGORIES:Atividades em Salvador
ATTACH;FMTTYPE=image/jpeg:https://meditario.org.br/wp-content/uploads/2025/12/site-e-sympla-2025-7.jpg
END:VEVENT
BEGIN:VEVENT
DTSTART;TZID=America/Sao_Paulo:20260110T100000
DTEND;TZID=America/Sao_Paulo:20260110T173000
DTSTAMP:20260424T033445
CREATED:20251210T161137Z
LAST-MODIFIED:20251213T205345Z
UID:10016851-1768039200-1768066200@meditario.org.br
SUMMARY:Filial Salvador (BA): Um Dia de Budismo e Meditação
DESCRIPTION:
URL:https://meditario.org.br/evento/um-dia-de-budismo-e-meditacao/
LOCATION:Vivarte – Pituba\, R. Mato Grosso\, 660 - Pituba\, Salvador\, Bahia\, 41830-151\, Brazil
CATEGORIES:Atividades em Salvador
ATTACH;FMTTYPE=image/jpeg:https://meditario.org.br/wp-content/uploads/2025/12/site-e-sympla-2025-5.jpg
END:VEVENT
BEGIN:VEVENT
DTSTART;TZID=America/Sao_Paulo:20260110T143000
DTEND;TZID=America/Sao_Paulo:20260110T173000
DTSTAMP:20260424T033445
CREATED:20251210T161725Z
LAST-MODIFIED:20251213T205221Z
UID:10016852-1768055400-1768066200@meditario.org.br
SUMMARY:Filial Salvador (BA): Mini Curso
DESCRIPTION:
URL:https://meditario.org.br/evento/acalme-sua-mente-com-o-encorajamento-gentil-da-monja-kelsang-monlam/
LOCATION:Vivarte – Pituba\, R. Mato Grosso\, 660 - Pituba\, Salvador\, Bahia\, 41830-151\, Brazil
CATEGORIES:Atividades em Salvador
ATTACH;FMTTYPE=image/jpeg:https://meditario.org.br/wp-content/uploads/2025/12/site-e-sympla-2025-6.jpg
END:VEVENT
BEGIN:VEVENT
DTSTART;TZID=America/Sao_Paulo:20260111T170000
DTEND;TZID=America/Sao_Paulo:20260111T183000
DTSTAMP:20260424T033445
CREATED:20251217T042129Z
LAST-MODIFIED:20260107T193716Z
UID:10016978-1768150800-1768156200@meditario.org.br
SUMMARY:Aula com Meditação
DESCRIPTION:
URL:https://meditario.org.br/evento/aula-com-meditacao-75/
LOCATION:CMK Rio de Janeiro\, Rua Conde de Irajá\, 604 – Botafogo\, Rio de Janeiro\, Rio de Janeiro\, 22271-020\, Brasil
CATEGORIES:Aulas com Meditação,PG de Domingo Dezembro
ATTACH;FMTTYPE=image/png:https://meditario.org.br/wp-content/uploads/2025/12/Captura-de-Tela-2025-12-17-as-01.18.59.png
END:VEVENT
BEGIN:VEVENT
DTSTART;TZID=America/Sao_Paulo:20260112T070000
DTEND;TZID=America/Sao_Paulo:20260112T083000
DTSTAMP:20260424T033445
CREATED:20251212T202730Z
LAST-MODIFIED:20251212T203028Z
UID:10016892-1768201200-1768206600@meditario.org.br
SUMMARY:Caminho Rápido ao Grande Êxtase
DESCRIPTION:
URL:https://meditario.org.br/evento/caminho-rapido-ao-grande-extase-9-2-2-3/2026-01-12/
LOCATION:CMK Rio de Janeiro\, Rua Conde de Irajá\, 604 – Botafogo\, Rio de Janeiro\, Rio de Janeiro\, 22271-020\, Brasil
CATEGORIES:Preces
ATTACH;FMTTYPE=image/jpeg:https://meditario.org.br/wp-content/uploads/2024/11/caminho-rapido.jpg
END:VEVENT
BEGIN:VEVENT
DTSTART;TZID=America/Sao_Paulo:20260112T090000
DTEND;TZID=America/Sao_Paulo:20260112T093000
DTSTAMP:20260424T033445
CREATED:20251212T203402Z
LAST-MODIFIED:20251212T203455Z
UID:10016910-1768208400-1768210200@meditario.org.br
SUMMARY:A Confissão Bodhisattva das Quedas Morais
DESCRIPTION:
URL:https://meditario.org.br/evento/a-confissao-bodhisattva-das-quedas-morais-6-2-2-2/2026-01-12/
LOCATION:CMK Rio de Janeiro\, Rua Conde de Irajá\, 604 – Botafogo\, Rio de Janeiro\, Rio de Janeiro\, 22271-020\, Brasil
CATEGORIES:Preces
ATTACH;FMTTYPE=image/jpeg:https://meditario.org.br/wp-content/uploads/2024/11/Sutra-mahayana.jpg
END:VEVENT
BEGIN:VEVENT
DTSTART;TZID=America/Sao_Paulo:20260112T123000
DTEND;TZID=America/Sao_Paulo:20260112T130000
DTSTAMP:20260424T033445
CREATED:20251212T203802Z
LAST-MODIFIED:20251212T203845Z
UID:10016929-1768221000-1768222800@meditario.org.br
SUMMARY:Meditação na Hora do Almoço
DESCRIPTION:
URL:https://meditario.org.br/evento/meditacao-na-hora-do-almoco-5-2-2-2/2026-01-12/
LOCATION:CMK Rio de Janeiro\, Rua Conde de Irajá\, 604 – Botafogo\, Rio de Janeiro\, Rio de Janeiro\, 22271-020\, Brasil
CATEGORIES:Meditação na Hora do Almoço
ATTACH;FMTTYPE=image/jpeg:https://meditario.org.br/wp-content/uploads/2024/11/medita-em-30.jpg
END:VEVENT
BEGIN:VEVENT
DTSTART;TZID=America/Sao_Paulo:20260112T170000
DTEND;TZID=America/Sao_Paulo:20260112T183000
DTSTAMP:20260424T033445
CREATED:20251212T200218Z
LAST-MODIFIED:20251212T200600Z
UID:10016860-1768237200-1768242600@meditario.org.br
SUMMARY:Joia-que-Satisfaz-os-Desejos ou Joia-Coração
DESCRIPTION:
URL:https://meditario.org.br/evento/joia-que-satisfaz-os-desejos-ou-joia-coracao-28-2-2/2026-01-12/
LOCATION:CMK Rio de Janeiro\, Rua Conde de Irajá\, 604 – Botafogo\, Rio de Janeiro\, Rio de Janeiro\, 22271-020\, Brasil
CATEGORIES:Preces
ATTACH;FMTTYPE=image/jpeg:https://meditario.org.br/wp-content/uploads/2024/11/JSD-e-JC.jpg
END:VEVENT
BEGIN:VEVENT
DTSTART;TZID=America/Sao_Paulo:20260112T183000
DTEND;TZID=America/Sao_Paulo:20260112T190000
DTSTAMP:20260424T033445
CREATED:20251213T204025Z
LAST-MODIFIED:20251213T204150Z
UID:10016655-1768242600-1768244400@meditario.org.br
SUMMARY:Meditação Depois do Trabalho
DESCRIPTION:
URL:https://meditario.org.br/evento/meditacao-depois-do-trabalho-7-3-2-2/2026-01-12/
LOCATION:CMK Rio de Janeiro\, Rua Conde de Irajá\, 604 – Botafogo\, Rio de Janeiro\, Rio de Janeiro\, 22271-020\, Brasil
CATEGORIES:Meditação depois do trabalho
ATTACH;FMTTYPE=image/jpeg:https://meditario.org.br/wp-content/uploads/2024/11/medita-em-30.jpg
END:VEVENT
BEGIN:VEVENT
DTSTART;TZID=America/Sao_Paulo:20260112T193000
DTEND;TZID=America/Sao_Paulo:20260112T213000
DTSTAMP:20260424T033445
CREATED:20251212T202103Z
LAST-MODIFIED:20251212T202214Z
UID:10016518-1768246200-1768253400@meditario.org.br
SUMMARY:Programa de Formação de Professores
DESCRIPTION:
URL:https://meditario.org.br/evento/programa-de-formacao-de-professores-5-2-2-3/2026-01-12/
LOCATION:CMK Rio de Janeiro\, Rua Conde de Irajá\, 604 – Botafogo\, Rio de Janeiro\, Rio de Janeiro\, 22271-020\, Brasil
CATEGORIES:Estudo Aprofundado
ATTACH;FMTTYPE=image/jpeg:https://meditario.org.br/wp-content/uploads/2024/11/pfp.jpg
END:VEVENT
BEGIN:VEVENT
DTSTART;TZID=America/Sao_Paulo:20260113T070000
DTEND;TZID=America/Sao_Paulo:20260113T083000
DTSTAMP:20260424T033445
CREATED:20251212T202730Z
LAST-MODIFIED:20251212T203028Z
UID:10016893-1768287600-1768293000@meditario.org.br
SUMMARY:Caminho Rápido ao Grande Êxtase
DESCRIPTION:
URL:https://meditario.org.br/evento/caminho-rapido-ao-grande-extase-9-2-2-3/2026-01-13/
LOCATION:CMK Rio de Janeiro\, Rua Conde de Irajá\, 604 – Botafogo\, Rio de Janeiro\, Rio de Janeiro\, 22271-020\, Brasil
CATEGORIES:Preces
ATTACH;FMTTYPE=image/jpeg:https://meditario.org.br/wp-content/uploads/2024/11/caminho-rapido.jpg
END:VEVENT
BEGIN:VEVENT
DTSTART;TZID=America/Sao_Paulo:20260113T090000
DTEND;TZID=America/Sao_Paulo:20260113T093000
DTSTAMP:20260424T033445
CREATED:20251212T203402Z
LAST-MODIFIED:20251212T203455Z
UID:10016911-1768294800-1768296600@meditario.org.br
SUMMARY:A Confissão Bodhisattva das Quedas Morais
DESCRIPTION:
URL:https://meditario.org.br/evento/a-confissao-bodhisattva-das-quedas-morais-6-2-2-2/2026-01-13/
LOCATION:CMK Rio de Janeiro\, Rua Conde de Irajá\, 604 – Botafogo\, Rio de Janeiro\, Rio de Janeiro\, 22271-020\, Brasil
CATEGORIES:Preces
ATTACH;FMTTYPE=image/jpeg:https://meditario.org.br/wp-content/uploads/2024/11/Sutra-mahayana.jpg
END:VEVENT
BEGIN:VEVENT
DTSTART;TZID=America/Sao_Paulo:20260113T104500
DTEND;TZID=America/Sao_Paulo:20260113T120000
DTSTAMP:20260424T033445
CREATED:20251214T170715Z
LAST-MODIFIED:20251228T232258Z
UID:10016960-1768301100-1768305600@meditario.org.br
SUMMARY:Aula com Meditação
DESCRIPTION:
URL:https://meditario.org.br/evento/aula-com-meditacao-59/
LOCATION:CMK Rio de Janeiro\, Rua Conde de Irajá\, 604 – Botafogo\, Rio de Janeiro\, Rio de Janeiro\, 22271-020\, Brasil
CATEGORIES:Aulas com Meditação,PG Terça Manhã Janeiro Fevereiro,PGs de Terça Janeiro e Fevereiro
ATTACH;FMTTYPE=image/png:https://meditario.org.br/wp-content/uploads/2025/12/Captura-de-Tela-2025-12-14-as-13.54.05.png
END:VEVENT
BEGIN:VEVENT
DTSTART;TZID=America/Sao_Paulo:20260113T123000
DTEND;TZID=America/Sao_Paulo:20260113T130000
DTSTAMP:20260424T033445
CREATED:20251212T203802Z
LAST-MODIFIED:20251212T203845Z
UID:10016930-1768307400-1768309200@meditario.org.br
SUMMARY:Meditação na Hora do Almoço
DESCRIPTION:
URL:https://meditario.org.br/evento/meditacao-na-hora-do-almoco-5-2-2-2/2026-01-13/
LOCATION:CMK Rio de Janeiro\, Rua Conde de Irajá\, 604 – Botafogo\, Rio de Janeiro\, Rio de Janeiro\, 22271-020\, Brasil
CATEGORIES:Meditação na Hora do Almoço
ATTACH;FMTTYPE=image/jpeg:https://meditario.org.br/wp-content/uploads/2024/11/medita-em-30.jpg
END:VEVENT
BEGIN:VEVENT
DTSTART;TZID=America/Sao_Paulo:20260113T170000
DTEND;TZID=America/Sao_Paulo:20260113T183000
DTSTAMP:20260424T033445
CREATED:20251212T200218Z
LAST-MODIFIED:20251212T200600Z
UID:10016861-1768323600-1768329000@meditario.org.br
SUMMARY:Joia-que-Satisfaz-os-Desejos ou Joia-Coração
DESCRIPTION:
URL:https://meditario.org.br/evento/joia-que-satisfaz-os-desejos-ou-joia-coracao-28-2-2/2026-01-13/
LOCATION:CMK Rio de Janeiro\, Rua Conde de Irajá\, 604 – Botafogo\, Rio de Janeiro\, Rio de Janeiro\, 22271-020\, Brasil
CATEGORIES:Preces
ATTACH;FMTTYPE=image/jpeg:https://meditario.org.br/wp-content/uploads/2024/11/JSD-e-JC.jpg
END:VEVENT
BEGIN:VEVENT
DTSTART;TZID=America/Sao_Paulo:20260113T183000
DTEND;TZID=America/Sao_Paulo:20260113T190000
DTSTAMP:20260424T033445
CREATED:20251213T204025Z
LAST-MODIFIED:20251213T204150Z
UID:10016656-1768329000-1768330800@meditario.org.br
SUMMARY:Meditação Depois do Trabalho
DESCRIPTION:
URL:https://meditario.org.br/evento/meditacao-depois-do-trabalho-7-3-2-2/2026-01-13/
LOCATION:CMK Rio de Janeiro\, Rua Conde de Irajá\, 604 – Botafogo\, Rio de Janeiro\, Rio de Janeiro\, 22271-020\, Brasil
CATEGORIES:Meditação depois do trabalho
ATTACH;FMTTYPE=image/jpeg:https://meditario.org.br/wp-content/uploads/2024/11/medita-em-30.jpg
END:VEVENT
BEGIN:VEVENT
DTSTART;TZID=America/Sao_Paulo:20260113T193000
DTEND;TZID=America/Sao_Paulo:20260113T213000
DTSTAMP:20260424T033445
CREATED:20251212T201715Z
LAST-MODIFIED:20251212T201743Z
UID:10016513-1768332600-1768339800@meditario.org.br
SUMMARY:PF - Novo Oito Passos para a Felicidade
DESCRIPTION:
URL:https://meditario.org.br/evento/pf-novo-oito-passos-para-a-felicidade-6-2-2-2/2026-01-13/
LOCATION:CMK Rio de Janeiro\, Rua Conde de Irajá\, 604 – Botafogo\, Rio de Janeiro\, Rio de Janeiro\, 22271-020\, Brasil
CATEGORIES:Estudo Aprofundado
ATTACH;FMTTYPE=image/jpeg:https://meditario.org.br/wp-content/uploads/2024/11/pf-noppf.jpg
END:VEVENT
BEGIN:VEVENT
DTSTART;TZID=America/Sao_Paulo:20260114T090000
DTEND;TZID=America/Sao_Paulo:20260114T093000
DTSTAMP:20260424T033445
CREATED:20251212T203402Z
LAST-MODIFIED:20251212T203455Z
UID:10016912-1768381200-1768383000@meditario.org.br
SUMMARY:A Confissão Bodhisattva das Quedas Morais
DESCRIPTION:
URL:https://meditario.org.br/evento/a-confissao-bodhisattva-das-quedas-morais-6-2-2-2/2026-01-14/
LOCATION:CMK Rio de Janeiro\, Rua Conde de Irajá\, 604 – Botafogo\, Rio de Janeiro\, Rio de Janeiro\, 22271-020\, Brasil
CATEGORIES:Preces
ATTACH;FMTTYPE=image/jpeg:https://meditario.org.br/wp-content/uploads/2024/11/Sutra-mahayana.jpg
END:VEVENT
BEGIN:VEVENT
DTSTART;TZID=America/Sao_Paulo:20260114T123000
DTEND;TZID=America/Sao_Paulo:20260114T130000
DTSTAMP:20260424T033445
CREATED:20251212T203802Z
LAST-MODIFIED:20251212T203845Z
UID:10016931-1768393800-1768395600@meditario.org.br
SUMMARY:Meditação na Hora do Almoço
DESCRIPTION:
URL:https://meditario.org.br/evento/meditacao-na-hora-do-almoco-5-2-2-2/2026-01-14/
LOCATION:CMK Rio de Janeiro\, Rua Conde de Irajá\, 604 – Botafogo\, Rio de Janeiro\, Rio de Janeiro\, 22271-020\, Brasil
CATEGORIES:Meditação na Hora do Almoço
ATTACH;FMTTYPE=image/jpeg:https://meditario.org.br/wp-content/uploads/2024/11/medita-em-30.jpg
END:VEVENT
BEGIN:VEVENT
DTSTART;TZID=America/Sao_Paulo:20260114T170000
DTEND;TZID=America/Sao_Paulo:20260114T183000
DTSTAMP:20260424T033445
CREATED:20251212T200218Z
LAST-MODIFIED:20251212T200600Z
UID:10016862-1768410000-1768415400@meditario.org.br
SUMMARY:Joia-que-Satisfaz-os-Desejos ou Joia-Coração
DESCRIPTION:
URL:https://meditario.org.br/evento/joia-que-satisfaz-os-desejos-ou-joia-coracao-28-2-2/2026-01-14/
LOCATION:CMK Rio de Janeiro\, Rua Conde de Irajá\, 604 – Botafogo\, Rio de Janeiro\, Rio de Janeiro\, 22271-020\, Brasil
CATEGORIES:Preces
ATTACH;FMTTYPE=image/jpeg:https://meditario.org.br/wp-content/uploads/2024/11/JSD-e-JC.jpg
END:VEVENT
BEGIN:VEVENT
DTSTART;TZID=America/Sao_Paulo:20260114T183000
DTEND;TZID=America/Sao_Paulo:20260114T190000
DTSTAMP:20260424T033445
CREATED:20251213T204025Z
LAST-MODIFIED:20251213T204150Z
UID:10016657-1768415400-1768417200@meditario.org.br
SUMMARY:Meditação Depois do Trabalho
DESCRIPTION:
URL:https://meditario.org.br/evento/meditacao-depois-do-trabalho-7-3-2-2/2026-01-14/
LOCATION:CMK Rio de Janeiro\, Rua Conde de Irajá\, 604 – Botafogo\, Rio de Janeiro\, Rio de Janeiro\, 22271-020\, Brasil
CATEGORIES:Meditação depois do trabalho
ATTACH;FMTTYPE=image/jpeg:https://meditario.org.br/wp-content/uploads/2024/11/medita-em-30.jpg
END:VEVENT
BEGIN:VEVENT
DTSTART;TZID=America/Sao_Paulo:20260114T193000
DTEND;TZID=America/Sao_Paulo:20260114T210000
DTSTAMP:20260424T033445
CREATED:20251214T183424Z
LAST-MODIFIED:20260109T025731Z
UID:10016965-1768419000-1768424400@meditario.org.br
SUMMARY:Aula com Meditação
DESCRIPTION:
URL:https://meditario.org.br/evento/aula-com-meditacao-64/
LOCATION:CMK Rio de Janeiro\, Rua Conde de Irajá\, 604 – Botafogo\, Rio de Janeiro\, Rio de Janeiro\, 22271-020\, Brasil
CATEGORIES:Aulas com Meditação,PGs de Quarta Outubro Novembro Dezembro
ATTACH;FMTTYPE=image/png:https://meditario.org.br/wp-content/uploads/2025/12/Captura-de-Tela-2025-12-14-as-15.30.29.png
END:VEVENT
END:VCALENDAR