BEGIN:VCALENDAR
VERSION:2.0
PRODID:-//Centro de Meditação Kadampa Rio de Janeiro - ECPv6.15.20//NONSGML v1.0//EN
CALSCALE:GREGORIAN
METHOD:PUBLISH
X-ORIGINAL-URL:https://meditario.org.br
X-WR-CALDESC:Eventos para Centro de Meditação Kadampa Rio de Janeiro
REFRESH-INTERVAL;VALUE=DURATION:PT1H
X-Robots-Tag:noindex
X-PUBLISHED-TTL:PT1H
BEGIN:VTIMEZONE
TZID:America/Sao_Paulo
BEGIN:STANDARD
TZOFFSETFROM:-0300
TZOFFSETTO:-0300
TZNAME:-03
DTSTART:20240101T000000
END:STANDARD
END:VTIMEZONE
BEGIN:VEVENT
DTSTART;TZID=America/Sao_Paulo:20250401T070000
DTEND;TZID=America/Sao_Paulo:20250401T083000
DTSTAMP:20260424T164152
CREATED:20250319T180258Z
LAST-MODIFIED:20250324T233209Z
UID:10011782-1743490800-1743496200@meditario.org.br
SUMMARY:Caminho Rápido ao Grande Êxtase
DESCRIPTION:
URL:https://meditario.org.br/evento/caminho-rapido-ao-grande-extase/2025-04-01/
LOCATION:CMK Rio de Janeiro\, Rua Conde de Irajá\, 604 – Botafogo\, Rio de Janeiro\, Rio de Janeiro\, 22271-020\, Brasil
CATEGORIES:Preces
END:VEVENT
BEGIN:VEVENT
DTSTART;TZID=America/Sao_Paulo:20250401T090000
DTEND;TZID=America/Sao_Paulo:20250401T093000
DTSTAMP:20260424T164152
CREATED:20250319T180809Z
LAST-MODIFIED:20250324T233154Z
UID:10012164-1743498000-1743499800@meditario.org.br
SUMMARY:A Confissão Bodhisattva das Quedas Morais
DESCRIPTION:
URL:https://meditario.org.br/evento/a-confissao-bodhisattva-das-quedas-morais/2025-04-01/
LOCATION:CMK Rio de Janeiro\, Rua Conde de Irajá\, 604 – Botafogo\, Rio de Janeiro\, Rio de Janeiro\, 22271-020\, Brasil
CATEGORIES:Preces
ATTACH;FMTTYPE=image/jpeg:https://meditario.org.br/wp-content/uploads/2024/11/Sutra-mahayana.jpg
END:VEVENT
BEGIN:VEVENT
DTSTART;TZID=America/Sao_Paulo:20250401T104500
DTEND;TZID=America/Sao_Paulo:20250401T120000
DTSTAMP:20260424T164152
CREATED:20250310T184207Z
LAST-MODIFIED:20250318T194507Z
UID:10011152-1743504300-1743508800@meditario.org.br
SUMMARY:Meditações de Budismo Moderno
DESCRIPTION:
URL:https://meditario.org.br/evento/meditacoes-de-budismo-moderno-10/
LOCATION:CMK Rio de Janeiro\, Rua Conde de Irajá\, 604 – Botafogo\, Rio de Janeiro\, Rio de Janeiro\, 22271-020\, Brasil
CATEGORIES:PGs de Terça
ATTACH;FMTTYPE=image/jpeg:https://meditario.org.br/wp-content/uploads/2025/03/compaixao-universal.jpg
END:VEVENT
BEGIN:VEVENT
DTSTART;TZID=America/Sao_Paulo:20250401T123000
DTEND;TZID=America/Sao_Paulo:20250401T130000
DTSTAMP:20260424T164152
CREATED:20250320T184741Z
LAST-MODIFIED:20250324T232757Z
UID:10012552-1743510600-1743512400@meditario.org.br
SUMMARY:Meditação na hora do almoço
DESCRIPTION:
URL:https://meditario.org.br/evento/meditacao-na-hora-do-almoco-2/2025-04-01/
LOCATION:CMK Rio de Janeiro\, Rua Conde de Irajá\, 604 – Botafogo\, Rio de Janeiro\, Rio de Janeiro\, 22271-020\, Brasil
CATEGORIES:Meditações Guiadas
ATTACH;FMTTYPE=image/jpeg:https://meditario.org.br/wp-content/uploads/2025/01/site-e-sympla-2025-5.jpg
END:VEVENT
BEGIN:VEVENT
DTSTART;TZID=America/Sao_Paulo:20250401T170000
DTEND;TZID=America/Sao_Paulo:20250401T183000
DTSTAMP:20260424T164152
CREATED:20250320T195715Z
LAST-MODIFIED:20250320T201838Z
UID:10013322-1743526800-1743532200@meditario.org.br
SUMMARY:Joia-que-Satisfaz-os-Desejos ou Joia-Coração
DESCRIPTION:
URL:https://meditario.org.br/evento/joia-que-satisfaz-os-desejos-ou-joia-coracao-10/2025-04-01/
LOCATION:CMK Rio de Janeiro\, Rua Conde de Irajá\, 604 – Botafogo\, Rio de Janeiro\, Rio de Janeiro\, 22271-020\, Brasil
CATEGORIES:Preces
ATTACH;FMTTYPE=image/jpeg:https://meditario.org.br/wp-content/uploads/2024/11/JSD-e-JC.jpg
END:VEVENT
BEGIN:VEVENT
DTSTART;TZID=America/Sao_Paulo:20250401T183000
DTEND;TZID=America/Sao_Paulo:20250401T190000
DTSTAMP:20260424T164152
CREATED:20250320T185118Z
LAST-MODIFIED:20250324T232339Z
UID:10012939-1743532200-1743534000@meditario.org.br
SUMMARY:Meditação depois do trabalho
DESCRIPTION:
URL:https://meditario.org.br/evento/meditacao-depois-do-trabalho-4/2025-04-01/
LOCATION:CMK Rio de Janeiro\, Rua Conde de Irajá\, 604 – Botafogo\, Rio de Janeiro\, Rio de Janeiro\, 22271-020\, Brasil
CATEGORIES:Meditações Guiadas
ATTACH;FMTTYPE=image/jpeg:https://meditario.org.br/wp-content/uploads/2025/01/site-e-sympla-2025-5.jpg
END:VEVENT
BEGIN:VEVENT
DTSTART;TZID=America/Sao_Paulo:20250401T193000
DTEND;TZID=America/Sao_Paulo:20250401T213000
DTSTAMP:20260424T164152
CREATED:20250214T211151Z
LAST-MODIFIED:20250214T211151Z
UID:10011061-1743535800-1743543000@meditario.org.br
SUMMARY:PF - Novo Oito Passos para a Felicidade
DESCRIPTION:
URL:https://meditario.org.br/evento/pf-novo-oito-passos-para-a-felicidade-2/2025-04-01/
LOCATION:CMK Rio de Janeiro\, Rua Conde de Irajá\, 604 – Botafogo\, Rio de Janeiro\, Rio de Janeiro\, 22271-020\, Brasil
CATEGORIES:Estudo Aprofundado
ATTACH;FMTTYPE=image/jpeg:https://meditario.org.br/wp-content/uploads/2024/11/pf-noppf.jpg
END:VEVENT
BEGIN:VEVENT
DTSTART;TZID=America/Sao_Paulo:20250402T123000
DTEND;TZID=America/Sao_Paulo:20250402T130000
DTSTAMP:20260424T164152
CREATED:20250320T184741Z
LAST-MODIFIED:20250324T232757Z
UID:10012553-1743597000-1743598800@meditario.org.br
SUMMARY:Meditação na hora do almoço
DESCRIPTION:
URL:https://meditario.org.br/evento/meditacao-na-hora-do-almoco-2/2025-04-02/
LOCATION:CMK Rio de Janeiro\, Rua Conde de Irajá\, 604 – Botafogo\, Rio de Janeiro\, Rio de Janeiro\, 22271-020\, Brasil
CATEGORIES:Meditações Guiadas
ATTACH;FMTTYPE=image/jpeg:https://meditario.org.br/wp-content/uploads/2025/01/site-e-sympla-2025-5.jpg
END:VEVENT
BEGIN:VEVENT
DTSTART;TZID=America/Sao_Paulo:20250402T170000
DTEND;TZID=America/Sao_Paulo:20250402T183000
DTSTAMP:20260424T164152
CREATED:20250320T195715Z
LAST-MODIFIED:20250320T201838Z
UID:10013323-1743613200-1743618600@meditario.org.br
SUMMARY:Joia-que-Satisfaz-os-Desejos ou Joia-Coração
DESCRIPTION:
URL:https://meditario.org.br/evento/joia-que-satisfaz-os-desejos-ou-joia-coracao-10/2025-04-02/
LOCATION:CMK Rio de Janeiro\, Rua Conde de Irajá\, 604 – Botafogo\, Rio de Janeiro\, Rio de Janeiro\, 22271-020\, Brasil
CATEGORIES:Preces
ATTACH;FMTTYPE=image/jpeg:https://meditario.org.br/wp-content/uploads/2024/11/JSD-e-JC.jpg
END:VEVENT
BEGIN:VEVENT
DTSTART;TZID=America/Sao_Paulo:20250402T183000
DTEND;TZID=America/Sao_Paulo:20250402T190000
DTSTAMP:20260424T164152
CREATED:20250320T185118Z
LAST-MODIFIED:20250324T232339Z
UID:10012940-1743618600-1743620400@meditario.org.br
SUMMARY:Meditação depois do trabalho
DESCRIPTION:
URL:https://meditario.org.br/evento/meditacao-depois-do-trabalho-4/2025-04-02/
LOCATION:CMK Rio de Janeiro\, Rua Conde de Irajá\, 604 – Botafogo\, Rio de Janeiro\, Rio de Janeiro\, 22271-020\, Brasil
CATEGORIES:Meditações Guiadas
ATTACH;FMTTYPE=image/jpeg:https://meditario.org.br/wp-content/uploads/2025/01/site-e-sympla-2025-5.jpg
END:VEVENT
BEGIN:VEVENT
DTSTART;TZID=America/Sao_Paulo:20250402T193000
DTEND;TZID=America/Sao_Paulo:20250402T204500
DTSTAMP:20260424T164152
CREATED:20250310T190848Z
LAST-MODIFIED:20250318T195914Z
UID:10011157-1743622200-1743626700@meditario.org.br
SUMMARY:Meditações de Budismo Moderno
DESCRIPTION:
URL:https://meditario.org.br/evento/meditacoes-de-budismo-moderno-14/
LOCATION:CMK Rio de Janeiro\, Rua Conde de Irajá\, 604 – Botafogo\, Rio de Janeiro\, Rio de Janeiro\, 22271-020\, Brasil
CATEGORIES:PGs de Quarta
ATTACH;FMTTYPE=image/jpeg:https://meditario.org.br/wp-content/uploads/2025/02/apreciar-todos-os-seres-vivos-1.jpg
END:VEVENT
BEGIN:VEVENT
DTSTART;TZID=America/Sao_Paulo:20250403T070000
DTEND;TZID=America/Sao_Paulo:20250403T083000
DTSTAMP:20260424T164152
CREATED:20250319T180258Z
LAST-MODIFIED:20250324T233209Z
UID:10011783-1743663600-1743669000@meditario.org.br
SUMMARY:Caminho Rápido ao Grande Êxtase
DESCRIPTION:
URL:https://meditario.org.br/evento/caminho-rapido-ao-grande-extase/2025-04-03/
LOCATION:CMK Rio de Janeiro\, Rua Conde de Irajá\, 604 – Botafogo\, Rio de Janeiro\, Rio de Janeiro\, 22271-020\, Brasil
CATEGORIES:Preces
END:VEVENT
BEGIN:VEVENT
DTSTART;TZID=America/Sao_Paulo:20250403T090000
DTEND;TZID=America/Sao_Paulo:20250403T093000
DTSTAMP:20260424T164152
CREATED:20250319T180809Z
LAST-MODIFIED:20250324T233154Z
UID:10012165-1743670800-1743672600@meditario.org.br
SUMMARY:A Confissão Bodhisattva das Quedas Morais
DESCRIPTION:
URL:https://meditario.org.br/evento/a-confissao-bodhisattva-das-quedas-morais/2025-04-03/
LOCATION:CMK Rio de Janeiro\, Rua Conde de Irajá\, 604 – Botafogo\, Rio de Janeiro\, Rio de Janeiro\, 22271-020\, Brasil
CATEGORIES:Preces
ATTACH;FMTTYPE=image/jpeg:https://meditario.org.br/wp-content/uploads/2024/11/Sutra-mahayana.jpg
END:VEVENT
BEGIN:VEVENT
DTSTART;TZID=America/Sao_Paulo:20250403T123000
DTEND;TZID=America/Sao_Paulo:20250403T130000
DTSTAMP:20260424T164152
CREATED:20250320T184741Z
LAST-MODIFIED:20250324T232757Z
UID:10012554-1743683400-1743685200@meditario.org.br
SUMMARY:Meditação na hora do almoço
DESCRIPTION:
URL:https://meditario.org.br/evento/meditacao-na-hora-do-almoco-2/2025-04-03/
LOCATION:CMK Rio de Janeiro\, Rua Conde de Irajá\, 604 – Botafogo\, Rio de Janeiro\, Rio de Janeiro\, 22271-020\, Brasil
CATEGORIES:Meditações Guiadas
ATTACH;FMTTYPE=image/jpeg:https://meditario.org.br/wp-content/uploads/2025/01/site-e-sympla-2025-5.jpg
END:VEVENT
BEGIN:VEVENT
DTSTART;TZID=America/Sao_Paulo:20250403T170000
DTEND;TZID=America/Sao_Paulo:20250403T183000
DTSTAMP:20260424T164152
CREATED:20250320T195715Z
LAST-MODIFIED:20250320T201838Z
UID:10013324-1743699600-1743705000@meditario.org.br
SUMMARY:Joia-que-Satisfaz-os-Desejos ou Joia-Coração
DESCRIPTION:
URL:https://meditario.org.br/evento/joia-que-satisfaz-os-desejos-ou-joia-coracao-10/2025-04-03/
LOCATION:CMK Rio de Janeiro\, Rua Conde de Irajá\, 604 – Botafogo\, Rio de Janeiro\, Rio de Janeiro\, 22271-020\, Brasil
CATEGORIES:Preces
ATTACH;FMTTYPE=image/jpeg:https://meditario.org.br/wp-content/uploads/2024/11/JSD-e-JC.jpg
END:VEVENT
BEGIN:VEVENT
DTSTART;TZID=America/Sao_Paulo:20250403T183000
DTEND;TZID=America/Sao_Paulo:20250403T190000
DTSTAMP:20260424T164152
CREATED:20250320T185118Z
LAST-MODIFIED:20250324T232339Z
UID:10012941-1743705000-1743706800@meditario.org.br
SUMMARY:Meditação depois do trabalho
DESCRIPTION:
URL:https://meditario.org.br/evento/meditacao-depois-do-trabalho-4/2025-04-03/
LOCATION:CMK Rio de Janeiro\, Rua Conde de Irajá\, 604 – Botafogo\, Rio de Janeiro\, Rio de Janeiro\, 22271-020\, Brasil
CATEGORIES:Meditações Guiadas
ATTACH;FMTTYPE=image/jpeg:https://meditario.org.br/wp-content/uploads/2025/01/site-e-sympla-2025-5.jpg
END:VEVENT
BEGIN:VEVENT
DTSTART;TZID=America/Sao_Paulo:20250403T193000
DTEND;TZID=America/Sao_Paulo:20250403T213000
DTSTAMP:20260424T164152
CREATED:20250320T201317Z
LAST-MODIFIED:20250324T233434Z
UID:10013714-1743708600-1743715800@meditario.org.br
SUMMARY:Programa de Formação de Professores
DESCRIPTION:
URL:https://meditario.org.br/evento/programa-de-formacao-de-professores-2/2025-04-03/
LOCATION:CMK Rio de Janeiro\, Rua Conde de Irajá\, 604 – Botafogo\, Rio de Janeiro\, Rio de Janeiro\, 22271-020\, Brasil
CATEGORIES:Estudo Aprofundado
ATTACH;FMTTYPE=image/jpeg:https://meditario.org.br/wp-content/uploads/2024/11/pfp.jpg
END:VEVENT
BEGIN:VEVENT
DTSTART;TZID=America/Sao_Paulo:20250404T070000
DTEND;TZID=America/Sao_Paulo:20250404T083000
DTSTAMP:20260424T164152
CREATED:20250319T180258Z
LAST-MODIFIED:20250324T233209Z
UID:10011784-1743750000-1743755400@meditario.org.br
SUMMARY:Caminho Rápido ao Grande Êxtase
DESCRIPTION:
URL:https://meditario.org.br/evento/caminho-rapido-ao-grande-extase/2025-04-04/
LOCATION:CMK Rio de Janeiro\, Rua Conde de Irajá\, 604 – Botafogo\, Rio de Janeiro\, Rio de Janeiro\, 22271-020\, Brasil
CATEGORIES:Preces
END:VEVENT
BEGIN:VEVENT
DTSTART;TZID=America/Sao_Paulo:20250404T090000
DTEND;TZID=America/Sao_Paulo:20250404T093000
DTSTAMP:20260424T164152
CREATED:20250319T180809Z
LAST-MODIFIED:20250324T233154Z
UID:10012166-1743757200-1743759000@meditario.org.br
SUMMARY:A Confissão Bodhisattva das Quedas Morais
DESCRIPTION:
URL:https://meditario.org.br/evento/a-confissao-bodhisattva-das-quedas-morais/2025-04-04/
LOCATION:CMK Rio de Janeiro\, Rua Conde de Irajá\, 604 – Botafogo\, Rio de Janeiro\, Rio de Janeiro\, 22271-020\, Brasil
CATEGORIES:Preces
ATTACH;FMTTYPE=image/jpeg:https://meditario.org.br/wp-content/uploads/2024/11/Sutra-mahayana.jpg
END:VEVENT
BEGIN:VEVENT
DTSTART;TZID=America/Sao_Paulo:20250404T123000
DTEND;TZID=America/Sao_Paulo:20250404T130000
DTSTAMP:20260424T164152
CREATED:20250320T184741Z
LAST-MODIFIED:20250324T232757Z
UID:10012555-1743769800-1743771600@meditario.org.br
SUMMARY:Meditação na hora do almoço
DESCRIPTION:
URL:https://meditario.org.br/evento/meditacao-na-hora-do-almoco-2/2025-04-04/
LOCATION:CMK Rio de Janeiro\, Rua Conde de Irajá\, 604 – Botafogo\, Rio de Janeiro\, Rio de Janeiro\, 22271-020\, Brasil
CATEGORIES:Meditações Guiadas
ATTACH;FMTTYPE=image/jpeg:https://meditario.org.br/wp-content/uploads/2025/01/site-e-sympla-2025-5.jpg
END:VEVENT
BEGIN:VEVENT
DTSTART;TZID=America/Sao_Paulo:20250404T193000
DTEND;TZID=America/Sao_Paulo:20250404T210000
DTSTAMP:20260424T164152
CREATED:20250327T204225Z
LAST-MODIFIED:20250327T204225Z
UID:10013849-1743795000-1743800400@meditario.org.br
SUMMARY:Joia-que-Satisfaz-os-Desejos ou Joia-Coração
DESCRIPTION:
URL:https://meditario.org.br/evento/joia-que-satisfaz-os-desejos-ou-joia-coracao-16/
LOCATION:CMK Rio de Janeiro\, Rua Conde de Irajá\, 604 – Botafogo\, Rio de Janeiro\, Rio de Janeiro\, 22271-020\, Brasil
CATEGORIES:Preces
ATTACH;FMTTYPE=image/jpeg:https://meditario.org.br/wp-content/uploads/2024/11/JSD-e-JC.jpg
END:VEVENT
BEGIN:VEVENT
DTSTART;TZID=America/Sao_Paulo:20250405T070000
DTEND;TZID=America/Sao_Paulo:20250405T080000
DTSTAMP:20260424T164152
CREATED:20250320T202447Z
LAST-MODIFIED:20250320T202447Z
UID:10013831-1743836400-1743840000@meditario.org.br
SUMMARY:Joia-que-Satisfaz-os-Desejos ou Joia-Coração
DESCRIPTION:
URL:https://meditario.org.br/evento/joia-que-satisfaz-os-desejos-ou-joia-coracao-11/
LOCATION:CMK Rio de Janeiro\, Rua Conde de Irajá\, 604 – Botafogo\, Rio de Janeiro\, Rio de Janeiro\, 22271-020\, Brasil
CATEGORIES:Preces
ATTACH;FMTTYPE=image/jpeg:https://meditario.org.br/wp-content/uploads/2024/11/JSD-e-JC.jpg
END:VEVENT
BEGIN:VEVENT
DTSTART;TZID=America/Sao_Paulo:20250405T100000
DTEND;TZID=America/Sao_Paulo:20250405T180000
DTSTAMP:20260424T164152
CREATED:20250217T185037Z
LAST-MODIFIED:20250331T191924Z
UID:10011147-1743847200-1743876000@meditario.org.br
SUMMARY:Retiro: Oferecer nossa fé
DESCRIPTION:
URL:https://meditario.org.br/evento/oferecer-nossa-fe-retiro-para-nunca-esquecer-geshe-la/
LOCATION:CMK Rio de Janeiro\, Rua Conde de Irajá\, 604 – Botafogo\, Rio de Janeiro\, Rio de Janeiro\, 22271-020\, Brasil
CATEGORIES:Atividades em Destaque,Retiros
ATTACH;FMTTYPE=image/jpeg:https://meditario.org.br/wp-content/uploads/2025/02/Retiro-Oferecer-a-Nossa-Fe-1.jpg
END:VEVENT
BEGIN:VEVENT
DTSTART;TZID=America/Sao_Paulo:20250405T193000
DTEND;TZID=America/Sao_Paulo:20250405T213000
DTSTAMP:20260424T164152
CREATED:20250321T183625Z
LAST-MODIFIED:20250321T190935Z
UID:10013832-1743881400-1743888600@meditario.org.br
SUMMARY:Oferenda ao Guia Espiritual
DESCRIPTION:
URL:https://meditario.org.br/evento/oferenda-ao-guia-espiritual/
LOCATION:CMK Rio de Janeiro\, Rua Conde de Irajá\, 604 – Botafogo\, Rio de Janeiro\, Rio de Janeiro\, 22271-020\, Brasil
CATEGORIES:Preces
ATTACH;FMTTYPE=image/jpeg:https://meditario.org.br/wp-content/uploads/2024/11/Oferenda-ao-Guia-Espiritual.jpg
END:VEVENT
BEGIN:VEVENT
DTSTART;TZID=America/Sao_Paulo:20250406T100000
DTEND;TZID=America/Sao_Paulo:20250406T110000
DTSTAMP:20260424T164152
CREATED:20241128T170241Z
LAST-MODIFIED:20250320T171924Z
UID:10009626-1743933600-1743937200@meditario.org.br
SUMMARY:Preces pela Paz Mundial
DESCRIPTION:
URL:https://meditario.org.br/evento/preces-pela-paz-mundial/2025-04-06/
LOCATION:CMK Rio de Janeiro\, Rua Conde de Irajá\, 604 – Botafogo\, Rio de Janeiro\, Rio de Janeiro\, 22271-020\, Brasil
CATEGORIES:Preces
ATTACH;FMTTYPE=image/jpeg:https://meditario.org.br/wp-content/uploads/2024/11/confiar-no-guia-espiritual.jpg
END:VEVENT
BEGIN:VEVENT
DTSTART;TZID=America/Sao_Paulo:20250406T150000
DTEND;TZID=America/Sao_Paulo:20250406T161500
DTSTAMP:20260424T164152
CREATED:20250214T003531Z
LAST-MODIFIED:20250214T211638Z
UID:10010123-1743951600-1743956100@meditario.org.br
SUMMARY:Joia-que-Satisfaz-os-Desejos ou Joia-Coração
DESCRIPTION:
URL:https://meditario.org.br/evento/joia-que-satisfaz-os-desejos-ou-joia-coracao-4/2025-04-06/
LOCATION:CMK Rio de Janeiro\, Rua Conde de Irajá\, 604 – Botafogo\, Rio de Janeiro\, Rio de Janeiro\, 22271-020\, Brasil
CATEGORIES:Preces
ATTACH;FMTTYPE=image/jpeg:https://meditario.org.br/wp-content/uploads/2024/11/JSD-e-JC.jpg
END:VEVENT
BEGIN:VEVENT
DTSTART;TZID=America/Sao_Paulo:20250406T170000
DTEND;TZID=America/Sao_Paulo:20250406T183000
DTSTAMP:20260424T164152
CREATED:20250206T184618Z
LAST-MODIFIED:20250227T185103Z
UID:10009608-1743958800-1743964200@meditario.org.br
SUMMARY:Aula com Meditação
DESCRIPTION:
URL:https://meditario.org.br/evento/aula-com-meditacao-4/
LOCATION:CMK Rio de Janeiro\, Rua Conde de Irajá\, 604 – Botafogo\, Rio de Janeiro\, Rio de Janeiro\, 22271-020\, Brasil
CATEGORIES:PGs de Domingo Março Abril
ATTACH;FMTTYPE=image/jpeg:https://meditario.org.br/wp-content/uploads/2025/02/63-2.jpg
END:VEVENT
BEGIN:VEVENT
DTSTART;TZID=America/Sao_Paulo:20250407T070000
DTEND;TZID=America/Sao_Paulo:20250407T083000
DTSTAMP:20260424T164152
CREATED:20250319T180258Z
LAST-MODIFIED:20250324T233209Z
UID:10011785-1744009200-1744014600@meditario.org.br
SUMMARY:Caminho Rápido ao Grande Êxtase
DESCRIPTION:
URL:https://meditario.org.br/evento/caminho-rapido-ao-grande-extase/2025-04-07/
LOCATION:CMK Rio de Janeiro\, Rua Conde de Irajá\, 604 – Botafogo\, Rio de Janeiro\, Rio de Janeiro\, 22271-020\, Brasil
CATEGORIES:Preces
END:VEVENT
BEGIN:VEVENT
DTSTART;TZID=America/Sao_Paulo:20250407T090000
DTEND;TZID=America/Sao_Paulo:20250407T093000
DTSTAMP:20260424T164152
CREATED:20250319T180809Z
LAST-MODIFIED:20250324T233154Z
UID:10012167-1744016400-1744018200@meditario.org.br
SUMMARY:A Confissão Bodhisattva das Quedas Morais
DESCRIPTION:
URL:https://meditario.org.br/evento/a-confissao-bodhisattva-das-quedas-morais/2025-04-07/
LOCATION:CMK Rio de Janeiro\, Rua Conde de Irajá\, 604 – Botafogo\, Rio de Janeiro\, Rio de Janeiro\, 22271-020\, Brasil
CATEGORIES:Preces
ATTACH;FMTTYPE=image/jpeg:https://meditario.org.br/wp-content/uploads/2024/11/Sutra-mahayana.jpg
END:VEVENT
BEGIN:VEVENT
DTSTART;TZID=America/Sao_Paulo:20250407T123000
DTEND;TZID=America/Sao_Paulo:20250407T130000
DTSTAMP:20260424T164152
CREATED:20250320T184741Z
LAST-MODIFIED:20250324T232757Z
UID:10012556-1744029000-1744030800@meditario.org.br
SUMMARY:Meditação na hora do almoço
DESCRIPTION:
URL:https://meditario.org.br/evento/meditacao-na-hora-do-almoco-2/2025-04-07/
LOCATION:CMK Rio de Janeiro\, Rua Conde de Irajá\, 604 – Botafogo\, Rio de Janeiro\, Rio de Janeiro\, 22271-020\, Brasil
CATEGORIES:Meditações Guiadas
ATTACH;FMTTYPE=image/jpeg:https://meditario.org.br/wp-content/uploads/2025/01/site-e-sympla-2025-5.jpg
END:VEVENT
END:VCALENDAR