BEGIN:VCALENDAR
VERSION:2.0
PRODID:-//Centro de Meditação Kadampa Rio de Janeiro - ECPv6.15.20//NONSGML v1.0//EN
CALSCALE:GREGORIAN
METHOD:PUBLISH
X-ORIGINAL-URL:https://meditario.org.br
X-WR-CALDESC:Eventos para Centro de Meditação Kadampa Rio de Janeiro
REFRESH-INTERVAL;VALUE=DURATION:PT1H
X-Robots-Tag:noindex
X-PUBLISHED-TTL:PT1H
BEGIN:VTIMEZONE
TZID:America/Sao_Paulo
BEGIN:STANDARD
TZOFFSETFROM:-0300
TZOFFSETTO:-0300
TZNAME:-03
DTSTART:20240101T000000
END:STANDARD
END:VTIMEZONE
BEGIN:VEVENT
DTSTART;TZID=America/Sao_Paulo:20250616T070000
DTEND;TZID=America/Sao_Paulo:20250616T083000
DTSTAMP:20260424T150438
CREATED:20250528T141334Z
LAST-MODIFIED:20250528T143801Z
UID:10014779-1750057200-1750062600@meditario.org.br
SUMMARY:Caminho Rápido ao Grande Êxtase
DESCRIPTION:
URL:https://meditario.org.br/evento/caminho-rapido-ao-grande-extase-2/2025-06-16/
LOCATION:CMK Rio de Janeiro\, Rua Conde de Irajá\, 604 – Botafogo\, Rio de Janeiro\, Rio de Janeiro\, 22271-020\, Brasil
CATEGORIES:Preces
ATTACH;FMTTYPE=image/jpeg:https://meditario.org.br/wp-content/uploads/2024/11/caminho-rapido.jpg
END:VEVENT
BEGIN:VEVENT
DTSTART;TZID=America/Sao_Paulo:20250616T090000
DTEND;TZID=America/Sao_Paulo:20250616T093000
DTSTAMP:20260424T150438
CREATED:20250528T143508Z
LAST-MODIFIED:20250528T143508Z
UID:10015006-1750064400-1750066200@meditario.org.br
SUMMARY:A Confissão Bodhisattva das Quedas Morais
DESCRIPTION:
URL:https://meditario.org.br/evento/a-confissao-bodhisattva-das-quedas-morais-5/2025-06-16/
LOCATION:CMK Rio de Janeiro\, Rua Conde de Irajá\, 604 – Botafogo\, Rio de Janeiro\, Rio de Janeiro\, 22271-020\, Brasil
CATEGORIES:Preces
ATTACH;FMTTYPE=image/jpeg:https://meditario.org.br/wp-content/uploads/2024/11/Sutra-mahayana.jpg
END:VEVENT
BEGIN:VEVENT
DTSTART;TZID=America/Sao_Paulo:20250616T123000
DTEND;TZID=America/Sao_Paulo:20250616T130000
DTSTAMP:20260424T150438
CREATED:20250528T180136Z
LAST-MODIFIED:20250528T180136Z
UID:10015065-1750077000-1750078800@meditario.org.br
SUMMARY:Meditação na Hora do Almoço
DESCRIPTION:
URL:https://meditario.org.br/evento/meditacao-na-hora-do-almoco-4/2025-06-16/
LOCATION:CMK Rio de Janeiro\, Rua Conde de Irajá\, 604 – Botafogo\, Rio de Janeiro\, Rio de Janeiro\, 22271-020\, Brasil
CATEGORIES:Meditação na Hora do Almoço
ATTACH;FMTTYPE=image/jpeg:https://meditario.org.br/wp-content/uploads/2024/11/medita-em-30.jpg
END:VEVENT
BEGIN:VEVENT
DTSTART;TZID=America/Sao_Paulo:20250616T173000
DTEND;TZID=America/Sao_Paulo:20250616T190000
DTSTAMP:20260424T150438
CREATED:20250608T183734Z
LAST-MODIFIED:20250608T183735Z
UID:10015127-1750095000-1750100400@meditario.org.br
SUMMARY:Joia-que-Satisfaz-os-Desejos ou Joia-Coração
DESCRIPTION:
URL:https://meditario.org.br/evento/joia-que-satisfaz-os-desejos-ou-joia-coracao-19-2/2025-06-16/
LOCATION:CMK Rio de Janeiro\, Rua Conde de Irajá\, 604 – Botafogo\, Rio de Janeiro\, Rio de Janeiro\, 22271-020\, Brasil
CATEGORIES:Preces
ATTACH;FMTTYPE=image/jpeg:https://meditario.org.br/wp-content/uploads/2024/11/JSD-e-JC.jpg
END:VEVENT
BEGIN:VEVENT
DTSTART;TZID=America/Sao_Paulo:20250616T183000
DTEND;TZID=America/Sao_Paulo:20250616T190000
DTSTAMP:20260424T150438
CREATED:20250528T180857Z
LAST-MODIFIED:20250528T180857Z
UID:10015083-1750098600-1750100400@meditario.org.br
SUMMARY:Meditação Depois do Trabalho
DESCRIPTION:
URL:https://meditario.org.br/evento/meditacao-depois-do-trabalho-6/2025-06-16/
LOCATION:CMK Rio de Janeiro\, Rua Conde de Irajá\, 604 – Botafogo\, Rio de Janeiro\, Rio de Janeiro\, 22271-020\, Brasil
CATEGORIES:Meditação depois do trabalho
ATTACH;FMTTYPE=image/jpeg:https://meditario.org.br/wp-content/uploads/2024/11/medita-em-30.jpg
END:VEVENT
BEGIN:VEVENT
DTSTART;TZID=America/Sao_Paulo:20250616T193000
DTEND;TZID=America/Sao_Paulo:20250616T213000
DTSTAMP:20260424T150438
CREATED:20250528T160256Z
LAST-MODIFIED:20250528T224858Z
UID:10015108-1750102200-1750109400@meditario.org.br
SUMMARY:Programa de Formação de Professores
DESCRIPTION:
URL:https://meditario.org.br/evento/programa-de-formacao-de-professores-5/2025-06-16/
LOCATION:CMK Rio de Janeiro\, Rua Conde de Irajá\, 604 – Botafogo\, Rio de Janeiro\, Rio de Janeiro\, 22271-020\, Brasil
CATEGORIES:Estudo Aprofundado
ATTACH;FMTTYPE=image/jpeg:https://meditario.org.br/wp-content/uploads/2024/11/pfp.jpg
END:VEVENT
BEGIN:VEVENT
DTSTART;TZID=America/Sao_Paulo:20250617T070000
DTEND;TZID=America/Sao_Paulo:20250617T083000
DTSTAMP:20260424T150438
CREATED:20250528T141334Z
LAST-MODIFIED:20250528T143801Z
UID:10014780-1750143600-1750149000@meditario.org.br
SUMMARY:Caminho Rápido ao Grande Êxtase
DESCRIPTION:
URL:https://meditario.org.br/evento/caminho-rapido-ao-grande-extase-2/2025-06-17/
LOCATION:CMK Rio de Janeiro\, Rua Conde de Irajá\, 604 – Botafogo\, Rio de Janeiro\, Rio de Janeiro\, 22271-020\, Brasil
CATEGORIES:Preces
ATTACH;FMTTYPE=image/jpeg:https://meditario.org.br/wp-content/uploads/2024/11/caminho-rapido.jpg
END:VEVENT
BEGIN:VEVENT
DTSTART;TZID=America/Sao_Paulo:20250617T090000
DTEND;TZID=America/Sao_Paulo:20250617T093000
DTSTAMP:20260424T150438
CREATED:20250528T143508Z
LAST-MODIFIED:20250528T143508Z
UID:10015007-1750150800-1750152600@meditario.org.br
SUMMARY:A Confissão Bodhisattva das Quedas Morais
DESCRIPTION:
URL:https://meditario.org.br/evento/a-confissao-bodhisattva-das-quedas-morais-5/2025-06-17/
LOCATION:CMK Rio de Janeiro\, Rua Conde de Irajá\, 604 – Botafogo\, Rio de Janeiro\, Rio de Janeiro\, 22271-020\, Brasil
CATEGORIES:Preces
ATTACH;FMTTYPE=image/jpeg:https://meditario.org.br/wp-content/uploads/2024/11/Sutra-mahayana.jpg
END:VEVENT
BEGIN:VEVENT
DTSTART;TZID=America/Sao_Paulo:20250617T104500
DTEND;TZID=America/Sao_Paulo:20250617T120000
DTSTAMP:20260424T150438
CREATED:20250414T174933Z
LAST-MODIFIED:20250620T144659Z
UID:10014194-1750157100-1750161600@meditario.org.br
SUMMARY:Aula com Meditação
DESCRIPTION:
URL:https://meditario.org.br/evento/meditacoes-de-budismo-moderno-27/
LOCATION:CMK Rio de Janeiro\, Rua Conde de Irajá\, 604 – Botafogo\, Rio de Janeiro\, Rio de Janeiro\, 22271-020\, Brasil
CATEGORIES:Aulas com Meditação,PGs de Terça Junho Julho Agosto
ATTACH;FMTTYPE=image/jpeg:https://meditario.org.br/wp-content/uploads/2025/04/nossa-preciosa-vida-humana.jpg
END:VEVENT
BEGIN:VEVENT
DTSTART;TZID=America/Sao_Paulo:20250617T123000
DTEND;TZID=America/Sao_Paulo:20250617T130000
DTSTAMP:20260424T150438
CREATED:20250528T180136Z
LAST-MODIFIED:20250528T180136Z
UID:10015066-1750163400-1750165200@meditario.org.br
SUMMARY:Meditação na Hora do Almoço
DESCRIPTION:
URL:https://meditario.org.br/evento/meditacao-na-hora-do-almoco-4/2025-06-17/
LOCATION:CMK Rio de Janeiro\, Rua Conde de Irajá\, 604 – Botafogo\, Rio de Janeiro\, Rio de Janeiro\, 22271-020\, Brasil
CATEGORIES:Meditação na Hora do Almoço
ATTACH;FMTTYPE=image/jpeg:https://meditario.org.br/wp-content/uploads/2024/11/medita-em-30.jpg
END:VEVENT
BEGIN:VEVENT
DTSTART;TZID=America/Sao_Paulo:20250617T173000
DTEND;TZID=America/Sao_Paulo:20250617T190000
DTSTAMP:20260424T150438
CREATED:20250608T183734Z
LAST-MODIFIED:20250608T183735Z
UID:10015128-1750181400-1750186800@meditario.org.br
SUMMARY:Joia-que-Satisfaz-os-Desejos ou Joia-Coração
DESCRIPTION:
URL:https://meditario.org.br/evento/joia-que-satisfaz-os-desejos-ou-joia-coracao-19-2/2025-06-17/
LOCATION:CMK Rio de Janeiro\, Rua Conde de Irajá\, 604 – Botafogo\, Rio de Janeiro\, Rio de Janeiro\, 22271-020\, Brasil
CATEGORIES:Preces
ATTACH;FMTTYPE=image/jpeg:https://meditario.org.br/wp-content/uploads/2024/11/JSD-e-JC.jpg
END:VEVENT
BEGIN:VEVENT
DTSTART;TZID=America/Sao_Paulo:20250617T183000
DTEND;TZID=America/Sao_Paulo:20250617T190000
DTSTAMP:20260424T150438
CREATED:20250528T180857Z
LAST-MODIFIED:20250528T180857Z
UID:10015084-1750185000-1750186800@meditario.org.br
SUMMARY:Meditação Depois do Trabalho
DESCRIPTION:
URL:https://meditario.org.br/evento/meditacao-depois-do-trabalho-6/2025-06-17/
LOCATION:CMK Rio de Janeiro\, Rua Conde de Irajá\, 604 – Botafogo\, Rio de Janeiro\, Rio de Janeiro\, 22271-020\, Brasil
CATEGORIES:Meditação depois do trabalho
ATTACH;FMTTYPE=image/jpeg:https://meditario.org.br/wp-content/uploads/2024/11/medita-em-30.jpg
END:VEVENT
BEGIN:VEVENT
DTSTART;TZID=America/Sao_Paulo:20250617T193000
DTEND;TZID=America/Sao_Paulo:20250617T213000
DTSTAMP:20260424T150438
CREATED:20250528T162526Z
LAST-MODIFIED:20250528T162526Z
UID:10015055-1750188600-1750195800@meditario.org.br
SUMMARY:PF - Novo Oito Passos para a Felicidade
DESCRIPTION:
URL:https://meditario.org.br/evento/pf-novo-oito-passos-para-a-felicidade-5/2025-06-17/
LOCATION:CMK Rio de Janeiro\, Rua Conde de Irajá\, 604 – Botafogo\, Rio de Janeiro\, Rio de Janeiro\, 22271-020\, Brasil
CATEGORIES:Estudo Aprofundado
ATTACH;FMTTYPE=image/jpeg:https://meditario.org.br/wp-content/uploads/2024/11/pf-noppf.jpg
END:VEVENT
BEGIN:VEVENT
DTSTART;TZID=America/Sao_Paulo:20250618T123000
DTEND;TZID=America/Sao_Paulo:20250618T130000
DTSTAMP:20260424T150438
CREATED:20250528T180136Z
LAST-MODIFIED:20250528T180136Z
UID:10015067-1750249800-1750251600@meditario.org.br
SUMMARY:Meditação na Hora do Almoço
DESCRIPTION:
URL:https://meditario.org.br/evento/meditacao-na-hora-do-almoco-4/2025-06-18/
LOCATION:CMK Rio de Janeiro\, Rua Conde de Irajá\, 604 – Botafogo\, Rio de Janeiro\, Rio de Janeiro\, 22271-020\, Brasil
CATEGORIES:Meditação na Hora do Almoço
ATTACH;FMTTYPE=image/jpeg:https://meditario.org.br/wp-content/uploads/2024/11/medita-em-30.jpg
END:VEVENT
BEGIN:VEVENT
DTSTART;TZID=America/Sao_Paulo:20250618T173000
DTEND;TZID=America/Sao_Paulo:20250618T190000
DTSTAMP:20260424T150438
CREATED:20250608T183734Z
LAST-MODIFIED:20250608T183735Z
UID:10015129-1750267800-1750273200@meditario.org.br
SUMMARY:Joia-que-Satisfaz-os-Desejos ou Joia-Coração
DESCRIPTION:
URL:https://meditario.org.br/evento/joia-que-satisfaz-os-desejos-ou-joia-coracao-19-2/2025-06-18/
LOCATION:CMK Rio de Janeiro\, Rua Conde de Irajá\, 604 – Botafogo\, Rio de Janeiro\, Rio de Janeiro\, 22271-020\, Brasil
CATEGORIES:Preces
ATTACH;FMTTYPE=image/jpeg:https://meditario.org.br/wp-content/uploads/2024/11/JSD-e-JC.jpg
END:VEVENT
BEGIN:VEVENT
DTSTART;TZID=America/Sao_Paulo:20250618T183000
DTEND;TZID=America/Sao_Paulo:20250618T190000
DTSTAMP:20260424T150438
CREATED:20250528T180857Z
LAST-MODIFIED:20250528T180857Z
UID:10015085-1750271400-1750273200@meditario.org.br
SUMMARY:Meditação Depois do Trabalho
DESCRIPTION:
URL:https://meditario.org.br/evento/meditacao-depois-do-trabalho-6/2025-06-18/
LOCATION:CMK Rio de Janeiro\, Rua Conde de Irajá\, 604 – Botafogo\, Rio de Janeiro\, Rio de Janeiro\, 22271-020\, Brasil
CATEGORIES:Meditação depois do trabalho
ATTACH;FMTTYPE=image/jpeg:https://meditario.org.br/wp-content/uploads/2024/11/medita-em-30.jpg
END:VEVENT
BEGIN:VEVENT
DTSTART;TZID=America/Sao_Paulo:20250618T193000
DTEND;TZID=America/Sao_Paulo:20250618T204500
DTSTAMP:20260424T150438
CREATED:20250414T190620Z
LAST-MODIFIED:20250620T144401Z
UID:10014204-1750275000-1750279500@meditario.org.br
SUMMARY:Aula com Meditação
DESCRIPTION:
URL:https://meditario.org.br/evento/meditacoes-de-budismo-moderno-36/
LOCATION:CMK Rio de Janeiro\, Rua Conde de Irajá\, 604 – Botafogo\, Rio de Janeiro\, Rio de Janeiro\, 22271-020\, Brasil
CATEGORIES:Aulas com Meditação,PGs de Quarta Junho Julho Agosto
ATTACH;FMTTYPE=image/jpeg:https://meditario.org.br/wp-content/uploads/2025/04/Entender-a-mente.jpg
END:VEVENT
BEGIN:VEVENT
DTSTART;TZID=America/Sao_Paulo:20250619T070000
DTEND;TZID=America/Sao_Paulo:20250619T083000
DTSTAMP:20260424T150438
CREATED:20250528T141334Z
LAST-MODIFIED:20250528T143801Z
UID:10014781-1750316400-1750321800@meditario.org.br
SUMMARY:Caminho Rápido ao Grande Êxtase
DESCRIPTION:
URL:https://meditario.org.br/evento/caminho-rapido-ao-grande-extase-2/2025-06-19/
LOCATION:CMK Rio de Janeiro\, Rua Conde de Irajá\, 604 – Botafogo\, Rio de Janeiro\, Rio de Janeiro\, 22271-020\, Brasil
CATEGORIES:Preces
ATTACH;FMTTYPE=image/jpeg:https://meditario.org.br/wp-content/uploads/2024/11/caminho-rapido.jpg
END:VEVENT
BEGIN:VEVENT
DTSTART;TZID=America/Sao_Paulo:20250619T090000
DTEND;TZID=America/Sao_Paulo:20250619T093000
DTSTAMP:20260424T150438
CREATED:20250528T143508Z
LAST-MODIFIED:20250528T143508Z
UID:10015008-1750323600-1750325400@meditario.org.br
SUMMARY:A Confissão Bodhisattva das Quedas Morais
DESCRIPTION:
URL:https://meditario.org.br/evento/a-confissao-bodhisattva-das-quedas-morais-5/2025-06-19/
LOCATION:CMK Rio de Janeiro\, Rua Conde de Irajá\, 604 – Botafogo\, Rio de Janeiro\, Rio de Janeiro\, 22271-020\, Brasil
CATEGORIES:Preces
ATTACH;FMTTYPE=image/jpeg:https://meditario.org.br/wp-content/uploads/2024/11/Sutra-mahayana.jpg
END:VEVENT
BEGIN:VEVENT
DTSTART;TZID=America/Sao_Paulo:20250619T173000
DTEND;TZID=America/Sao_Paulo:20250619T190000
DTSTAMP:20260424T150438
CREATED:20250608T183734Z
LAST-MODIFIED:20250608T183735Z
UID:10015130-1750354200-1750359600@meditario.org.br
SUMMARY:Joia-que-Satisfaz-os-Desejos ou Joia-Coração
DESCRIPTION:
URL:https://meditario.org.br/evento/joia-que-satisfaz-os-desejos-ou-joia-coracao-19-2/2025-06-19/
LOCATION:CMK Rio de Janeiro\, Rua Conde de Irajá\, 604 – Botafogo\, Rio de Janeiro\, Rio de Janeiro\, 22271-020\, Brasil
CATEGORIES:Preces
ATTACH;FMTTYPE=image/jpeg:https://meditario.org.br/wp-content/uploads/2024/11/JSD-e-JC.jpg
END:VEVENT
BEGIN:VEVENT
DTSTART;TZID=America/Sao_Paulo:20250619T193000
DTEND;TZID=America/Sao_Paulo:20250619T213000
DTSTAMP:20260424T150438
CREATED:20250528T160256Z
LAST-MODIFIED:20250528T224858Z
UID:10015109-1750361400-1750368600@meditario.org.br
SUMMARY:Programa de Formação de Professores
DESCRIPTION:
URL:https://meditario.org.br/evento/programa-de-formacao-de-professores-5/2025-06-19/
LOCATION:CMK Rio de Janeiro\, Rua Conde de Irajá\, 604 – Botafogo\, Rio de Janeiro\, Rio de Janeiro\, 22271-020\, Brasil
CATEGORIES:Estudo Aprofundado
ATTACH;FMTTYPE=image/jpeg:https://meditario.org.br/wp-content/uploads/2024/11/pfp.jpg
END:VEVENT
BEGIN:VEVENT
DTSTART;TZID=America/Sao_Paulo:20250620T070000
DTEND;TZID=America/Sao_Paulo:20250620T083000
DTSTAMP:20260424T150438
CREATED:20250528T141334Z
LAST-MODIFIED:20250528T143801Z
UID:10014782-1750402800-1750408200@meditario.org.br
SUMMARY:Caminho Rápido ao Grande Êxtase
DESCRIPTION:
URL:https://meditario.org.br/evento/caminho-rapido-ao-grande-extase-2/2025-06-20/
LOCATION:CMK Rio de Janeiro\, Rua Conde de Irajá\, 604 – Botafogo\, Rio de Janeiro\, Rio de Janeiro\, 22271-020\, Brasil
CATEGORIES:Preces
ATTACH;FMTTYPE=image/jpeg:https://meditario.org.br/wp-content/uploads/2024/11/caminho-rapido.jpg
END:VEVENT
BEGIN:VEVENT
DTSTART;TZID=America/Sao_Paulo:20250620T080000
DTEND;TZID=America/Sao_Paulo:20250620T170000
DTSTAMP:20260424T150438
CREATED:20250621T024205Z
LAST-MODIFIED:20250621T024620Z
UID:10015775-1750406400-1750438800@meditario.org.br
SUMMARY:Como lidar com pessoas e situações difíceis
DESCRIPTION:Detox sua mente e tenha relações mais harmônicas
URL:https://meditario.org.br/evento/como-lidar-com-pessoas-e-situacoes-dificeis/
LOCATION:CMK Rio de Janeiro\, Rua Conde de Irajá\, 604 – Botafogo\, Rio de Janeiro\, Rio de Janeiro\, 22271-020\, Brasil
CATEGORIES:Atividades em Destaque,Aulas com Meditação,PGs de Domingo
ATTACH;FMTTYPE=image/png:https://meditario.org.br/wp-content/uploads/2025/06/Captura-de-Tela-2025-06-20-as-23.35.27.png
END:VEVENT
BEGIN:VEVENT
DTSTART;TZID=America/Sao_Paulo:20250620T090000
DTEND;TZID=America/Sao_Paulo:20250620T093000
DTSTAMP:20260424T150438
CREATED:20250528T143508Z
LAST-MODIFIED:20250528T143508Z
UID:10015009-1750410000-1750411800@meditario.org.br
SUMMARY:A Confissão Bodhisattva das Quedas Morais
DESCRIPTION:
URL:https://meditario.org.br/evento/a-confissao-bodhisattva-das-quedas-morais-5/2025-06-20/
LOCATION:CMK Rio de Janeiro\, Rua Conde de Irajá\, 604 – Botafogo\, Rio de Janeiro\, Rio de Janeiro\, 22271-020\, Brasil
CATEGORIES:Preces
ATTACH;FMTTYPE=image/jpeg:https://meditario.org.br/wp-content/uploads/2024/11/Sutra-mahayana.jpg
END:VEVENT
BEGIN:VEVENT
DTSTART;TZID=America/Sao_Paulo:20250620T123000
DTEND;TZID=America/Sao_Paulo:20250620T130000
DTSTAMP:20260424T150438
CREATED:20250528T180136Z
LAST-MODIFIED:20250528T180136Z
UID:10015069-1750422600-1750424400@meditario.org.br
SUMMARY:Meditação na Hora do Almoço
DESCRIPTION:
URL:https://meditario.org.br/evento/meditacao-na-hora-do-almoco-4/2025-06-20/
LOCATION:CMK Rio de Janeiro\, Rua Conde de Irajá\, 604 – Botafogo\, Rio de Janeiro\, Rio de Janeiro\, 22271-020\, Brasil
CATEGORIES:Meditação na Hora do Almoço
ATTACH;FMTTYPE=image/jpeg:https://meditario.org.br/wp-content/uploads/2024/11/medita-em-30.jpg
END:VEVENT
BEGIN:VEVENT
DTSTART;TZID=America/Sao_Paulo:20250620T193000
DTEND;TZID=America/Sao_Paulo:20250620T210000
DTSTAMP:20260424T150438
CREATED:20250415T200020Z
LAST-MODIFIED:20250620T161824Z
UID:10014499-1750447800-1750453200@meditario.org.br
SUMMARY:Joia-que-Satisfaz-os-Desejos com Tsog
DESCRIPTION:
URL:https://meditario.org.br/evento/joia-que-satisfaz-os-desejos-ou-joia-coracao-20/2025-06-20/
LOCATION:CMK Rio de Janeiro\, Rua Conde de Irajá\, 604 – Botafogo\, Rio de Janeiro\, Rio de Janeiro\, 22271-020\, Brasil
CATEGORIES:Preces
ATTACH;FMTTYPE=image/jpeg:https://meditario.org.br/wp-content/uploads/2024/11/JSD-e-JC.jpg
END:VEVENT
BEGIN:VEVENT
DTSTART;TZID=America/Sao_Paulo:20250621T070000
DTEND;TZID=America/Sao_Paulo:20250621T083000
DTSTAMP:20260424T150438
CREATED:20250528T182338Z
LAST-MODIFIED:20250604T220117Z
UID:10015094-1750489200-1750494600@meditario.org.br
SUMMARY:Joia-Coração
DESCRIPTION:
URL:https://meditario.org.br/evento/joia-coracao-4/2025-06-21/
LOCATION:CMK Rio de Janeiro\, Rua Conde de Irajá\, 604 – Botafogo\, Rio de Janeiro\, Rio de Janeiro\, 22271-020\, Brasil
CATEGORIES:Preces
ATTACH;FMTTYPE=image/jpeg:https://meditario.org.br/wp-content/uploads/2024/11/JSD-e-JC.jpg
END:VEVENT
BEGIN:VEVENT
DTSTART;TZID=America/Sao_Paulo:20250621T100000
DTEND;TZID=America/Sao_Paulo:20250621T120000
DTSTAMP:20260424T150438
CREATED:20250528T161053Z
LAST-MODIFIED:20250528T161954Z
UID:10015049-1750500000-1750507200@meditario.org.br
SUMMARY:PF - Caminho Alegre da Boa Fortuna
DESCRIPTION:
URL:https://meditario.org.br/evento/pf-caminho-alegre-da-boa-fortuna-5/2025-06-21/
LOCATION:CMK Rio de Janeiro\, Rua Conde de Irajá\, 604 – Botafogo\, Rio de Janeiro\, Rio de Janeiro\, 22271-020\, Brasil
CATEGORIES:Estudo Aprofundado
ATTACH;FMTTYPE=image/jpeg:https://meditario.org.br/wp-content/uploads/2024/11/pf-cabf.jpg
END:VEVENT
BEGIN:VEVENT
DTSTART;TZID=America/Sao_Paulo:20250621T100000
DTEND;TZID=America/Sao_Paulo:20250621T170000
DTSTAMP:20260424T150438
CREATED:20250415T174557Z
LAST-MODIFIED:20250506T173141Z
UID:10014212-1750500000-1750525200@meditario.org.br
SUMMARY:Retiro de Um Dia
DESCRIPTION:
URL:https://meditario.org.br/evento/detox-digital-retiro-de-um-dia/
LOCATION:CMK Rio de Janeiro\, Rua Conde de Irajá\, 604 – Botafogo\, Rio de Janeiro\, Rio de Janeiro\, 22271-020\, Brasil
CATEGORIES:Atividades em Destaque,Retiros
ATTACH;FMTTYPE=image/jpeg:https://meditario.org.br/wp-content/uploads/2025/04/Detox-digital-.jpg
END:VEVENT
BEGIN:VEVENT
DTSTART;TZID=America/Sao_Paulo:20250621T193000
DTEND;TZID=America/Sao_Paulo:20250621T210000
DTSTAMP:20260424T150438
CREATED:20250528T142358Z
LAST-MODIFIED:20250528T142627Z
UID:10014997-1750534200-1750539600@meditario.org.br
SUMMARY:Caminho Rápido ao Grande Êxtase
DESCRIPTION:
URL:https://meditario.org.br/evento/caminho-rapido-ao-grande-extase-7-2/2025-06-21/
LOCATION:CMK Rio de Janeiro\, Rua Conde de Irajá\, 604 – Botafogo\, Rio de Janeiro\, Rio de Janeiro\, 22271-020\, Brasil
CATEGORIES:Preces
ATTACH;FMTTYPE=image/jpeg:https://meditario.org.br/wp-content/uploads/2024/11/caminho-rapido.jpg
END:VEVENT
END:VCALENDAR