BEGIN:VCALENDAR
VERSION:2.0
PRODID:-//Centro de Meditação Kadampa Rio de Janeiro - ECPv6.15.20//NONSGML v1.0//EN
CALSCALE:GREGORIAN
METHOD:PUBLISH
X-ORIGINAL-URL:https://meditario.org.br
X-WR-CALDESC:Eventos para Centro de Meditação Kadampa Rio de Janeiro
REFRESH-INTERVAL;VALUE=DURATION:PT1H
X-Robots-Tag:noindex
X-PUBLISHED-TTL:PT1H
BEGIN:VTIMEZONE
TZID:America/Sao_Paulo
BEGIN:STANDARD
TZOFFSETFROM:-0300
TZOFFSETTO:-0300
TZNAME:-03
DTSTART:20240101T000000
END:STANDARD
END:VTIMEZONE
BEGIN:VEVENT
DTSTART;TZID=America/Sao_Paulo:20250823T070000
DTEND;TZID=America/Sao_Paulo:20250823T083000
DTSTAMP:20260424T114238
CREATED:20250716T143154Z
LAST-MODIFIED:20250716T143248Z
UID:10015840-1755932400-1755937800@meditario.org.br
SUMMARY:Joia-Coração
DESCRIPTION:
URL:https://meditario.org.br/evento/joia-coracao-9-2/2025-08-23/
LOCATION:CMK Rio de Janeiro\, Rua Conde de Irajá\, 604 – Botafogo\, Rio de Janeiro\, Rio de Janeiro\, 22271-020\, Brasil
CATEGORIES:Preces
ATTACH;FMTTYPE=image/jpeg:https://meditario.org.br/wp-content/uploads/2024/11/JSD-e-JC.jpg
END:VEVENT
BEGIN:VEVENT
DTSTART;TZID=America/Sao_Paulo:20250823T110000
DTEND;TZID=America/Sao_Paulo:20250823T150000
DTSTAMP:20260424T114238
CREATED:20250619T042713Z
LAST-MODIFIED:20250819T125731Z
UID:10015142-1755946800-1755961200@meditario.org.br
SUMMARY:Caminhada com Meditação
DESCRIPTION:
URL:https://meditario.org.br/evento/caminhada-com-meditacao/
LOCATION:pedra bonita\, Setor C do Parque Nacional da Tijuca\, Estrada das Canoas\, São Conrado\, Rio de Janeir\, Rio de Janeiro\, Rio de Janeiro\, 22795-215\, Brazil
CATEGORIES:Atividades em Destaque,Atividades Especiais
ATTACH;FMTTYPE=image/jpeg:https://meditario.org.br/wp-content/uploads/2025/06/caminhada-com-meditacao.jpg
END:VEVENT
BEGIN:VEVENT
DTSTART;TZID=America/Sao_Paulo:20250824T150000
DTEND;TZID=America/Sao_Paulo:20250824T163000
DTSTAMP:20260424T114238
CREATED:20250716T143738Z
LAST-MODIFIED:20250716T143845Z
UID:10015842-1756047600-1756053000@meditario.org.br
SUMMARY:Joia-Coração com Lamrim
DESCRIPTION:
URL:https://meditario.org.br/evento/joia-coracao-com-lamrim-3/2025-08-24/
LOCATION:CMK Rio de Janeiro\, Rua Conde de Irajá\, 604 – Botafogo\, Rio de Janeiro\, Rio de Janeiro\, 22271-020\, Brasil
CATEGORIES:Preces
ATTACH;FMTTYPE=image/jpeg:https://meditario.org.br/wp-content/uploads/2024/11/JSD-e-JC.jpg
END:VEVENT
BEGIN:VEVENT
DTSTART;TZID=America/Sao_Paulo:20250824T170000
DTEND;TZID=America/Sao_Paulo:20250824T183000
DTSTAMP:20260424T114238
CREATED:20250706T145423Z
LAST-MODIFIED:20250706T145423Z
UID:10015805-1756054800-1756060200@meditario.org.br
SUMMARY:Aulas com Meditação
DESCRIPTION:
URL:https://meditario.org.br/evento/aulas-com-meditacao-6/
LOCATION:CMK Rio de Janeiro\, Rua Conde de Irajá\, 604 – Botafogo\, Rio de Janeiro\, Rio de Janeiro\, 22271-020\, Brasil
CATEGORIES:Aulas com Meditação,PGs de Domingo Agosto
ATTACH;FMTTYPE=image/png:https://meditario.org.br/wp-content/uploads/2025/07/Captura-de-Tela-2025-07-06-as-11.46.36.png
END:VEVENT
BEGIN:VEVENT
DTSTART;TZID=America/Sao_Paulo:20250825T070000
DTEND;TZID=America/Sao_Paulo:20250825T083000
DTSTAMP:20260424T114238
CREATED:20250716T144142Z
LAST-MODIFIED:20250716T144246Z
UID:10015851-1756105200-1756110600@meditario.org.br
SUMMARY:Caminho Rápido ao Grande Êxtase
DESCRIPTION:
URL:https://meditario.org.br/evento/caminho-rapido-ao-grande-extase-7-2-2/2025-08-25/
LOCATION:CMK Rio de Janeiro\, Rua Conde de Irajá\, 604 – Botafogo\, Rio de Janeiro\, Rio de Janeiro\, 22271-020\, Brasil
CATEGORIES:Preces
ATTACH;FMTTYPE=image/jpeg:https://meditario.org.br/wp-content/uploads/2024/11/caminho-rapido.jpg
END:VEVENT
BEGIN:VEVENT
DTSTART;TZID=America/Sao_Paulo:20250825T090000
DTEND;TZID=America/Sao_Paulo:20250825T093000
DTSTAMP:20260424T114238
CREATED:20250716T144649Z
LAST-MODIFIED:20250716T144726Z
UID:10015864-1756112400-1756114200@meditario.org.br
SUMMARY:A Confissão Bodhisattva das Quedas Morais
DESCRIPTION:
URL:https://meditario.org.br/evento/a-confissao-bodhisattva-das-quedas-morais-5-2/2025-08-25/
LOCATION:CMK Rio de Janeiro\, Rua Conde de Irajá\, 604 – Botafogo\, Rio de Janeiro\, Rio de Janeiro\, 22271-020\, Brasil
CATEGORIES:Preces
ATTACH;FMTTYPE=image/jpeg:https://meditario.org.br/wp-content/uploads/2024/11/Sutra-mahayana.jpg
END:VEVENT
BEGIN:VEVENT
DTSTART;TZID=America/Sao_Paulo:20250825T123000
DTEND;TZID=America/Sao_Paulo:20250825T130000
DTSTAMP:20260424T114238
CREATED:20250716T145310Z
LAST-MODIFIED:20250716T145348Z
UID:10015877-1756125000-1756126800@meditario.org.br
SUMMARY:Meditação na hora do almoço
DESCRIPTION:
URL:https://meditario.org.br/evento/meditacao-na-hora-do-almoco-2-2/2025-08-25/
LOCATION:CMK Rio de Janeiro\, Rua Conde de Irajá\, 604 – Botafogo\, Rio de Janeiro\, Rio de Janeiro\, 22271-020\, Brasil
CATEGORIES:Meditação na Hora do Almoço,Meditações Guiadas
ATTACH;FMTTYPE=image/jpeg:https://meditario.org.br/wp-content/uploads/2025/01/site-e-sympla-2025-5.jpg
END:VEVENT
BEGIN:VEVENT
DTSTART;TZID=America/Sao_Paulo:20250825T173000
DTEND;TZID=America/Sao_Paulo:20250825T190000
DTSTAMP:20260424T114238
CREATED:20250716T142811Z
LAST-MODIFIED:20250716T142811Z
UID:10015836-1756143000-1756148400@meditario.org.br
SUMMARY:Joia-que-Satisfaz-os-Desejos ou Joia-Coração
DESCRIPTION:
URL:https://meditario.org.br/evento/joia-que-satisfaz-os-desejos-ou-joia-coracao-27/2025-08-25/
LOCATION:CMK Rio de Janeiro\, Rua Conde de Irajá\, 604 – Botafogo\, Rio de Janeiro\, Rio de Janeiro\, 22271-020\, Brasil
CATEGORIES:Preces
ATTACH;FMTTYPE=image/jpeg:https://meditario.org.br/wp-content/uploads/2024/11/JSD-e-JC.jpg
END:VEVENT
BEGIN:VEVENT
DTSTART;TZID=America/Sao_Paulo:20250825T183000
DTEND;TZID=America/Sao_Paulo:20250825T190000
DTSTAMP:20260424T114238
CREATED:20250716T145539Z
LAST-MODIFIED:20250716T145613Z
UID:10015889-1756146600-1756148400@meditario.org.br
SUMMARY:Meditação depois do trabalho
DESCRIPTION:
URL:https://meditario.org.br/evento/meditacao-depois-do-trabalho-5-2/2025-08-25/
LOCATION:CMK Rio de Janeiro\, Rua Conde de Irajá\, 604 – Botafogo\, Rio de Janeiro\, Rio de Janeiro\, 22271-020\, Brasil
CATEGORIES:Meditação depois do trabalho
ATTACH;FMTTYPE=image/jpeg:https://meditario.org.br/wp-content/uploads/2024/11/medita-em-30.jpg
END:VEVENT
BEGIN:VEVENT
DTSTART;TZID=America/Sao_Paulo:20250826T070000
DTEND;TZID=America/Sao_Paulo:20250826T083000
DTSTAMP:20260424T114238
CREATED:20250716T144142Z
LAST-MODIFIED:20250716T144246Z
UID:10015852-1756191600-1756197000@meditario.org.br
SUMMARY:Caminho Rápido ao Grande Êxtase
DESCRIPTION:
URL:https://meditario.org.br/evento/caminho-rapido-ao-grande-extase-7-2-2/2025-08-26/
LOCATION:CMK Rio de Janeiro\, Rua Conde de Irajá\, 604 – Botafogo\, Rio de Janeiro\, Rio de Janeiro\, 22271-020\, Brasil
CATEGORIES:Preces
ATTACH;FMTTYPE=image/jpeg:https://meditario.org.br/wp-content/uploads/2024/11/caminho-rapido.jpg
END:VEVENT
BEGIN:VEVENT
DTSTART;TZID=America/Sao_Paulo:20250826T090000
DTEND;TZID=America/Sao_Paulo:20250826T093000
DTSTAMP:20260424T114238
CREATED:20250716T144649Z
LAST-MODIFIED:20250716T144726Z
UID:10015865-1756198800-1756200600@meditario.org.br
SUMMARY:A Confissão Bodhisattva das Quedas Morais
DESCRIPTION:
URL:https://meditario.org.br/evento/a-confissao-bodhisattva-das-quedas-morais-5-2/2025-08-26/
LOCATION:CMK Rio de Janeiro\, Rua Conde de Irajá\, 604 – Botafogo\, Rio de Janeiro\, Rio de Janeiro\, 22271-020\, Brasil
CATEGORIES:Preces
ATTACH;FMTTYPE=image/jpeg:https://meditario.org.br/wp-content/uploads/2024/11/Sutra-mahayana.jpg
END:VEVENT
BEGIN:VEVENT
DTSTART;TZID=America/Sao_Paulo:20250826T104500
DTEND;TZID=America/Sao_Paulo:20250826T120000
DTSTAMP:20260424T114238
CREATED:20250724T014144Z
LAST-MODIFIED:20250730T235918Z
UID:10015921-1756205100-1756209600@meditario.org.br
SUMMARY:Aula com Meditação
DESCRIPTION:
URL:https://meditario.org.br/evento/aula-com-meditacao-35/
LOCATION:CMK Rio de Janeiro\, Rua Conde de Irajá\, 604 – Botafogo\, Rio de Janeiro\, Rio de Janeiro\, 22271-020\, Brasil
CATEGORIES:Aulas com Meditação,PGs de Terça Janeiro e Fevereiro
ATTACH;FMTTYPE=image/png:https://meditario.org.br/wp-content/uploads/2025/07/Captura-de-Tela-2025-07-20-as-12.50.12-1.png
END:VEVENT
BEGIN:VEVENT
DTSTART;TZID=America/Sao_Paulo:20250826T123000
DTEND;TZID=America/Sao_Paulo:20250826T130000
DTSTAMP:20260424T114238
CREATED:20250716T145310Z
LAST-MODIFIED:20250716T145348Z
UID:10015878-1756211400-1756213200@meditario.org.br
SUMMARY:Meditação na hora do almoço
DESCRIPTION:
URL:https://meditario.org.br/evento/meditacao-na-hora-do-almoco-2-2/2025-08-26/
LOCATION:CMK Rio de Janeiro\, Rua Conde de Irajá\, 604 – Botafogo\, Rio de Janeiro\, Rio de Janeiro\, 22271-020\, Brasil
CATEGORIES:Meditação na Hora do Almoço,Meditações Guiadas
ATTACH;FMTTYPE=image/jpeg:https://meditario.org.br/wp-content/uploads/2025/01/site-e-sympla-2025-5.jpg
END:VEVENT
BEGIN:VEVENT
DTSTART;TZID=America/Sao_Paulo:20250826T173000
DTEND;TZID=America/Sao_Paulo:20250826T190000
DTSTAMP:20260424T114238
CREATED:20250716T142811Z
LAST-MODIFIED:20250716T142811Z
UID:10015837-1756229400-1756234800@meditario.org.br
SUMMARY:Joia-que-Satisfaz-os-Desejos ou Joia-Coração
DESCRIPTION:
URL:https://meditario.org.br/evento/joia-que-satisfaz-os-desejos-ou-joia-coracao-27/2025-08-26/
LOCATION:CMK Rio de Janeiro\, Rua Conde de Irajá\, 604 – Botafogo\, Rio de Janeiro\, Rio de Janeiro\, 22271-020\, Brasil
CATEGORIES:Preces
ATTACH;FMTTYPE=image/jpeg:https://meditario.org.br/wp-content/uploads/2024/11/JSD-e-JC.jpg
END:VEVENT
BEGIN:VEVENT
DTSTART;TZID=America/Sao_Paulo:20250826T183000
DTEND;TZID=America/Sao_Paulo:20250826T190000
DTSTAMP:20260424T114238
CREATED:20250716T145539Z
LAST-MODIFIED:20250716T145613Z
UID:10015890-1756233000-1756234800@meditario.org.br
SUMMARY:Meditação depois do trabalho
DESCRIPTION:
URL:https://meditario.org.br/evento/meditacao-depois-do-trabalho-5-2/2025-08-26/
LOCATION:CMK Rio de Janeiro\, Rua Conde de Irajá\, 604 – Botafogo\, Rio de Janeiro\, Rio de Janeiro\, 22271-020\, Brasil
CATEGORIES:Meditação depois do trabalho
ATTACH;FMTTYPE=image/jpeg:https://meditario.org.br/wp-content/uploads/2024/11/medita-em-30.jpg
END:VEVENT
BEGIN:VEVENT
DTSTART;TZID=America/Sao_Paulo:20250827T123000
DTEND;TZID=America/Sao_Paulo:20250827T130000
DTSTAMP:20260424T114238
CREATED:20250716T145310Z
LAST-MODIFIED:20250716T145348Z
UID:10015879-1756297800-1756299600@meditario.org.br
SUMMARY:Meditação na hora do almoço
DESCRIPTION:
URL:https://meditario.org.br/evento/meditacao-na-hora-do-almoco-2-2/2025-08-27/
LOCATION:CMK Rio de Janeiro\, Rua Conde de Irajá\, 604 – Botafogo\, Rio de Janeiro\, Rio de Janeiro\, 22271-020\, Brasil
CATEGORIES:Meditação na Hora do Almoço,Meditações Guiadas
ATTACH;FMTTYPE=image/jpeg:https://meditario.org.br/wp-content/uploads/2025/01/site-e-sympla-2025-5.jpg
END:VEVENT
BEGIN:VEVENT
DTSTART;TZID=America/Sao_Paulo:20250827T173000
DTEND;TZID=America/Sao_Paulo:20250827T190000
DTSTAMP:20260424T114238
CREATED:20250716T142811Z
LAST-MODIFIED:20250716T142811Z
UID:10015838-1756315800-1756321200@meditario.org.br
SUMMARY:Joia-que-Satisfaz-os-Desejos ou Joia-Coração
DESCRIPTION:
URL:https://meditario.org.br/evento/joia-que-satisfaz-os-desejos-ou-joia-coracao-27/2025-08-27/
LOCATION:CMK Rio de Janeiro\, Rua Conde de Irajá\, 604 – Botafogo\, Rio de Janeiro\, Rio de Janeiro\, 22271-020\, Brasil
CATEGORIES:Preces
ATTACH;FMTTYPE=image/jpeg:https://meditario.org.br/wp-content/uploads/2024/11/JSD-e-JC.jpg
END:VEVENT
BEGIN:VEVENT
DTSTART;TZID=America/Sao_Paulo:20250827T183000
DTEND;TZID=America/Sao_Paulo:20250827T190000
DTSTAMP:20260424T114238
CREATED:20250716T145539Z
LAST-MODIFIED:20250716T145613Z
UID:10015891-1756319400-1756321200@meditario.org.br
SUMMARY:Meditação depois do trabalho
DESCRIPTION:
URL:https://meditario.org.br/evento/meditacao-depois-do-trabalho-5-2/2025-08-27/
LOCATION:CMK Rio de Janeiro\, Rua Conde de Irajá\, 604 – Botafogo\, Rio de Janeiro\, Rio de Janeiro\, 22271-020\, Brasil
CATEGORIES:Meditação depois do trabalho
ATTACH;FMTTYPE=image/jpeg:https://meditario.org.br/wp-content/uploads/2024/11/medita-em-30.jpg
END:VEVENT
BEGIN:VEVENT
DTSTART;TZID=America/Sao_Paulo:20250827T193000
DTEND;TZID=America/Sao_Paulo:20250827T204500
DTSTAMP:20260424T114238
CREATED:20250414T195402Z
LAST-MODIFIED:20250623T171751Z
UID:10014210-1756323000-1756327500@meditario.org.br
SUMMARY:Aula com Meditação
DESCRIPTION:
URL:https://meditario.org.br/evento/meditacoes-de-budismo-moderno-42/
LOCATION:CMK Rio de Janeiro\, Rua Conde de Irajá\, 604 – Botafogo\, Rio de Janeiro\, Rio de Janeiro\, 22271-020\, Brasil
CATEGORIES:Aulas com Meditação,PGs de Quarta Junho Julho Agosto
ATTACH;FMTTYPE=image/jpeg:https://meditario.org.br/wp-content/uploads/2025/04/o-estilo-de-vida-budista.jpg
END:VEVENT
BEGIN:VEVENT
DTSTART;TZID=America/Sao_Paulo:20250828T070000
DTEND;TZID=America/Sao_Paulo:20250828T083000
DTSTAMP:20260424T114238
CREATED:20250716T144142Z
LAST-MODIFIED:20250716T144246Z
UID:10015853-1756364400-1756369800@meditario.org.br
SUMMARY:Caminho Rápido ao Grande Êxtase
DESCRIPTION:
URL:https://meditario.org.br/evento/caminho-rapido-ao-grande-extase-7-2-2/2025-08-28/
LOCATION:CMK Rio de Janeiro\, Rua Conde de Irajá\, 604 – Botafogo\, Rio de Janeiro\, Rio de Janeiro\, 22271-020\, Brasil
CATEGORIES:Preces
ATTACH;FMTTYPE=image/jpeg:https://meditario.org.br/wp-content/uploads/2024/11/caminho-rapido.jpg
END:VEVENT
BEGIN:VEVENT
DTSTART;TZID=America/Sao_Paulo:20250828T090000
DTEND;TZID=America/Sao_Paulo:20250828T093000
DTSTAMP:20260424T114238
CREATED:20250716T144649Z
LAST-MODIFIED:20250716T144726Z
UID:10015866-1756371600-1756373400@meditario.org.br
SUMMARY:A Confissão Bodhisattva das Quedas Morais
DESCRIPTION:
URL:https://meditario.org.br/evento/a-confissao-bodhisattva-das-quedas-morais-5-2/2025-08-28/
LOCATION:CMK Rio de Janeiro\, Rua Conde de Irajá\, 604 – Botafogo\, Rio de Janeiro\, Rio de Janeiro\, 22271-020\, Brasil
CATEGORIES:Preces
ATTACH;FMTTYPE=image/jpeg:https://meditario.org.br/wp-content/uploads/2024/11/Sutra-mahayana.jpg
END:VEVENT
BEGIN:VEVENT
DTSTART;TZID=America/Sao_Paulo:20250828T123000
DTEND;TZID=America/Sao_Paulo:20250828T130000
DTSTAMP:20260424T114238
CREATED:20250716T145310Z
LAST-MODIFIED:20250716T145348Z
UID:10015880-1756384200-1756386000@meditario.org.br
SUMMARY:Meditação na hora do almoço
DESCRIPTION:
URL:https://meditario.org.br/evento/meditacao-na-hora-do-almoco-2-2/2025-08-28/
LOCATION:CMK Rio de Janeiro\, Rua Conde de Irajá\, 604 – Botafogo\, Rio de Janeiro\, Rio de Janeiro\, 22271-020\, Brasil
CATEGORIES:Meditação na Hora do Almoço,Meditações Guiadas
ATTACH;FMTTYPE=image/jpeg:https://meditario.org.br/wp-content/uploads/2025/01/site-e-sympla-2025-5.jpg
END:VEVENT
BEGIN:VEVENT
DTSTART;TZID=America/Sao_Paulo:20250828T183000
DTEND;TZID=America/Sao_Paulo:20250828T190000
DTSTAMP:20260424T114238
CREATED:20250716T145539Z
LAST-MODIFIED:20250716T145613Z
UID:10015892-1756405800-1756407600@meditario.org.br
SUMMARY:Meditação depois do trabalho
DESCRIPTION:
URL:https://meditario.org.br/evento/meditacao-depois-do-trabalho-5-2/2025-08-28/
LOCATION:CMK Rio de Janeiro\, Rua Conde de Irajá\, 604 – Botafogo\, Rio de Janeiro\, Rio de Janeiro\, 22271-020\, Brasil
CATEGORIES:Meditação depois do trabalho
ATTACH;FMTTYPE=image/jpeg:https://meditario.org.br/wp-content/uploads/2024/11/medita-em-30.jpg
END:VEVENT
BEGIN:VEVENT
DTSTART;TZID=America/Sao_Paulo:20250828T193000
DTEND;TZID=America/Sao_Paulo:20250828T213000
DTSTAMP:20260424T114238
CREATED:20250625T152302Z
LAST-MODIFIED:20250625T152302Z
UID:10015797-1756409400-1756416600@meditario.org.br
SUMMARY:A prática das preliminares
DESCRIPTION:
URL:https://meditario.org.br/evento/a-pratica-das-preliminares-2/2025-08-28/
LOCATION:CMK Rio de Janeiro\, Rua Conde de Irajá\, 604 – Botafogo\, Rio de Janeiro\, Rio de Janeiro\, 22271-020\, Brasil
CATEGORIES:Grandes Guias Preliminares
ATTACH;FMTTYPE=image/jpeg:https://meditario.org.br/wp-content/uploads/2025/05/preliminares.jpg
END:VEVENT
BEGIN:VEVENT
DTSTART;TZID=America/Sao_Paulo:20250829T070000
DTEND;TZID=America/Sao_Paulo:20250829T083000
DTSTAMP:20260424T114238
CREATED:20250716T144142Z
LAST-MODIFIED:20250716T144246Z
UID:10015854-1756450800-1756456200@meditario.org.br
SUMMARY:Caminho Rápido ao Grande Êxtase
DESCRIPTION:
URL:https://meditario.org.br/evento/caminho-rapido-ao-grande-extase-7-2-2/2025-08-29/
LOCATION:CMK Rio de Janeiro\, Rua Conde de Irajá\, 604 – Botafogo\, Rio de Janeiro\, Rio de Janeiro\, 22271-020\, Brasil
CATEGORIES:Preces
ATTACH;FMTTYPE=image/jpeg:https://meditario.org.br/wp-content/uploads/2024/11/caminho-rapido.jpg
END:VEVENT
BEGIN:VEVENT
DTSTART;TZID=America/Sao_Paulo:20250829T190000
DTEND;TZID=America/Sao_Paulo:20250829T200000
DTSTAMP:20260424T114238
CREATED:20250619T133944Z
LAST-MODIFIED:20250619T133944Z
UID:10015146-1756494000-1756497600@meditario.org.br
SUMMARY:Filial Vila Velha: Joia Coração
DESCRIPTION:
URL:https://meditario.org.br/evento/filial-vila-velha-joia-coracao-2/
LOCATION:Marzen\, R. Vinícius Tôrres\, 635\, vila velha\, ES\, 29.100430\, Brazil
CATEGORIES:Preces Vila Velha
ATTACH;FMTTYPE=image/png:https://meditario.org.br/wp-content/uploads/2025/06/JC-Sympla-e-Site.png
END:VEVENT
BEGIN:VEVENT
DTSTART;TZID=America/Sao_Paulo:20250830T100000
DTEND;TZID=America/Sao_Paulo:20250830T111500
DTSTAMP:20260424T114238
CREATED:20250827T161327Z
LAST-MODIFIED:20250828T212409Z
UID:10015904-1756548000-1756552500@meditario.org.br
SUMMARY:Aula com Meditação em Vila Velha
DESCRIPTION:
URL:https://meditario.org.br/evento/aula-com-meditacao-em-vila-velha-5/
LOCATION:Marzen\, R. Vinícius Tôrres\, 635\, vila velha\, ES\, 29.100430\, Brazil
CATEGORIES:Atividades Vila Velha,Vila Velha
ATTACH;FMTTYPE=image/png:https://meditario.org.br/wp-content/uploads/2025/07/Vila-Velha-Agenda-e-JC.zip-14.png
END:VEVENT
BEGIN:VEVENT
DTSTART;TZID=America/Sao_Paulo:20250830T100000
DTEND;TZID=America/Sao_Paulo:20250830T170000
DTSTAMP:20260424T114238
CREATED:20250621T022905Z
LAST-MODIFIED:20250624T151251Z
UID:10015774-1756548000-1756573200@meditario.org.br
SUMMARY:Workshop de Rituais
DESCRIPTION:
URL:https://meditario.org.br/evento/workshop-de-rituais/
LOCATION:CMK Rio de Janeiro\, Rua Conde de Irajá\, 604 – Botafogo\, Rio de Janeiro\, Rio de Janeiro\, 22271-020\, Brasil
CATEGORIES:Atividades Especiais
ATTACH;FMTTYPE=image/png:https://meditario.org.br/wp-content/uploads/2025/06/Captura-de-Tela-2025-06-20-as-23.29.38.png
END:VEVENT
BEGIN:VEVENT
DTSTART;TZID=America/Sao_Paulo:20250831T170000
DTEND;TZID=America/Sao_Paulo:20250831T183000
DTSTAMP:20260424T114238
CREATED:20250621T021902Z
LAST-MODIFIED:20250624T151157Z
UID:10015773-1756659600-1756665000@meditario.org.br
SUMMARY:Palestra Especial com Monja Budista
DESCRIPTION:
URL:https://meditario.org.br/evento/palestra-especial/
LOCATION:CMK Rio de Janeiro\, Rua Conde de Irajá\, 604 – Botafogo\, Rio de Janeiro\, Rio de Janeiro\, 22271-020\, Brasil
CATEGORIES:Atividades em Destaque,Atividades Especiais
ATTACH;FMTTYPE=image/jpeg:https://meditario.org.br/wp-content/uploads/2025/06/palestra-especial-site.jpg
END:VEVENT
BEGIN:VEVENT
DTSTART;TZID=America/Sao_Paulo:20250901T070000
DTEND;TZID=America/Sao_Paulo:20250901T083000
DTSTAMP:20260424T114238
CREATED:20250826T134921Z
LAST-MODIFIED:20250826T153052Z
UID:10015161-1756710000-1756715400@meditario.org.br
SUMMARY:Caminho Rápido ao Grande Êxtase
DESCRIPTION:
URL:https://meditario.org.br/evento/caminho-rapido-ao-grande-extase-9-2/2025-09-01/
LOCATION:CMK Rio de Janeiro\, Rua Conde de Irajá\, 604 – Botafogo\, Rio de Janeiro\, Rio de Janeiro\, 22271-020\, Brasil
CATEGORIES:Preces
ATTACH;FMTTYPE=image/jpeg:https://meditario.org.br/wp-content/uploads/2024/11/caminho-rapido.jpg
END:VEVENT
END:VCALENDAR