BEGIN:VCALENDAR
VERSION:2.0
PRODID:-//Centro de Meditação Kadampa Rio de Janeiro - ECPv6.15.20//NONSGML v1.0//EN
CALSCALE:GREGORIAN
METHOD:PUBLISH
X-ORIGINAL-URL:https://meditario.org.br
X-WR-CALDESC:Eventos para Centro de Meditação Kadampa Rio de Janeiro
REFRESH-INTERVAL;VALUE=DURATION:PT1H
X-Robots-Tag:noindex
X-PUBLISHED-TTL:PT1H
BEGIN:VTIMEZONE
TZID:America/Sao_Paulo
BEGIN:STANDARD
TZOFFSETFROM:-0300
TZOFFSETTO:-0300
TZNAME:-03
DTSTART:20240101T000000
END:STANDARD
END:VTIMEZONE
BEGIN:VEVENT
DTSTART;TZID=America/Sao_Paulo:20250904T070000
DTEND;TZID=America/Sao_Paulo:20250904T083000
DTSTAMP:20260424T114306
CREATED:20250826T134921Z
LAST-MODIFIED:20250826T153052Z
UID:10015955-1756969200-1756974600@meditario.org.br
SUMMARY:Caminho Rápido ao Grande Êxtase
DESCRIPTION:
URL:https://meditario.org.br/evento/caminho-rapido-ao-grande-extase-9-2/2025-09-04/
LOCATION:CMK Rio de Janeiro\, Rua Conde de Irajá\, 604 – Botafogo\, Rio de Janeiro\, Rio de Janeiro\, 22271-020\, Brasil
CATEGORIES:Preces
ATTACH;FMTTYPE=image/jpeg:https://meditario.org.br/wp-content/uploads/2024/11/caminho-rapido.jpg
END:VEVENT
BEGIN:VEVENT
DTSTART;TZID=America/Sao_Paulo:20250904T090000
DTEND;TZID=America/Sao_Paulo:20250904T093000
DTSTAMP:20260424T114306
CREATED:20250826T140328Z
LAST-MODIFIED:20250826T153352Z
UID:10016184-1756976400-1756978200@meditario.org.br
SUMMARY:A Confissão Bodhisattva das Quedas Morais
DESCRIPTION:
URL:https://meditario.org.br/evento/a-confissao-bodhisattva-das-quedas-morais-6-2/2025-09-04/
LOCATION:CMK Rio de Janeiro\, Rua Conde de Irajá\, 604 – Botafogo\, Rio de Janeiro\, Rio de Janeiro\, 22271-020\, Brasil
CATEGORIES:Preces
ATTACH;FMTTYPE=image/jpeg:https://meditario.org.br/wp-content/uploads/2024/11/Sutra-mahayana.jpg
END:VEVENT
BEGIN:VEVENT
DTSTART;TZID=America/Sao_Paulo:20250904T123000
DTEND;TZID=America/Sao_Paulo:20250904T130000
DTSTAMP:20260424T114306
CREATED:20250826T145707Z
LAST-MODIFIED:20250826T145801Z
UID:10016260-1756989000-1756990800@meditario.org.br
SUMMARY:Meditação na Hora do Almoço
DESCRIPTION:
URL:https://meditario.org.br/evento/meditacao-na-hora-do-almoco-5-2/2025-09-04/
LOCATION:CMK Rio de Janeiro\, Rua Conde de Irajá\, 604 – Botafogo\, Rio de Janeiro\, Rio de Janeiro\, 22271-020\, Brasil
CATEGORIES:Meditação na Hora do Almoço
ATTACH;FMTTYPE=image/jpeg:https://meditario.org.br/wp-content/uploads/2024/11/medita-em-30.jpg
END:VEVENT
BEGIN:VEVENT
DTSTART;TZID=America/Sao_Paulo:20250904T170000
DTEND;TZID=America/Sao_Paulo:20250904T183000
DTSTAMP:20260424T114306
CREATED:20250826T140846Z
LAST-MODIFIED:20250826T141542Z
UID:10016229-1757005200-1757010600@meditario.org.br
SUMMARY:Joia-que-Satisfaz-os-Desejos ou Joia-Coração
DESCRIPTION:
URL:https://meditario.org.br/evento/joia-que-satisfaz-os-desejos-ou-joia-coracao-28/2025-09-04/
LOCATION:CMK Rio de Janeiro\, Rua Conde de Irajá\, 604 – Botafogo\, Rio de Janeiro\, Rio de Janeiro\, 22271-020\, Brasil
CATEGORIES:Preces
ATTACH;FMTTYPE=image/jpeg:https://meditario.org.br/wp-content/uploads/2024/11/JSD-e-JC.jpg
END:VEVENT
BEGIN:VEVENT
DTSTART;TZID=America/Sao_Paulo:20250904T183000
DTEND;TZID=America/Sao_Paulo:20250904T190000
DTSTAMP:20260424T114306
CREATED:20250826T150055Z
LAST-MODIFIED:20250826T150142Z
UID:10016281-1757010600-1757012400@meditario.org.br
SUMMARY:Meditação Depois do Trabalho
DESCRIPTION:
URL:https://meditario.org.br/evento/meditacao-depois-do-trabalho-7-2/2025-09-04/
LOCATION:CMK Rio de Janeiro\, Rua Conde de Irajá\, 604 – Botafogo\, Rio de Janeiro\, Rio de Janeiro\, 22271-020\, Brasil
CATEGORIES:Meditação depois do trabalho
ATTACH;FMTTYPE=image/jpeg:https://meditario.org.br/wp-content/uploads/2024/11/medita-em-30.jpg
END:VEVENT
BEGIN:VEVENT
DTSTART;TZID=America/Sao_Paulo:20250904T193000
DTEND;TZID=America/Sao_Paulo:20250904T213000
DTSTAMP:20260424T114306
CREATED:20250826T150734Z
LAST-MODIFIED:20250826T151021Z
UID:10016295-1757014200-1757021400@meditario.org.br
SUMMARY:Programa de Formação de Professores
DESCRIPTION:
URL:https://meditario.org.br/evento/programa-de-formacao-de-professores-5-2/2025-09-04/
LOCATION:CMK Rio de Janeiro\, Rua Conde de Irajá\, 604 – Botafogo\, Rio de Janeiro\, Rio de Janeiro\, 22271-020\, Brasil
CATEGORIES:Estudo Aprofundado
ATTACH;FMTTYPE=image/jpeg:https://meditario.org.br/wp-content/uploads/2024/11/pfp.jpg
END:VEVENT
BEGIN:VEVENT
DTSTART;TZID=America/Sao_Paulo:20250905T070000
DTEND;TZID=America/Sao_Paulo:20250905T083000
DTSTAMP:20260424T114306
CREATED:20250826T134921Z
LAST-MODIFIED:20250826T153052Z
UID:10015956-1757055600-1757061000@meditario.org.br
SUMMARY:Caminho Rápido ao Grande Êxtase
DESCRIPTION:
URL:https://meditario.org.br/evento/caminho-rapido-ao-grande-extase-9-2/2025-09-05/
LOCATION:CMK Rio de Janeiro\, Rua Conde de Irajá\, 604 – Botafogo\, Rio de Janeiro\, Rio de Janeiro\, 22271-020\, Brasil
CATEGORIES:Preces
ATTACH;FMTTYPE=image/jpeg:https://meditario.org.br/wp-content/uploads/2024/11/caminho-rapido.jpg
END:VEVENT
BEGIN:VEVENT
DTSTART;TZID=America/Sao_Paulo:20250905T090000
DTEND;TZID=America/Sao_Paulo:20250905T093000
DTSTAMP:20260424T114306
CREATED:20250826T140328Z
LAST-MODIFIED:20250826T153352Z
UID:10016185-1757062800-1757064600@meditario.org.br
SUMMARY:A Confissão Bodhisattva das Quedas Morais
DESCRIPTION:
URL:https://meditario.org.br/evento/a-confissao-bodhisattva-das-quedas-morais-6-2/2025-09-05/
LOCATION:CMK Rio de Janeiro\, Rua Conde de Irajá\, 604 – Botafogo\, Rio de Janeiro\, Rio de Janeiro\, 22271-020\, Brasil
CATEGORIES:Preces
ATTACH;FMTTYPE=image/jpeg:https://meditario.org.br/wp-content/uploads/2024/11/Sutra-mahayana.jpg
END:VEVENT
BEGIN:VEVENT
DTSTART;TZID=America/Sao_Paulo:20250905T123000
DTEND;TZID=America/Sao_Paulo:20250905T130000
DTSTAMP:20260424T114306
CREATED:20250826T145707Z
LAST-MODIFIED:20250826T145801Z
UID:10016261-1757075400-1757077200@meditario.org.br
SUMMARY:Meditação na Hora do Almoço
DESCRIPTION:
URL:https://meditario.org.br/evento/meditacao-na-hora-do-almoco-5-2/2025-09-05/
LOCATION:CMK Rio de Janeiro\, Rua Conde de Irajá\, 604 – Botafogo\, Rio de Janeiro\, Rio de Janeiro\, 22271-020\, Brasil
CATEGORIES:Meditação na Hora do Almoço
ATTACH;FMTTYPE=image/jpeg:https://meditario.org.br/wp-content/uploads/2024/11/medita-em-30.jpg
END:VEVENT
BEGIN:VEVENT
DTSTART;TZID=America/Sao_Paulo:20250905T193000
DTEND;TZID=America/Sao_Paulo:20250905T204500
DTSTAMP:20260424T114306
CREATED:20250619T131149Z
LAST-MODIFIED:20250828T213123Z
UID:10015143-1757100600-1757105100@meditario.org.br
SUMMARY:Evento especial em Vitória
DESCRIPTION:
URL:https://meditario.org.br/evento/evento-especial-em-vitoria/
LOCATION:Matriz Casa Criativa\, R. Jaime Martins\, 77 - Praia do Canto\, Vitória\, ES\, 29055-610\, Brazil
CATEGORIES:Atividades Vila Velha,Vila Velha
ATTACH;FMTTYPE=image/png:https://meditario.org.br/wp-content/uploads/2025/06/Vila-Velha-Palestra-Overthinking-Site-e-Sympla.png
END:VEVENT
BEGIN:VEVENT
DTSTART;TZID=America/Sao_Paulo:20250905T193000
DTEND;TZID=America/Sao_Paulo:20250905T210000
DTSTAMP:20260424T114306
CREATED:20250620T142916Z
LAST-MODIFIED:20250826T152741Z
UID:10016241-1757100600-1757106000@meditario.org.br
SUMMARY:Joia-que-Satisfaz-os-Desejos ou Joia-Coração com Tsog
DESCRIPTION:
URL:https://meditario.org.br/evento/joia-que-satisfaz-os-desejos-ou-joia-coracao-26/2025-09-05/
LOCATION:CMK Rio de Janeiro\, Rua Conde de Irajá\, 604 – Botafogo\, Rio de Janeiro\, Rio de Janeiro\, 22271-020\, Brasil
CATEGORIES:Preces
ATTACH;FMTTYPE=image/jpeg:https://meditario.org.br/wp-content/uploads/2024/11/JSD-e-JC.jpg
END:VEVENT
BEGIN:VEVENT
DTSTART;TZID=America/Sao_Paulo:20250906T090000
DTEND;TZID=America/Sao_Paulo:20250906T170000
DTSTAMP:20260424T114306
CREATED:20250719T155337Z
LAST-MODIFIED:20250719T155529Z
UID:10015901-1757149200-1757178000@meditario.org.br
SUMMARY:Dia de Apreciar o Centro
DESCRIPTION:
URL:https://meditario.org.br/evento/dia-de-apreciar-o-centro/
LOCATION:CMK Rio de Janeiro\, Rua Conde de Irajá\, 604 – Botafogo\, Rio de Janeiro\, Rio de Janeiro\, 22271-020\, Brasil
CATEGORIES:Atividades Especiais
ATTACH;FMTTYPE=image/jpeg:https://meditario.org.br/wp-content/uploads/2025/07/dia-de-apreciar-o-centro.jpg
END:VEVENT
BEGIN:VEVENT
DTSTART;TZID=America/Sao_Paulo:20250906T100000
DTEND;TZID=America/Sao_Paulo:20250906T120000
DTSTAMP:20260424T114306
CREATED:20250826T151914Z
LAST-MODIFIED:20250826T151952Z
UID:10015050-1757152800-1757160000@meditario.org.br
SUMMARY:PF - Caminho Alegre da Boa Fortuna
DESCRIPTION:
URL:https://meditario.org.br/evento/pf-caminho-alegre-da-boa-fortuna-5-2/2025-09-06/
LOCATION:CMK Rio de Janeiro\, Rua Conde de Irajá\, 604 – Botafogo\, Rio de Janeiro\, Rio de Janeiro\, 22271-020\, Brasil
CATEGORIES:Estudo Aprofundado
ATTACH;FMTTYPE=image/jpeg:https://meditario.org.br/wp-content/uploads/2024/11/pf-cabf.jpg
END:VEVENT
BEGIN:VEVENT
DTSTART;TZID=America/Sao_Paulo:20250906T103000
DTEND;TZID=America/Sao_Paulo:20250906T153000
DTSTAMP:20260424T114306
CREATED:20250619T131823Z
LAST-MODIFIED:20250828T213214Z
UID:10015144-1757154600-1757172600@meditario.org.br
SUMMARY:Evento especial em Vila Velha
DESCRIPTION:
URL:https://meditario.org.br/evento/evento-especial-em-vila-velha-2/
LOCATION:Marzen\, R. Vinícius Tôrres\, 635\, vila velha\, ES\, 29.100430\, Brazil
CATEGORIES:Atividades Vila Velha,Vila Velha
ATTACH;FMTTYPE=image/png:https://meditario.org.br/wp-content/uploads/2025/06/Vila-Velha-Mini-curso-Detox-Site-e-Sympla.png
END:VEVENT
BEGIN:VEVENT
DTSTART;TZID=America/Sao_Paulo:20250906T193000
DTEND;TZID=America/Sao_Paulo:20250906T210000
DTSTAMP:20260424T114306
CREATED:20250620T145433Z
LAST-MODIFIED:20250826T140106Z
UID:10016179-1757187000-1757192400@meditario.org.br
SUMMARY:Caminho Rápido ao Grande Êxtase
DESCRIPTION:
URL:https://meditario.org.br/evento/caminho-rapido-ao-grande-extase-10/2025-09-06/
LOCATION:CMK Rio de Janeiro\, Rua Conde de Irajá\, 604 – Botafogo\, Rio de Janeiro\, Rio de Janeiro\, 22271-020\, Brasil
CATEGORIES:Preces
ATTACH;FMTTYPE=image/jpeg:https://meditario.org.br/wp-content/uploads/2024/11/caminho-rapido.jpg
END:VEVENT
BEGIN:VEVENT
DTSTART;TZID=America/Sao_Paulo:20250907T150000
DTEND;TZID=America/Sao_Paulo:20250907T163000
DTSTAMP:20260424T114306
CREATED:20250826T143553Z
LAST-MODIFIED:20250826T143632Z
UID:10015224-1757257200-1757262600@meditario.org.br
SUMMARY:Joia-Coração com Lamrim
DESCRIPTION:
URL:https://meditario.org.br/evento/joia-coracao-com-lamrim-2-2/2025-09-07/
LOCATION:CMK Rio de Janeiro\, Rua Conde de Irajá\, 604 – Botafogo\, Rio de Janeiro\, Rio de Janeiro\, 22271-020\, Brasil
CATEGORIES:Preces
ATTACH;FMTTYPE=image/jpeg:https://meditario.org.br/wp-content/uploads/2024/11/JSD-e-JC.jpg
END:VEVENT
BEGIN:VEVENT
DTSTART;TZID=America/Sao_Paulo:20250907T170000
DTEND;TZID=America/Sao_Paulo:20250907T183000
DTSTAMP:20260424T114306
CREATED:20250720T150427Z
LAST-MODIFIED:20250904T023339Z
UID:10015906-1757264400-1757269800@meditario.org.br
SUMMARY:Aula com Meditação
DESCRIPTION:
URL:https://meditario.org.br/evento/aula-com-meditacao-23/
LOCATION:CMK Rio de Janeiro\, Rua Conde de Irajá\, 604 – Botafogo\, Rio de Janeiro\, Rio de Janeiro\, 22271-020\, Brasil
CATEGORIES:Atividades em Destaque,Aulas com Meditação,PGs de Domingo Setembro
ATTACH;FMTTYPE=image/png:https://meditario.org.br/wp-content/uploads/2025/07/Captura-de-Tela-2025-07-20-as-11.03.19.png
END:VEVENT
BEGIN:VEVENT
DTSTART;TZID=America/Sao_Paulo:20250908T070000
DTEND;TZID=America/Sao_Paulo:20250908T083000
DTSTAMP:20260424T114306
CREATED:20250826T134921Z
LAST-MODIFIED:20250826T153052Z
UID:10015957-1757314800-1757320200@meditario.org.br
SUMMARY:Caminho Rápido ao Grande Êxtase
DESCRIPTION:
URL:https://meditario.org.br/evento/caminho-rapido-ao-grande-extase-9-2/2025-09-08/
LOCATION:CMK Rio de Janeiro\, Rua Conde de Irajá\, 604 – Botafogo\, Rio de Janeiro\, Rio de Janeiro\, 22271-020\, Brasil
CATEGORIES:Preces
ATTACH;FMTTYPE=image/jpeg:https://meditario.org.br/wp-content/uploads/2024/11/caminho-rapido.jpg
END:VEVENT
BEGIN:VEVENT
DTSTART;TZID=America/Sao_Paulo:20250908T090000
DTEND;TZID=America/Sao_Paulo:20250908T093000
DTSTAMP:20260424T114306
CREATED:20250826T140328Z
LAST-MODIFIED:20250826T153352Z
UID:10016186-1757322000-1757323800@meditario.org.br
SUMMARY:A Confissão Bodhisattva das Quedas Morais
DESCRIPTION:
URL:https://meditario.org.br/evento/a-confissao-bodhisattva-das-quedas-morais-6-2/2025-09-08/
LOCATION:CMK Rio de Janeiro\, Rua Conde de Irajá\, 604 – Botafogo\, Rio de Janeiro\, Rio de Janeiro\, 22271-020\, Brasil
CATEGORIES:Preces
ATTACH;FMTTYPE=image/jpeg:https://meditario.org.br/wp-content/uploads/2024/11/Sutra-mahayana.jpg
END:VEVENT
BEGIN:VEVENT
DTSTART;TZID=America/Sao_Paulo:20250908T123000
DTEND;TZID=America/Sao_Paulo:20250908T130000
DTSTAMP:20260424T114306
CREATED:20250826T145707Z
LAST-MODIFIED:20250826T145801Z
UID:10016262-1757334600-1757336400@meditario.org.br
SUMMARY:Meditação na Hora do Almoço
DESCRIPTION:
URL:https://meditario.org.br/evento/meditacao-na-hora-do-almoco-5-2/2025-09-08/
LOCATION:CMK Rio de Janeiro\, Rua Conde de Irajá\, 604 – Botafogo\, Rio de Janeiro\, Rio de Janeiro\, 22271-020\, Brasil
CATEGORIES:Meditação na Hora do Almoço
ATTACH;FMTTYPE=image/jpeg:https://meditario.org.br/wp-content/uploads/2024/11/medita-em-30.jpg
END:VEVENT
BEGIN:VEVENT
DTSTART;TZID=America/Sao_Paulo:20250908T170000
DTEND;TZID=America/Sao_Paulo:20250908T183000
DTSTAMP:20260424T114306
CREATED:20250826T140846Z
LAST-MODIFIED:20250826T141542Z
UID:10016230-1757350800-1757356200@meditario.org.br
SUMMARY:Joia-que-Satisfaz-os-Desejos ou Joia-Coração
DESCRIPTION:
URL:https://meditario.org.br/evento/joia-que-satisfaz-os-desejos-ou-joia-coracao-28/2025-09-08/
LOCATION:CMK Rio de Janeiro\, Rua Conde de Irajá\, 604 – Botafogo\, Rio de Janeiro\, Rio de Janeiro\, 22271-020\, Brasil
CATEGORIES:Preces
ATTACH;FMTTYPE=image/jpeg:https://meditario.org.br/wp-content/uploads/2024/11/JSD-e-JC.jpg
END:VEVENT
BEGIN:VEVENT
DTSTART;TZID=America/Sao_Paulo:20250908T183000
DTEND;TZID=America/Sao_Paulo:20250908T190000
DTSTAMP:20260424T114306
CREATED:20250826T150055Z
LAST-MODIFIED:20250826T150142Z
UID:10016282-1757356200-1757358000@meditario.org.br
SUMMARY:Meditação Depois do Trabalho
DESCRIPTION:
URL:https://meditario.org.br/evento/meditacao-depois-do-trabalho-7-2/2025-09-08/
LOCATION:CMK Rio de Janeiro\, Rua Conde de Irajá\, 604 – Botafogo\, Rio de Janeiro\, Rio de Janeiro\, 22271-020\, Brasil
CATEGORIES:Meditação depois do trabalho
ATTACH;FMTTYPE=image/jpeg:https://meditario.org.br/wp-content/uploads/2024/11/medita-em-30.jpg
END:VEVENT
BEGIN:VEVENT
DTSTART;TZID=America/Sao_Paulo:20250909T070000
DTEND;TZID=America/Sao_Paulo:20250909T083000
DTSTAMP:20260424T114306
CREATED:20250826T134921Z
LAST-MODIFIED:20250826T153052Z
UID:10015958-1757401200-1757406600@meditario.org.br
SUMMARY:Caminho Rápido ao Grande Êxtase
DESCRIPTION:
URL:https://meditario.org.br/evento/caminho-rapido-ao-grande-extase-9-2/2025-09-09/
LOCATION:CMK Rio de Janeiro\, Rua Conde de Irajá\, 604 – Botafogo\, Rio de Janeiro\, Rio de Janeiro\, 22271-020\, Brasil
CATEGORIES:Preces
ATTACH;FMTTYPE=image/jpeg:https://meditario.org.br/wp-content/uploads/2024/11/caminho-rapido.jpg
END:VEVENT
BEGIN:VEVENT
DTSTART;TZID=America/Sao_Paulo:20250909T090000
DTEND;TZID=America/Sao_Paulo:20250909T093000
DTSTAMP:20260424T114306
CREATED:20250826T140328Z
LAST-MODIFIED:20250826T153352Z
UID:10016187-1757408400-1757410200@meditario.org.br
SUMMARY:A Confissão Bodhisattva das Quedas Morais
DESCRIPTION:
URL:https://meditario.org.br/evento/a-confissao-bodhisattva-das-quedas-morais-6-2/2025-09-09/
LOCATION:CMK Rio de Janeiro\, Rua Conde de Irajá\, 604 – Botafogo\, Rio de Janeiro\, Rio de Janeiro\, 22271-020\, Brasil
CATEGORIES:Preces
ATTACH;FMTTYPE=image/jpeg:https://meditario.org.br/wp-content/uploads/2024/11/Sutra-mahayana.jpg
END:VEVENT
BEGIN:VEVENT
DTSTART;TZID=America/Sao_Paulo:20250909T104500
DTEND;TZID=America/Sao_Paulo:20250909T120000
DTSTAMP:20260424T114306
CREATED:20250721T133046Z
LAST-MODIFIED:20250731T000044Z
UID:10015912-1757414700-1757419200@meditario.org.br
SUMMARY:Aula com Meditação
DESCRIPTION:
URL:https://meditario.org.br/evento/aula-com-meditacao-33/
LOCATION:CMK Rio de Janeiro\, Rua Conde de Irajá\, 604 – Botafogo\, Rio de Janeiro\, Rio de Janeiro\, 22271-020\, Brasil
CATEGORIES:Aulas com Meditação,PGs de Terça Janeiro e Fevereiro
ATTACH;FMTTYPE=image/png:https://meditario.org.br/wp-content/uploads/2025/07/Captura-de-Tela-2025-07-20-as-12.55.20.png
END:VEVENT
BEGIN:VEVENT
DTSTART;TZID=America/Sao_Paulo:20250909T123000
DTEND;TZID=America/Sao_Paulo:20250909T130000
DTSTAMP:20260424T114306
CREATED:20250826T145707Z
LAST-MODIFIED:20250826T145801Z
UID:10016263-1757421000-1757422800@meditario.org.br
SUMMARY:Meditação na Hora do Almoço
DESCRIPTION:
URL:https://meditario.org.br/evento/meditacao-na-hora-do-almoco-5-2/2025-09-09/
LOCATION:CMK Rio de Janeiro\, Rua Conde de Irajá\, 604 – Botafogo\, Rio de Janeiro\, Rio de Janeiro\, 22271-020\, Brasil
CATEGORIES:Meditação na Hora do Almoço
ATTACH;FMTTYPE=image/jpeg:https://meditario.org.br/wp-content/uploads/2024/11/medita-em-30.jpg
END:VEVENT
BEGIN:VEVENT
DTSTART;TZID=America/Sao_Paulo:20250909T170000
DTEND;TZID=America/Sao_Paulo:20250909T183000
DTSTAMP:20260424T114306
CREATED:20250826T140846Z
LAST-MODIFIED:20250826T141542Z
UID:10016231-1757437200-1757442600@meditario.org.br
SUMMARY:Joia-que-Satisfaz-os-Desejos ou Joia-Coração
DESCRIPTION:
URL:https://meditario.org.br/evento/joia-que-satisfaz-os-desejos-ou-joia-coracao-28/2025-09-09/
LOCATION:CMK Rio de Janeiro\, Rua Conde de Irajá\, 604 – Botafogo\, Rio de Janeiro\, Rio de Janeiro\, 22271-020\, Brasil
CATEGORIES:Preces
ATTACH;FMTTYPE=image/jpeg:https://meditario.org.br/wp-content/uploads/2024/11/JSD-e-JC.jpg
END:VEVENT
BEGIN:VEVENT
DTSTART;TZID=America/Sao_Paulo:20250909T183000
DTEND;TZID=America/Sao_Paulo:20250909T190000
DTSTAMP:20260424T114306
CREATED:20250826T150055Z
LAST-MODIFIED:20250826T150142Z
UID:10016283-1757442600-1757444400@meditario.org.br
SUMMARY:Meditação Depois do Trabalho
DESCRIPTION:
URL:https://meditario.org.br/evento/meditacao-depois-do-trabalho-7-2/2025-09-09/
LOCATION:CMK Rio de Janeiro\, Rua Conde de Irajá\, 604 – Botafogo\, Rio de Janeiro\, Rio de Janeiro\, 22271-020\, Brasil
CATEGORIES:Meditação depois do trabalho
ATTACH;FMTTYPE=image/jpeg:https://meditario.org.br/wp-content/uploads/2024/11/medita-em-30.jpg
END:VEVENT
BEGIN:VEVENT
DTSTART;TZID=America/Sao_Paulo:20250909T193000
DTEND;TZID=America/Sao_Paulo:20250909T213000
DTSTAMP:20260424T114306
CREATED:20250826T151336Z
LAST-MODIFIED:20250826T151500Z
UID:10016299-1757446200-1757453400@meditario.org.br
SUMMARY:PF - Novo Oito Passos para a Felicidade
DESCRIPTION:
URL:https://meditario.org.br/evento/pf-novo-oito-passos-para-a-felicidade-6-2/2025-09-09/
LOCATION:CMK Rio de Janeiro\, Rua Conde de Irajá\, 604 – Botafogo\, Rio de Janeiro\, Rio de Janeiro\, 22271-020\, Brasil
CATEGORIES:Estudo Aprofundado
ATTACH;FMTTYPE=image/jpeg:https://meditario.org.br/wp-content/uploads/2024/11/pf-noppf.jpg
END:VEVENT
BEGIN:VEVENT
DTSTART;TZID=America/Sao_Paulo:20250910T123000
DTEND;TZID=America/Sao_Paulo:20250910T130000
DTSTAMP:20260424T114306
CREATED:20250826T145707Z
LAST-MODIFIED:20250826T145801Z
UID:10016264-1757507400-1757509200@meditario.org.br
SUMMARY:Meditação na Hora do Almoço
DESCRIPTION:
URL:https://meditario.org.br/evento/meditacao-na-hora-do-almoco-5-2/2025-09-10/
LOCATION:CMK Rio de Janeiro\, Rua Conde de Irajá\, 604 – Botafogo\, Rio de Janeiro\, Rio de Janeiro\, 22271-020\, Brasil
CATEGORIES:Meditação na Hora do Almoço
ATTACH;FMTTYPE=image/jpeg:https://meditario.org.br/wp-content/uploads/2024/11/medita-em-30.jpg
END:VEVENT
END:VCALENDAR