BEGIN:VCALENDAR
VERSION:2.0
PRODID:-//Centro de Meditação Kadampa Rio de Janeiro - ECPv6.15.20//NONSGML v1.0//EN
CALSCALE:GREGORIAN
METHOD:PUBLISH
X-ORIGINAL-URL:https://meditario.org.br
X-WR-CALDESC:Eventos para Centro de Meditação Kadampa Rio de Janeiro
REFRESH-INTERVAL;VALUE=DURATION:PT1H
X-Robots-Tag:noindex
X-PUBLISHED-TTL:PT1H
BEGIN:VTIMEZONE
TZID:America/Sao_Paulo
BEGIN:STANDARD
TZOFFSETFROM:-0300
TZOFFSETTO:-0300
TZNAME:-03
DTSTART:20250101T000000
END:STANDARD
END:VTIMEZONE
BEGIN:VEVENT
DTSTART;TZID=America/Sao_Paulo:20260105T123000
DTEND;TZID=America/Sao_Paulo:20260131T130000
DTSTAMP:20260424T032438
CREATED:20251019T025600Z
LAST-MODIFIED:20260130T134357Z
UID:10016488-1767616200-1769864400@meditario.org.br
SUMMARY:Desafio Projeto Verão 2026
DESCRIPTION:
URL:https://meditario.org.br/evento/desafio-projeto-verao-2026/
LOCATION:CMK Rio de Janeiro\, Rua Conde de Irajá\, 604 – Botafogo\, Rio de Janeiro\, Rio de Janeiro\, 22271-020\, Brasil
CATEGORIES:Atividades Especiais
ATTACH;FMTTYPE=image/png:https://meditario.org.br/wp-content/uploads/2025/10/Captura-de-Tela-2025-10-18-as-23.48.29.png
END:VEVENT
BEGIN:VEVENT
DTSTART;TZID=America/Sao_Paulo:20260122T070000
DTEND;TZID=America/Sao_Paulo:20260122T083000
DTSTAMP:20260424T032438
CREATED:20251212T202730Z
LAST-MODIFIED:20251212T203028Z
UID:10016897-1769065200-1769070600@meditario.org.br
SUMMARY:Caminho Rápido ao Grande Êxtase
DESCRIPTION:
URL:https://meditario.org.br/evento/caminho-rapido-ao-grande-extase-9-2-2-3/2026-01-22/
LOCATION:CMK Rio de Janeiro\, Rua Conde de Irajá\, 604 – Botafogo\, Rio de Janeiro\, Rio de Janeiro\, 22271-020\, Brasil
CATEGORIES:Preces
ATTACH;FMTTYPE=image/jpeg:https://meditario.org.br/wp-content/uploads/2024/11/caminho-rapido.jpg
END:VEVENT
BEGIN:VEVENT
DTSTART;TZID=America/Sao_Paulo:20260122T090000
DTEND;TZID=America/Sao_Paulo:20260122T093000
DTSTAMP:20260424T032438
CREATED:20251212T203402Z
LAST-MODIFIED:20251212T203455Z
UID:10016918-1769072400-1769074200@meditario.org.br
SUMMARY:A Confissão Bodhisattva das Quedas Morais
DESCRIPTION:
URL:https://meditario.org.br/evento/a-confissao-bodhisattva-das-quedas-morais-6-2-2-2/2026-01-22/
LOCATION:CMK Rio de Janeiro\, Rua Conde de Irajá\, 604 – Botafogo\, Rio de Janeiro\, Rio de Janeiro\, 22271-020\, Brasil
CATEGORIES:Preces
ATTACH;FMTTYPE=image/jpeg:https://meditario.org.br/wp-content/uploads/2024/11/Sutra-mahayana.jpg
END:VEVENT
BEGIN:VEVENT
DTSTART;TZID=America/Sao_Paulo:20260122T123000
DTEND;TZID=America/Sao_Paulo:20260122T130000
DTSTAMP:20260424T032438
CREATED:20251212T203802Z
LAST-MODIFIED:20251212T203845Z
UID:10016937-1769085000-1769086800@meditario.org.br
SUMMARY:Meditação na Hora do Almoço
DESCRIPTION:
URL:https://meditario.org.br/evento/meditacao-na-hora-do-almoco-5-2-2-2/2026-01-22/
LOCATION:CMK Rio de Janeiro\, Rua Conde de Irajá\, 604 – Botafogo\, Rio de Janeiro\, Rio de Janeiro\, 22271-020\, Brasil
CATEGORIES:Meditação na Hora do Almoço
ATTACH;FMTTYPE=image/jpeg:https://meditario.org.br/wp-content/uploads/2024/11/medita-em-30.jpg
END:VEVENT
BEGIN:VEVENT
DTSTART;TZID=America/Sao_Paulo:20260122T170000
DTEND;TZID=America/Sao_Paulo:20260122T183000
DTSTAMP:20260424T032438
CREATED:20251212T200218Z
LAST-MODIFIED:20251212T200600Z
UID:10016867-1769101200-1769106600@meditario.org.br
SUMMARY:Joia-que-Satisfaz-os-Desejos ou Joia-Coração
DESCRIPTION:
URL:https://meditario.org.br/evento/joia-que-satisfaz-os-desejos-ou-joia-coracao-28-2-2/2026-01-22/
LOCATION:CMK Rio de Janeiro\, Rua Conde de Irajá\, 604 – Botafogo\, Rio de Janeiro\, Rio de Janeiro\, 22271-020\, Brasil
CATEGORIES:Preces
ATTACH;FMTTYPE=image/jpeg:https://meditario.org.br/wp-content/uploads/2024/11/JSD-e-JC.jpg
END:VEVENT
BEGIN:VEVENT
DTSTART;TZID=America/Sao_Paulo:20260122T183000
DTEND;TZID=America/Sao_Paulo:20260122T190000
DTSTAMP:20260424T032438
CREATED:20251213T204025Z
LAST-MODIFIED:20251213T204150Z
UID:10016662-1769106600-1769108400@meditario.org.br
SUMMARY:Meditação Depois do Trabalho
DESCRIPTION:
URL:https://meditario.org.br/evento/meditacao-depois-do-trabalho-7-3-2-2/2026-01-22/
LOCATION:CMK Rio de Janeiro\, Rua Conde de Irajá\, 604 – Botafogo\, Rio de Janeiro\, Rio de Janeiro\, 22271-020\, Brasil
CATEGORIES:Meditação depois do trabalho
ATTACH;FMTTYPE=image/jpeg:https://meditario.org.br/wp-content/uploads/2024/11/medita-em-30.jpg
END:VEVENT
BEGIN:VEVENT
DTSTART;TZID=America/Sao_Paulo:20260122T193000
DTEND;TZID=America/Sao_Paulo:20260122T213000
DTSTAMP:20260424T032438
CREATED:20251212T202103Z
LAST-MODIFIED:20251212T202214Z
UID:10016886-1769110200-1769117400@meditario.org.br
SUMMARY:Programa de Formação de Professores
DESCRIPTION:
URL:https://meditario.org.br/evento/programa-de-formacao-de-professores-5-2-2-3/2026-01-22/
LOCATION:CMK Rio de Janeiro\, Rua Conde de Irajá\, 604 – Botafogo\, Rio de Janeiro\, Rio de Janeiro\, 22271-020\, Brasil
CATEGORIES:Estudo Aprofundado
ATTACH;FMTTYPE=image/jpeg:https://meditario.org.br/wp-content/uploads/2024/11/pfp.jpg
END:VEVENT
BEGIN:VEVENT
DTSTART;TZID=America/Sao_Paulo:20260123T070000
DTEND;TZID=America/Sao_Paulo:20260123T083000
DTSTAMP:20260424T032438
CREATED:20251212T202730Z
LAST-MODIFIED:20251212T203028Z
UID:10016898-1769151600-1769157000@meditario.org.br
SUMMARY:Caminho Rápido ao Grande Êxtase
DESCRIPTION:
URL:https://meditario.org.br/evento/caminho-rapido-ao-grande-extase-9-2-2-3/2026-01-23/
LOCATION:CMK Rio de Janeiro\, Rua Conde de Irajá\, 604 – Botafogo\, Rio de Janeiro\, Rio de Janeiro\, 22271-020\, Brasil
CATEGORIES:Preces
ATTACH;FMTTYPE=image/jpeg:https://meditario.org.br/wp-content/uploads/2024/11/caminho-rapido.jpg
END:VEVENT
BEGIN:VEVENT
DTSTART;TZID=America/Sao_Paulo:20260123T090000
DTEND;TZID=America/Sao_Paulo:20260123T093000
DTSTAMP:20260424T032438
CREATED:20251212T203402Z
LAST-MODIFIED:20251212T203455Z
UID:10016919-1769158800-1769160600@meditario.org.br
SUMMARY:A Confissão Bodhisattva das Quedas Morais
DESCRIPTION:
URL:https://meditario.org.br/evento/a-confissao-bodhisattva-das-quedas-morais-6-2-2-2/2026-01-23/
LOCATION:CMK Rio de Janeiro\, Rua Conde de Irajá\, 604 – Botafogo\, Rio de Janeiro\, Rio de Janeiro\, 22271-020\, Brasil
CATEGORIES:Preces
ATTACH;FMTTYPE=image/jpeg:https://meditario.org.br/wp-content/uploads/2024/11/Sutra-mahayana.jpg
END:VEVENT
BEGIN:VEVENT
DTSTART;TZID=America/Sao_Paulo:20260123T123000
DTEND;TZID=America/Sao_Paulo:20260123T130000
DTSTAMP:20260424T032438
CREATED:20251212T203802Z
LAST-MODIFIED:20251212T203845Z
UID:10016938-1769171400-1769173200@meditario.org.br
SUMMARY:Meditação na Hora do Almoço
DESCRIPTION:
URL:https://meditario.org.br/evento/meditacao-na-hora-do-almoco-5-2-2-2/2026-01-23/
LOCATION:CMK Rio de Janeiro\, Rua Conde de Irajá\, 604 – Botafogo\, Rio de Janeiro\, Rio de Janeiro\, 22271-020\, Brasil
CATEGORIES:Meditação na Hora do Almoço
ATTACH;FMTTYPE=image/jpeg:https://meditario.org.br/wp-content/uploads/2024/11/medita-em-30.jpg
END:VEVENT
BEGIN:VEVENT
DTSTART;TZID=America/Sao_Paulo:20260123T190000
DTEND;TZID=America/Sao_Paulo:20260123T200000
DTSTAMP:20260424T032438
CREATED:20251212T213527Z
LAST-MODIFIED:20251212T213527Z
UID:10016944-1769194800-1769198400@meditario.org.br
SUMMARY:Filial Vila Velha: Joia Coração
DESCRIPTION:
URL:https://meditario.org.br/evento/filial-vila-velha-joia-coracao-10/
LOCATION:Marzen\, R. Vinícius Tôrres\, 635\, vila velha\, ES\, 29.100430\, Brazil
CATEGORIES:Preces Vila Velha
ATTACH;FMTTYPE=image/png:https://meditario.org.br/wp-content/uploads/2025/06/JC-Sympla-e-Site.png
END:VEVENT
BEGIN:VEVENT
DTSTART;TZID=America/Sao_Paulo:20260124T100000
DTEND;TZID=America/Sao_Paulo:20260124T180000
DTSTAMP:20260424T032438
CREATED:20251019T031023Z
LAST-MODIFIED:20260107T153225Z
UID:10016491-1769248800-1769277600@meditario.org.br
SUMMARY:Retiro Urbano
DESCRIPTION:
URL:https://meditario.org.br/evento/retiro-urbano-2/
LOCATION:CMK Rio de Janeiro\, Rua Conde de Irajá\, 604 – Botafogo\, Rio de Janeiro\, Rio de Janeiro\, 22271-020\, Brasil
CATEGORIES:Retiros
ATTACH;FMTTYPE=image/png:https://meditario.org.br/wp-content/uploads/2025/10/Captura-de-Tela-2025-10-19-as-00.06.34.png
END:VEVENT
BEGIN:VEVENT
DTSTART;TZID=America/Sao_Paulo:20260125T100000
DTEND;TZID=America/Sao_Paulo:20260125T113000
DTSTAMP:20260424T032438
CREATED:20251019T031354Z
LAST-MODIFIED:20260104T214846Z
UID:10016492-1769335200-1769340600@meditario.org.br
SUMMARY:Aula Especial
DESCRIPTION:
URL:https://meditario.org.br/evento/aula-especial/
LOCATION:CMK Rio de Janeiro\, Rua Conde de Irajá\, 604 – Botafogo\, Rio de Janeiro\, Rio de Janeiro\, 22271-020\, Brasil
CATEGORIES:Atividades Especiais
ATTACH;FMTTYPE=image/png:https://meditario.org.br/wp-content/uploads/2025/10/Captura-de-Tela-2025-10-19-as-00.12.48.png
END:VEVENT
BEGIN:VEVENT
DTSTART;TZID=America/Sao_Paulo:20260125T170000
DTEND;TZID=America/Sao_Paulo:20260125T183000
DTSTAMP:20260424T032438
CREATED:20251217T042820Z
LAST-MODIFIED:20251219T023855Z
UID:10016980-1769360400-1769365800@meditario.org.br
SUMMARY:Aula com Meditação
DESCRIPTION:
URL:https://meditario.org.br/evento/aula-com-meditacao-77/
LOCATION:CMK Rio de Janeiro\, Rua Conde de Irajá\, 604 – Botafogo\, Rio de Janeiro\, Rio de Janeiro\, 22271-020\, Brasil
CATEGORIES:Aulas com Meditação,PG de Domingo Dezembro
ATTACH;FMTTYPE=image/png:https://meditario.org.br/wp-content/uploads/2025/12/Captura-de-Tela-2025-12-17-as-01.26.23.png
END:VEVENT
BEGIN:VEVENT
DTSTART;TZID=America/Sao_Paulo:20260126T070000
DTEND;TZID=America/Sao_Paulo:20260126T083000
DTSTAMP:20260424T032438
CREATED:20251212T202730Z
LAST-MODIFIED:20251212T203028Z
UID:10016899-1769410800-1769416200@meditario.org.br
SUMMARY:Caminho Rápido ao Grande Êxtase
DESCRIPTION:
URL:https://meditario.org.br/evento/caminho-rapido-ao-grande-extase-9-2-2-3/2026-01-26/
LOCATION:CMK Rio de Janeiro\, Rua Conde de Irajá\, 604 – Botafogo\, Rio de Janeiro\, Rio de Janeiro\, 22271-020\, Brasil
CATEGORIES:Preces
ATTACH;FMTTYPE=image/jpeg:https://meditario.org.br/wp-content/uploads/2024/11/caminho-rapido.jpg
END:VEVENT
BEGIN:VEVENT
DTSTART;TZID=America/Sao_Paulo:20260126T090000
DTEND;TZID=America/Sao_Paulo:20260126T093000
DTSTAMP:20260424T032438
CREATED:20251212T203402Z
LAST-MODIFIED:20251212T203455Z
UID:10016920-1769418000-1769419800@meditario.org.br
SUMMARY:A Confissão Bodhisattva das Quedas Morais
DESCRIPTION:
URL:https://meditario.org.br/evento/a-confissao-bodhisattva-das-quedas-morais-6-2-2-2/2026-01-26/
LOCATION:CMK Rio de Janeiro\, Rua Conde de Irajá\, 604 – Botafogo\, Rio de Janeiro\, Rio de Janeiro\, 22271-020\, Brasil
CATEGORIES:Preces
ATTACH;FMTTYPE=image/jpeg:https://meditario.org.br/wp-content/uploads/2024/11/Sutra-mahayana.jpg
END:VEVENT
BEGIN:VEVENT
DTSTART;TZID=America/Sao_Paulo:20260126T123000
DTEND;TZID=America/Sao_Paulo:20260126T130000
DTSTAMP:20260424T032438
CREATED:20251212T203802Z
LAST-MODIFIED:20251212T203845Z
UID:10016939-1769430600-1769432400@meditario.org.br
SUMMARY:Meditação na Hora do Almoço
DESCRIPTION:
URL:https://meditario.org.br/evento/meditacao-na-hora-do-almoco-5-2-2-2/2026-01-26/
LOCATION:CMK Rio de Janeiro\, Rua Conde de Irajá\, 604 – Botafogo\, Rio de Janeiro\, Rio de Janeiro\, 22271-020\, Brasil
CATEGORIES:Meditação na Hora do Almoço
ATTACH;FMTTYPE=image/jpeg:https://meditario.org.br/wp-content/uploads/2024/11/medita-em-30.jpg
END:VEVENT
BEGIN:VEVENT
DTSTART;TZID=America/Sao_Paulo:20260126T170000
DTEND;TZID=America/Sao_Paulo:20260126T183000
DTSTAMP:20260424T032438
CREATED:20251212T200218Z
LAST-MODIFIED:20251212T200600Z
UID:10016868-1769446800-1769452200@meditario.org.br
SUMMARY:Joia-que-Satisfaz-os-Desejos ou Joia-Coração
DESCRIPTION:
URL:https://meditario.org.br/evento/joia-que-satisfaz-os-desejos-ou-joia-coracao-28-2-2/2026-01-26/
LOCATION:CMK Rio de Janeiro\, Rua Conde de Irajá\, 604 – Botafogo\, Rio de Janeiro\, Rio de Janeiro\, 22271-020\, Brasil
CATEGORIES:Preces
ATTACH;FMTTYPE=image/jpeg:https://meditario.org.br/wp-content/uploads/2024/11/JSD-e-JC.jpg
END:VEVENT
BEGIN:VEVENT
DTSTART;TZID=America/Sao_Paulo:20260126T183000
DTEND;TZID=America/Sao_Paulo:20260126T190000
DTSTAMP:20260424T032438
CREATED:20251213T204025Z
LAST-MODIFIED:20251213T204150Z
UID:10016663-1769452200-1769454000@meditario.org.br
SUMMARY:Meditação Depois do Trabalho
DESCRIPTION:
URL:https://meditario.org.br/evento/meditacao-depois-do-trabalho-7-3-2-2/2026-01-26/
LOCATION:CMK Rio de Janeiro\, Rua Conde de Irajá\, 604 – Botafogo\, Rio de Janeiro\, Rio de Janeiro\, 22271-020\, Brasil
CATEGORIES:Meditação depois do trabalho
ATTACH;FMTTYPE=image/jpeg:https://meditario.org.br/wp-content/uploads/2024/11/medita-em-30.jpg
END:VEVENT
BEGIN:VEVENT
DTSTART;TZID=America/Sao_Paulo:20260126T193000
DTEND;TZID=America/Sao_Paulo:20260201T120000
DTSTAMP:20260424T032438
CREATED:20250703T220445Z
LAST-MODIFIED:20260122T212129Z
UID:10015798-1769455800-1769947200@meditario.org.br
SUMMARY:Retiro na Serra da Bocaina
DESCRIPTION:
URL:https://meditario.org.br/evento/retiro-na-serra-da-bocaina/
LOCATION:Recanto da Floresta Eco Lodge\, Rodovia Francisca Mendes Ribeiro\, km 23\,8 - Serra da Bocaina\, São José do Barreiro\, São José do Barreiro\, São Paulo\, 12830-000\, Brazil
CATEGORIES:Atividades Especiais,Retiros
ATTACH;FMTTYPE=image/jpeg:https://meditario.org.br/wp-content/uploads/2025/07/retiro-varjayogini-site-1.jpg
END:VEVENT
BEGIN:VEVENT
DTSTART;TZID=America/Sao_Paulo:20260127T070000
DTEND;TZID=America/Sao_Paulo:20260127T083000
DTSTAMP:20260424T032438
CREATED:20251212T202730Z
LAST-MODIFIED:20251212T203028Z
UID:10016900-1769497200-1769502600@meditario.org.br
SUMMARY:Caminho Rápido ao Grande Êxtase
DESCRIPTION:
URL:https://meditario.org.br/evento/caminho-rapido-ao-grande-extase-9-2-2-3/2026-01-27/
LOCATION:CMK Rio de Janeiro\, Rua Conde de Irajá\, 604 – Botafogo\, Rio de Janeiro\, Rio de Janeiro\, 22271-020\, Brasil
CATEGORIES:Preces
ATTACH;FMTTYPE=image/jpeg:https://meditario.org.br/wp-content/uploads/2024/11/caminho-rapido.jpg
END:VEVENT
BEGIN:VEVENT
DTSTART;TZID=America/Sao_Paulo:20260127T090000
DTEND;TZID=America/Sao_Paulo:20260127T093000
DTSTAMP:20260424T032438
CREATED:20251212T203402Z
LAST-MODIFIED:20251212T203455Z
UID:10016921-1769504400-1769506200@meditario.org.br
SUMMARY:A Confissão Bodhisattva das Quedas Morais
DESCRIPTION:
URL:https://meditario.org.br/evento/a-confissao-bodhisattva-das-quedas-morais-6-2-2-2/2026-01-27/
LOCATION:CMK Rio de Janeiro\, Rua Conde de Irajá\, 604 – Botafogo\, Rio de Janeiro\, Rio de Janeiro\, 22271-020\, Brasil
CATEGORIES:Preces
ATTACH;FMTTYPE=image/jpeg:https://meditario.org.br/wp-content/uploads/2024/11/Sutra-mahayana.jpg
END:VEVENT
BEGIN:VEVENT
DTSTART;TZID=America/Sao_Paulo:20260127T104500
DTEND;TZID=America/Sao_Paulo:20260127T120000
DTSTAMP:20260424T032438
CREATED:20251214T182121Z
LAST-MODIFIED:20251218T100320Z
UID:10016962-1769510700-1769515200@meditario.org.br
SUMMARY:Aula com Meditação
DESCRIPTION:
URL:https://meditario.org.br/evento/aula-com-meditacao-61/
LOCATION:CMK Rio de Janeiro\, Rua Conde de Irajá\, 604 – Botafogo\, Rio de Janeiro\, Rio de Janeiro\, 22271-020\, Brasil
CATEGORIES:Aulas com Meditação,PG Terça Manhã Janeiro Fevereiro,PGs de Terça Janeiro e Fevereiro
ATTACH;FMTTYPE=image/png:https://meditario.org.br/wp-content/uploads/2025/12/Captura-de-Tela-2025-12-14-as-13.54.52.png
END:VEVENT
BEGIN:VEVENT
DTSTART;TZID=America/Sao_Paulo:20260127T123000
DTEND;TZID=America/Sao_Paulo:20260127T130000
DTSTAMP:20260424T032438
CREATED:20251212T203802Z
LAST-MODIFIED:20251212T203845Z
UID:10016940-1769517000-1769518800@meditario.org.br
SUMMARY:Meditação na Hora do Almoço
DESCRIPTION:
URL:https://meditario.org.br/evento/meditacao-na-hora-do-almoco-5-2-2-2/2026-01-27/
LOCATION:CMK Rio de Janeiro\, Rua Conde de Irajá\, 604 – Botafogo\, Rio de Janeiro\, Rio de Janeiro\, 22271-020\, Brasil
CATEGORIES:Meditação na Hora do Almoço
ATTACH;FMTTYPE=image/jpeg:https://meditario.org.br/wp-content/uploads/2024/11/medita-em-30.jpg
END:VEVENT
BEGIN:VEVENT
DTSTART;TZID=America/Sao_Paulo:20260127T170000
DTEND;TZID=America/Sao_Paulo:20260127T183000
DTSTAMP:20260424T032438
CREATED:20251212T200218Z
LAST-MODIFIED:20251212T200600Z
UID:10016869-1769533200-1769538600@meditario.org.br
SUMMARY:Joia-que-Satisfaz-os-Desejos ou Joia-Coração
DESCRIPTION:
URL:https://meditario.org.br/evento/joia-que-satisfaz-os-desejos-ou-joia-coracao-28-2-2/2026-01-27/
LOCATION:CMK Rio de Janeiro\, Rua Conde de Irajá\, 604 – Botafogo\, Rio de Janeiro\, Rio de Janeiro\, 22271-020\, Brasil
CATEGORIES:Preces
ATTACH;FMTTYPE=image/jpeg:https://meditario.org.br/wp-content/uploads/2024/11/JSD-e-JC.jpg
END:VEVENT
BEGIN:VEVENT
DTSTART;TZID=America/Sao_Paulo:20260127T183000
DTEND;TZID=America/Sao_Paulo:20260127T190000
DTSTAMP:20260424T032438
CREATED:20251213T204025Z
LAST-MODIFIED:20251213T204150Z
UID:10016664-1769538600-1769540400@meditario.org.br
SUMMARY:Meditação Depois do Trabalho
DESCRIPTION:
URL:https://meditario.org.br/evento/meditacao-depois-do-trabalho-7-3-2-2/2026-01-27/
LOCATION:CMK Rio de Janeiro\, Rua Conde de Irajá\, 604 – Botafogo\, Rio de Janeiro\, Rio de Janeiro\, 22271-020\, Brasil
CATEGORIES:Meditação depois do trabalho
ATTACH;FMTTYPE=image/jpeg:https://meditario.org.br/wp-content/uploads/2024/11/medita-em-30.jpg
END:VEVENT
BEGIN:VEVENT
DTSTART;TZID=America/Sao_Paulo:20260128T090000
DTEND;TZID=America/Sao_Paulo:20260128T093000
DTSTAMP:20260424T032438
CREATED:20251212T203402Z
LAST-MODIFIED:20251212T203455Z
UID:10016922-1769590800-1769592600@meditario.org.br
SUMMARY:A Confissão Bodhisattva das Quedas Morais
DESCRIPTION:
URL:https://meditario.org.br/evento/a-confissao-bodhisattva-das-quedas-morais-6-2-2-2/2026-01-28/
LOCATION:CMK Rio de Janeiro\, Rua Conde de Irajá\, 604 – Botafogo\, Rio de Janeiro\, Rio de Janeiro\, 22271-020\, Brasil
CATEGORIES:Preces
ATTACH;FMTTYPE=image/jpeg:https://meditario.org.br/wp-content/uploads/2024/11/Sutra-mahayana.jpg
END:VEVENT
BEGIN:VEVENT
DTSTART;TZID=America/Sao_Paulo:20260128T123000
DTEND;TZID=America/Sao_Paulo:20260128T130000
DTSTAMP:20260424T032438
CREATED:20251212T203802Z
LAST-MODIFIED:20251212T203845Z
UID:10016941-1769603400-1769605200@meditario.org.br
SUMMARY:Meditação na Hora do Almoço
DESCRIPTION:
URL:https://meditario.org.br/evento/meditacao-na-hora-do-almoco-5-2-2-2/2026-01-28/
LOCATION:CMK Rio de Janeiro\, Rua Conde de Irajá\, 604 – Botafogo\, Rio de Janeiro\, Rio de Janeiro\, 22271-020\, Brasil
CATEGORIES:Meditação na Hora do Almoço
ATTACH;FMTTYPE=image/jpeg:https://meditario.org.br/wp-content/uploads/2024/11/medita-em-30.jpg
END:VEVENT
BEGIN:VEVENT
DTSTART;TZID=America/Sao_Paulo:20260128T190000
DTEND;TZID=America/Sao_Paulo:20260128T201500
DTSTAMP:20260424T032438
CREATED:20251212T215244Z
LAST-MODIFIED:20260121T111410Z
UID:10016950-1769626800-1769631300@meditario.org.br
SUMMARY:Aula com Meditação em Vila Velha
DESCRIPTION:
URL:https://meditario.org.br/evento/aula-com-meditacao-em-vila-velha-14/
LOCATION:Marzen\, R. Vinícius Tôrres\, 635\, vila velha\, ES\, 29.100430\, Brazil
CATEGORIES:Atividades Vila Velha,Vila Velha
ATTACH;FMTTYPE=image/jpeg:https://meditario.org.br/wp-content/uploads/2025/12/a-forca-da-fe.jpg
END:VEVENT
BEGIN:VEVENT
DTSTART;TZID=America/Sao_Paulo:20260128T193000
DTEND;TZID=America/Sao_Paulo:20260128T210000
DTSTAMP:20260424T032438
CREATED:20251214T184242Z
LAST-MODIFIED:20260109T025440Z
UID:10016967-1769628600-1769634000@meditario.org.br
SUMMARY:Aula com Meditação
DESCRIPTION:
URL:https://meditario.org.br/evento/aula-com-meditacao-66/
LOCATION:CMK Rio de Janeiro\, Rua Conde de Irajá\, 604 – Botafogo\, Rio de Janeiro\, Rio de Janeiro\, 22271-020\, Brasil
CATEGORIES:Aulas com Meditação,PGs de Quarta Outubro Novembro Dezembro
ATTACH;FMTTYPE=image/png:https://meditario.org.br/wp-content/uploads/2025/12/Captura-de-Tela-2025-12-14-as-15.41.38.png
END:VEVENT
END:VCALENDAR