BEGIN:VCALENDAR
VERSION:2.0
PRODID:-//Centro de Meditação Kadampa Rio de Janeiro - ECPv6.15.20//NONSGML v1.0//EN
CALSCALE:GREGORIAN
METHOD:PUBLISH
X-ORIGINAL-URL:https://meditario.org.br
X-WR-CALDESC:Eventos para Centro de Meditação Kadampa Rio de Janeiro
REFRESH-INTERVAL;VALUE=DURATION:PT1H
X-Robots-Tag:noindex
X-PUBLISHED-TTL:PT1H
BEGIN:VTIMEZONE
TZID:America/Sao_Paulo
BEGIN:STANDARD
TZOFFSETFROM:-0300
TZOFFSETTO:-0300
TZNAME:-03
DTSTART:20250101T000000
END:STANDARD
END:VTIMEZONE
BEGIN:VEVENT
DTSTART;TZID=America/Sao_Paulo:20260511T070000
DTEND;TZID=America/Sao_Paulo:20260511T083000
DTSTAMP:20260424T000805
CREATED:20260415T174820Z
LAST-MODIFIED:20260415T175031Z
UID:10017378-1778482800-1778488200@meditario.org.br
SUMMARY:Caminho Rápido ao Grande Êxtase
DESCRIPTION:
URL:https://meditario.org.br/evento/caminho-rapido-ao-grande-extase-9-2-2-2-2-3/2026-05-11/
LOCATION:CMK Rio de Janeiro\, Rua Conde de Irajá\, 604 – Botafogo\, Rio de Janeiro\, Rio de Janeiro\, 22271-020\, Brasil
CATEGORIES:Preces
ATTACH;FMTTYPE=image/jpeg:https://meditario.org.br/wp-content/uploads/2024/11/caminho-rapido.jpg
END:VEVENT
BEGIN:VEVENT
DTSTART;TZID=America/Sao_Paulo:20260511T090000
DTEND;TZID=America/Sao_Paulo:20260511T093000
DTSTAMP:20260424T000805
CREATED:20260415T175353Z
LAST-MODIFIED:20260415T175540Z
UID:10017385-1778490000-1778491800@meditario.org.br
SUMMARY:A Confissão Bodhisattva das Quedas Morais
DESCRIPTION:
URL:https://meditario.org.br/evento/a-confissao-bodhisattva-das-quedas-morais-6-2-2-2-2-2/2026-05-11/
LOCATION:CMK Rio de Janeiro\, Rua Conde de Irajá\, 604 – Botafogo\, Rio de Janeiro\, Rio de Janeiro\, 22271-020\, Brasil
CATEGORIES:Preces
ATTACH;FMTTYPE=image/jpeg:https://meditario.org.br/wp-content/uploads/2024/11/Sutra-mahayana.jpg
END:VEVENT
BEGIN:VEVENT
DTSTART;TZID=America/Sao_Paulo:20260511T123000
DTEND;TZID=America/Sao_Paulo:20260511T130000
DTSTAMP:20260424T000805
CREATED:20260415T175856Z
LAST-MODIFIED:20260415T175950Z
UID:10017399-1778502600-1778504400@meditario.org.br
SUMMARY:Meditação na Hora do Almoço
DESCRIPTION:
URL:https://meditario.org.br/evento/meditacao-na-hora-do-almoco-5-2-2-2-2-2/2026-05-11/
LOCATION:CMK Rio de Janeiro\, Rua Conde de Irajá\, 604 – Botafogo\, Rio de Janeiro\, Rio de Janeiro\, 22271-020\, Brasil
CATEGORIES:Meditação na Hora do Almoço
ATTACH;FMTTYPE=image/jpeg:https://meditario.org.br/wp-content/uploads/2024/11/medita-em-30.jpg
END:VEVENT
BEGIN:VEVENT
DTSTART;TZID=America/Sao_Paulo:20260511T170000
DTEND;TZID=America/Sao_Paulo:20260511T183000
DTSTAMP:20260424T000805
CREATED:20260415T172500Z
LAST-MODIFIED:20260415T172559Z
UID:10017346-1778518800-1778524200@meditario.org.br
SUMMARY:Joia-que-Satisfaz-os-Desejos ou Joia-Coração
DESCRIPTION:
URL:https://meditario.org.br/evento/joia-que-satisfaz-os-desejos-ou-joia-coracao-28-2-2-2-2/2026-05-11/
LOCATION:CMK Rio de Janeiro\, Rua Conde de Irajá\, 604 – Botafogo\, Rio de Janeiro\, Rio de Janeiro\, 22271-020\, Brasil
CATEGORIES:Preces
ATTACH;FMTTYPE=image/jpeg:https://meditario.org.br/wp-content/uploads/2024/11/JSD-e-JC.jpg
END:VEVENT
BEGIN:VEVENT
DTSTART;TZID=America/Sao_Paulo:20260511T183000
DTEND;TZID=America/Sao_Paulo:20260511T190000
DTSTAMP:20260424T000805
CREATED:20260415T180121Z
LAST-MODIFIED:20260415T180159Z
UID:10017416-1778524200-1778526000@meditario.org.br
SUMMARY:Meditação Depois do Trabalho
DESCRIPTION:
URL:https://meditario.org.br/evento/meditacao-depois-do-trabalho-7-3-2-2-2-2/2026-05-11/
LOCATION:CMK Rio de Janeiro\, Rua Conde de Irajá\, 604 – Botafogo\, Rio de Janeiro\, Rio de Janeiro\, 22271-020\, Brasil
CATEGORIES:Meditação depois do trabalho
ATTACH;FMTTYPE=image/jpeg:https://meditario.org.br/wp-content/uploads/2024/11/medita-em-30.jpg
END:VEVENT
BEGIN:VEVENT
DTSTART;TZID=America/Sao_Paulo:20260511T193000
DTEND;TZID=America/Sao_Paulo:20260511T213000
DTSTAMP:20260424T000805
CREATED:20260415T174620Z
LAST-MODIFIED:20260415T214210Z
UID:10017373-1778527800-1778535000@meditario.org.br
SUMMARY:Programa de Formação de Professores
DESCRIPTION:
URL:https://meditario.org.br/evento/programa-de-formacao-de-professores-5-2-2-2-2-2-3/2026-05-11/
LOCATION:CMK Rio de Janeiro\, Rua Conde de Irajá\, 604 – Botafogo\, Rio de Janeiro\, Rio de Janeiro\, 22271-020\, Brasil
CATEGORIES:Estudo Aprofundado
ATTACH;FMTTYPE=image/jpeg:https://meditario.org.br/wp-content/uploads/2026/04/pfp-o-voto-bodhisattva.jpg
END:VEVENT
BEGIN:VEVENT
DTSTART;TZID=America/Sao_Paulo:20260512T070000
DTEND;TZID=America/Sao_Paulo:20260512T083000
DTSTAMP:20260424T000805
CREATED:20260415T174820Z
LAST-MODIFIED:20260415T175031Z
UID:10017379-1778569200-1778574600@meditario.org.br
SUMMARY:Caminho Rápido ao Grande Êxtase
DESCRIPTION:
URL:https://meditario.org.br/evento/caminho-rapido-ao-grande-extase-9-2-2-2-2-3/2026-05-12/
LOCATION:CMK Rio de Janeiro\, Rua Conde de Irajá\, 604 – Botafogo\, Rio de Janeiro\, Rio de Janeiro\, 22271-020\, Brasil
CATEGORIES:Preces
ATTACH;FMTTYPE=image/jpeg:https://meditario.org.br/wp-content/uploads/2024/11/caminho-rapido.jpg
END:VEVENT
BEGIN:VEVENT
DTSTART;TZID=America/Sao_Paulo:20260512T090000
DTEND;TZID=America/Sao_Paulo:20260512T093000
DTSTAMP:20260424T000805
CREATED:20260415T175353Z
LAST-MODIFIED:20260415T175540Z
UID:10017386-1778576400-1778578200@meditario.org.br
SUMMARY:A Confissão Bodhisattva das Quedas Morais
DESCRIPTION:
URL:https://meditario.org.br/evento/a-confissao-bodhisattva-das-quedas-morais-6-2-2-2-2-2/2026-05-12/
LOCATION:CMK Rio de Janeiro\, Rua Conde de Irajá\, 604 – Botafogo\, Rio de Janeiro\, Rio de Janeiro\, 22271-020\, Brasil
CATEGORIES:Preces
ATTACH;FMTTYPE=image/jpeg:https://meditario.org.br/wp-content/uploads/2024/11/Sutra-mahayana.jpg
END:VEVENT
BEGIN:VEVENT
DTSTART;TZID=America/Sao_Paulo:20260512T104500
DTEND;TZID=America/Sao_Paulo:20260512T120000
DTSTAMP:20260424T000805
CREATED:20260312T133308Z
LAST-MODIFIED:20260312T133308Z
UID:10017232-1778582700-1778587200@meditario.org.br
SUMMARY:Aulas com Meditação
DESCRIPTION:
URL:https://meditario.org.br/evento/aulas-com-meditacao-15/
LOCATION:CMK Rio de Janeiro\, Rua Conde de Irajá\, 604 – Botafogo\, Rio de Janeiro\, Rio de Janeiro\, 22271-020\, Brasil
CATEGORIES:Aulas com Meditação,Pgs de terca manha fevereiro marco
ATTACH;FMTTYPE=image/png:https://meditario.org.br/wp-content/uploads/2026/03/Captura-de-Tela-2026-03-12-as-20.22.00.png
END:VEVENT
BEGIN:VEVENT
DTSTART;TZID=America/Sao_Paulo:20260512T123000
DTEND;TZID=America/Sao_Paulo:20260512T130000
DTSTAMP:20260424T000805
CREATED:20260415T175856Z
LAST-MODIFIED:20260415T175950Z
UID:10017400-1778589000-1778590800@meditario.org.br
SUMMARY:Meditação na Hora do Almoço
DESCRIPTION:
URL:https://meditario.org.br/evento/meditacao-na-hora-do-almoco-5-2-2-2-2-2/2026-05-12/
LOCATION:CMK Rio de Janeiro\, Rua Conde de Irajá\, 604 – Botafogo\, Rio de Janeiro\, Rio de Janeiro\, 22271-020\, Brasil
CATEGORIES:Meditação na Hora do Almoço
ATTACH;FMTTYPE=image/jpeg:https://meditario.org.br/wp-content/uploads/2024/11/medita-em-30.jpg
END:VEVENT
BEGIN:VEVENT
DTSTART;TZID=America/Sao_Paulo:20260512T170000
DTEND;TZID=America/Sao_Paulo:20260512T183000
DTSTAMP:20260424T000805
CREATED:20260415T172500Z
LAST-MODIFIED:20260415T172559Z
UID:10017347-1778605200-1778610600@meditario.org.br
SUMMARY:Joia-que-Satisfaz-os-Desejos ou Joia-Coração
DESCRIPTION:
URL:https://meditario.org.br/evento/joia-que-satisfaz-os-desejos-ou-joia-coracao-28-2-2-2-2/2026-05-12/
LOCATION:CMK Rio de Janeiro\, Rua Conde de Irajá\, 604 – Botafogo\, Rio de Janeiro\, Rio de Janeiro\, 22271-020\, Brasil
CATEGORIES:Preces
ATTACH;FMTTYPE=image/jpeg:https://meditario.org.br/wp-content/uploads/2024/11/JSD-e-JC.jpg
END:VEVENT
BEGIN:VEVENT
DTSTART;TZID=America/Sao_Paulo:20260512T183000
DTEND;TZID=America/Sao_Paulo:20260512T190000
DTSTAMP:20260424T000805
CREATED:20260415T180121Z
LAST-MODIFIED:20260415T180159Z
UID:10017417-1778610600-1778612400@meditario.org.br
SUMMARY:Meditação Depois do Trabalho
DESCRIPTION:
URL:https://meditario.org.br/evento/meditacao-depois-do-trabalho-7-3-2-2-2-2/2026-05-12/
LOCATION:CMK Rio de Janeiro\, Rua Conde de Irajá\, 604 – Botafogo\, Rio de Janeiro\, Rio de Janeiro\, 22271-020\, Brasil
CATEGORIES:Meditação depois do trabalho
ATTACH;FMTTYPE=image/jpeg:https://meditario.org.br/wp-content/uploads/2024/11/medita-em-30.jpg
END:VEVENT
BEGIN:VEVENT
DTSTART;TZID=America/Sao_Paulo:20260512T193000
DTEND;TZID=America/Sao_Paulo:20260512T213000
DTSTAMP:20260424T000805
CREATED:20260415T173919Z
LAST-MODIFIED:20260415T174030Z
UID:10017370-1778614200-1778621400@meditario.org.br
SUMMARY:PF - Novo Oito Passos para a Felicidade
DESCRIPTION:
URL:https://meditario.org.br/evento/pf-novo-oito-passos-para-a-felicidade-6-2-2-2-2-2/2026-05-12/
LOCATION:CMK Rio de Janeiro\, Rua Conde de Irajá\, 604 – Botafogo\, Rio de Janeiro\, Rio de Janeiro\, 22271-020\, Brasil
CATEGORIES:Estudo Aprofundado
ATTACH;FMTTYPE=image/jpeg:https://meditario.org.br/wp-content/uploads/2024/11/pf-noppf.jpg
END:VEVENT
BEGIN:VEVENT
DTSTART;TZID=America/Sao_Paulo:20260513T090000
DTEND;TZID=America/Sao_Paulo:20260513T093000
DTSTAMP:20260424T000805
CREATED:20260415T175353Z
LAST-MODIFIED:20260415T175540Z
UID:10017387-1778662800-1778664600@meditario.org.br
SUMMARY:A Confissão Bodhisattva das Quedas Morais
DESCRIPTION:
URL:https://meditario.org.br/evento/a-confissao-bodhisattva-das-quedas-morais-6-2-2-2-2-2/2026-05-13/
LOCATION:CMK Rio de Janeiro\, Rua Conde de Irajá\, 604 – Botafogo\, Rio de Janeiro\, Rio de Janeiro\, 22271-020\, Brasil
CATEGORIES:Preces
ATTACH;FMTTYPE=image/jpeg:https://meditario.org.br/wp-content/uploads/2024/11/Sutra-mahayana.jpg
END:VEVENT
BEGIN:VEVENT
DTSTART;TZID=America/Sao_Paulo:20260513T123000
DTEND;TZID=America/Sao_Paulo:20260513T130000
DTSTAMP:20260424T000805
CREATED:20260415T175856Z
LAST-MODIFIED:20260415T175950Z
UID:10017401-1778675400-1778677200@meditario.org.br
SUMMARY:Meditação na Hora do Almoço
DESCRIPTION:
URL:https://meditario.org.br/evento/meditacao-na-hora-do-almoco-5-2-2-2-2-2/2026-05-13/
LOCATION:CMK Rio de Janeiro\, Rua Conde de Irajá\, 604 – Botafogo\, Rio de Janeiro\, Rio de Janeiro\, 22271-020\, Brasil
CATEGORIES:Meditação na Hora do Almoço
ATTACH;FMTTYPE=image/jpeg:https://meditario.org.br/wp-content/uploads/2024/11/medita-em-30.jpg
END:VEVENT
BEGIN:VEVENT
DTSTART;TZID=America/Sao_Paulo:20260513T170000
DTEND;TZID=America/Sao_Paulo:20260513T183000
DTSTAMP:20260424T000805
CREATED:20260415T172500Z
LAST-MODIFIED:20260415T172559Z
UID:10017348-1778691600-1778697000@meditario.org.br
SUMMARY:Joia-que-Satisfaz-os-Desejos ou Joia-Coração
DESCRIPTION:
URL:https://meditario.org.br/evento/joia-que-satisfaz-os-desejos-ou-joia-coracao-28-2-2-2-2/2026-05-13/
LOCATION:CMK Rio de Janeiro\, Rua Conde de Irajá\, 604 – Botafogo\, Rio de Janeiro\, Rio de Janeiro\, 22271-020\, Brasil
CATEGORIES:Preces
ATTACH;FMTTYPE=image/jpeg:https://meditario.org.br/wp-content/uploads/2024/11/JSD-e-JC.jpg
END:VEVENT
BEGIN:VEVENT
DTSTART;TZID=America/Sao_Paulo:20260513T183000
DTEND;TZID=America/Sao_Paulo:20260513T190000
DTSTAMP:20260424T000805
CREATED:20260415T180121Z
LAST-MODIFIED:20260415T180159Z
UID:10017418-1778697000-1778698800@meditario.org.br
SUMMARY:Meditação Depois do Trabalho
DESCRIPTION:
URL:https://meditario.org.br/evento/meditacao-depois-do-trabalho-7-3-2-2-2-2/2026-05-13/
LOCATION:CMK Rio de Janeiro\, Rua Conde de Irajá\, 604 – Botafogo\, Rio de Janeiro\, Rio de Janeiro\, 22271-020\, Brasil
CATEGORIES:Meditação depois do trabalho
ATTACH;FMTTYPE=image/jpeg:https://meditario.org.br/wp-content/uploads/2024/11/medita-em-30.jpg
END:VEVENT
BEGIN:VEVENT
DTSTART;TZID=America/Sao_Paulo:20260513T193000
DTEND;TZID=America/Sao_Paulo:20260513T210000
DTSTAMP:20260424T000805
CREATED:20260315T171025Z
LAST-MODIFIED:20260325T002859Z
UID:10017241-1778700600-1778706000@meditario.org.br
SUMMARY:Aulas com Meditação
DESCRIPTION:
URL:https://meditario.org.br/evento/aulas-com-meditacao-24/
LOCATION:CMK Rio de Janeiro\, Rua Conde de Irajá\, 604 – Botafogo\, Rio de Janeiro\, Rio de Janeiro\, 22271-020\, Brasil
CATEGORIES:Aulas com Meditação,PGs de Quarta Outubro Novembro Dezembro
ATTACH;FMTTYPE=image/jpeg:https://meditario.org.br/wp-content/uploads/2026/03/bondade-coragem.jpg
END:VEVENT
BEGIN:VEVENT
DTSTART;TZID=America/Sao_Paulo:20260514T090000
DTEND;TZID=America/Sao_Paulo:20260514T093000
DTSTAMP:20260424T000805
CREATED:20260415T175353Z
LAST-MODIFIED:20260415T175540Z
UID:10017388-1778749200-1778751000@meditario.org.br
SUMMARY:A Confissão Bodhisattva das Quedas Morais
DESCRIPTION:
URL:https://meditario.org.br/evento/a-confissao-bodhisattva-das-quedas-morais-6-2-2-2-2-2/2026-05-14/
LOCATION:CMK Rio de Janeiro\, Rua Conde de Irajá\, 604 – Botafogo\, Rio de Janeiro\, Rio de Janeiro\, 22271-020\, Brasil
CATEGORIES:Preces
ATTACH;FMTTYPE=image/jpeg:https://meditario.org.br/wp-content/uploads/2024/11/Sutra-mahayana.jpg
END:VEVENT
BEGIN:VEVENT
DTSTART;TZID=America/Sao_Paulo:20260514T123000
DTEND;TZID=America/Sao_Paulo:20260514T130000
DTSTAMP:20260424T000805
CREATED:20260415T175856Z
LAST-MODIFIED:20260415T175950Z
UID:10017402-1778761800-1778763600@meditario.org.br
SUMMARY:Meditação na Hora do Almoço
DESCRIPTION:
URL:https://meditario.org.br/evento/meditacao-na-hora-do-almoco-5-2-2-2-2-2/2026-05-14/
LOCATION:CMK Rio de Janeiro\, Rua Conde de Irajá\, 604 – Botafogo\, Rio de Janeiro\, Rio de Janeiro\, 22271-020\, Brasil
CATEGORIES:Meditação na Hora do Almoço
ATTACH;FMTTYPE=image/jpeg:https://meditario.org.br/wp-content/uploads/2024/11/medita-em-30.jpg
END:VEVENT
BEGIN:VEVENT
DTSTART;TZID=America/Sao_Paulo:20260514T170000
DTEND;TZID=America/Sao_Paulo:20260514T183000
DTSTAMP:20260424T000805
CREATED:20260415T172500Z
LAST-MODIFIED:20260415T172559Z
UID:10017349-1778778000-1778783400@meditario.org.br
SUMMARY:Joia-que-Satisfaz-os-Desejos ou Joia-Coração
DESCRIPTION:
URL:https://meditario.org.br/evento/joia-que-satisfaz-os-desejos-ou-joia-coracao-28-2-2-2-2/2026-05-14/
LOCATION:CMK Rio de Janeiro\, Rua Conde de Irajá\, 604 – Botafogo\, Rio de Janeiro\, Rio de Janeiro\, 22271-020\, Brasil
CATEGORIES:Preces
ATTACH;FMTTYPE=image/jpeg:https://meditario.org.br/wp-content/uploads/2024/11/JSD-e-JC.jpg
END:VEVENT
BEGIN:VEVENT
DTSTART;TZID=America/Sao_Paulo:20260514T183000
DTEND;TZID=America/Sao_Paulo:20260514T190000
DTSTAMP:20260424T000805
CREATED:20260415T180121Z
LAST-MODIFIED:20260415T180159Z
UID:10017419-1778783400-1778785200@meditario.org.br
SUMMARY:Meditação Depois do Trabalho
DESCRIPTION:
URL:https://meditario.org.br/evento/meditacao-depois-do-trabalho-7-3-2-2-2-2/2026-05-14/
LOCATION:CMK Rio de Janeiro\, Rua Conde de Irajá\, 604 – Botafogo\, Rio de Janeiro\, Rio de Janeiro\, 22271-020\, Brasil
CATEGORIES:Meditação depois do trabalho
ATTACH;FMTTYPE=image/jpeg:https://meditario.org.br/wp-content/uploads/2024/11/medita-em-30.jpg
END:VEVENT
BEGIN:VEVENT
DTSTART;TZID=America/Sao_Paulo:20260514T193000
DTEND;TZID=America/Sao_Paulo:20260514T213000
DTSTAMP:20260424T000805
CREATED:20260415T174620Z
LAST-MODIFIED:20260415T214210Z
UID:10017374-1778787000-1778794200@meditario.org.br
SUMMARY:Programa de Formação de Professores
DESCRIPTION:
URL:https://meditario.org.br/evento/programa-de-formacao-de-professores-5-2-2-2-2-2-3/2026-05-14/
LOCATION:CMK Rio de Janeiro\, Rua Conde de Irajá\, 604 – Botafogo\, Rio de Janeiro\, Rio de Janeiro\, 22271-020\, Brasil
CATEGORIES:Estudo Aprofundado
ATTACH;FMTTYPE=image/jpeg:https://meditario.org.br/wp-content/uploads/2026/04/pfp-o-voto-bodhisattva.jpg
END:VEVENT
BEGIN:VEVENT
DTSTART;TZID=America/Sao_Paulo:20260515T063000
DTEND;TZID=America/Sao_Paulo:20260515T070000
DTSTAMP:20260424T000805
CREATED:20251213T204628Z
LAST-MODIFIED:20260415T214655Z
UID:10016584-1778826600-1778828400@meditario.org.br
SUMMARY:Vida Pura
DESCRIPTION:
URL:https://meditario.org.br/evento/vida-pura-2/
LOCATION:CMK Rio de Janeiro\, Rua Conde de Irajá\, 604 – Botafogo\, Rio de Janeiro\, Rio de Janeiro\, 22271-020\, Brasil
CATEGORIES:Preces
ATTACH;FMTTYPE=image/jpeg:https://meditario.org.br/wp-content/uploads/2024/11/Vida-Pura.jpg
END:VEVENT
BEGIN:VEVENT
DTSTART;TZID=America/Sao_Paulo:20260515T070000
DTEND;TZID=America/Sao_Paulo:20260515T083000
DTSTAMP:20260424T000805
CREATED:20260415T174820Z
LAST-MODIFIED:20260415T175031Z
UID:10017380-1778828400-1778833800@meditario.org.br
SUMMARY:Caminho Rápido ao Grande Êxtase
DESCRIPTION:
URL:https://meditario.org.br/evento/caminho-rapido-ao-grande-extase-9-2-2-2-2-3/2026-05-15/
LOCATION:CMK Rio de Janeiro\, Rua Conde de Irajá\, 604 – Botafogo\, Rio de Janeiro\, Rio de Janeiro\, 22271-020\, Brasil
CATEGORIES:Preces
ATTACH;FMTTYPE=image/jpeg:https://meditario.org.br/wp-content/uploads/2024/11/caminho-rapido.jpg
END:VEVENT
BEGIN:VEVENT
DTSTART;TZID=America/Sao_Paulo:20260515T090000
DTEND;TZID=America/Sao_Paulo:20260515T093000
DTSTAMP:20260424T000805
CREATED:20260415T175353Z
LAST-MODIFIED:20260415T175540Z
UID:10017389-1778835600-1778837400@meditario.org.br
SUMMARY:A Confissão Bodhisattva das Quedas Morais
DESCRIPTION:
URL:https://meditario.org.br/evento/a-confissao-bodhisattva-das-quedas-morais-6-2-2-2-2-2/2026-05-15/
LOCATION:CMK Rio de Janeiro\, Rua Conde de Irajá\, 604 – Botafogo\, Rio de Janeiro\, Rio de Janeiro\, 22271-020\, Brasil
CATEGORIES:Preces
ATTACH;FMTTYPE=image/jpeg:https://meditario.org.br/wp-content/uploads/2024/11/Sutra-mahayana.jpg
END:VEVENT
BEGIN:VEVENT
DTSTART;TZID=America/Sao_Paulo:20260515T123000
DTEND;TZID=America/Sao_Paulo:20260515T130000
DTSTAMP:20260424T000805
CREATED:20260415T175856Z
LAST-MODIFIED:20260415T175950Z
UID:10017403-1778848200-1778850000@meditario.org.br
SUMMARY:Meditação na Hora do Almoço
DESCRIPTION:
URL:https://meditario.org.br/evento/meditacao-na-hora-do-almoco-5-2-2-2-2-2/2026-05-15/
LOCATION:CMK Rio de Janeiro\, Rua Conde de Irajá\, 604 – Botafogo\, Rio de Janeiro\, Rio de Janeiro\, 22271-020\, Brasil
CATEGORIES:Meditação na Hora do Almoço
ATTACH;FMTTYPE=image/jpeg:https://meditario.org.br/wp-content/uploads/2024/11/medita-em-30.jpg
END:VEVENT
BEGIN:VEVENT
DTSTART;TZID=America/Sao_Paulo:20260515T193000
DTEND;TZID=America/Sao_Paulo:20260515T210000
DTSTAMP:20260424T000805
CREATED:20260220T185935Z
LAST-MODIFIED:20260415T172902Z
UID:10017357-1778873400-1778878800@meditario.org.br
SUMMARY:Joia-que-Satisfaz-os-Desejos com Tsog
DESCRIPTION:
URL:https://meditario.org.br/evento/joia-que-satisfaz-os-desejos-ou-joia-coracao-26-2-2/2026-05-15/
LOCATION:CMK Rio de Janeiro\, Rua Conde de Irajá\, 604 – Botafogo\, Rio de Janeiro\, Rio de Janeiro\, 22271-020\, Brasil
CATEGORIES:Preces
ATTACH;FMTTYPE=image/jpeg:https://meditario.org.br/wp-content/uploads/2024/11/JSD-e-JC.jpg
END:VEVENT
BEGIN:VEVENT
DTSTART;TZID=America/Sao_Paulo:20260516T070000
DTEND;TZID=America/Sao_Paulo:20260516T083000
DTSTAMP:20260424T000805
CREATED:20260415T173018Z
LAST-MODIFIED:20260415T181209Z
UID:10017429-1778914800-1778920200@meditario.org.br
SUMMARY:Joia-Coração
DESCRIPTION:
URL:https://meditario.org.br/evento/joia-coracao-10-2-2-2/2026-05-16/
LOCATION:CMK Rio de Janeiro\, Rua Conde de Irajá\, 604 – Botafogo\, Rio de Janeiro\, Rio de Janeiro\, 22271-020\, Brasil
CATEGORIES:Preces
ATTACH;FMTTYPE=image/jpeg:https://meditario.org.br/wp-content/uploads/2024/11/JSD-e-JC.jpg
END:VEVENT
BEGIN:VEVENT
DTSTART;TZID=America/Sao_Paulo:20260516T100000
DTEND;TZID=America/Sao_Paulo:20260516T180000
DTSTAMP:20260424T000805
CREATED:20260307T120505Z
LAST-MODIFIED:20260307T120505Z
UID:10017221-1778925600-1778954400@meditario.org.br
SUMMARY:Retiro Tradicional
DESCRIPTION:
URL:https://meditario.org.br/evento/retiro-tradicional/
LOCATION:CMK Rio de Janeiro\, Rua Conde de Irajá\, 604 – Botafogo\, Rio de Janeiro\, Rio de Janeiro\, 22271-020\, Brasil
CATEGORIES:Retiros
ATTACH;FMTTYPE=image/png:https://meditario.org.br/wp-content/uploads/2026/03/Captura-de-Tela-2026-03-07-as-08.40.25.png
END:VEVENT
END:VCALENDAR