BEGIN:VCALENDAR
VERSION:2.0
PRODID:-//Centro de Meditação Kadampa Rio de Janeiro - ECPv6.15.20//NONSGML v1.0//EN
CALSCALE:GREGORIAN
METHOD:PUBLISH
X-ORIGINAL-URL:https://meditario.org.br
X-WR-CALDESC:Eventos para Centro de Meditação Kadampa Rio de Janeiro
REFRESH-INTERVAL;VALUE=DURATION:PT1H
X-Robots-Tag:noindex
X-PUBLISHED-TTL:PT1H
BEGIN:VTIMEZONE
TZID:America/Sao_Paulo
BEGIN:STANDARD
TZOFFSETFROM:-0300
TZOFFSETTO:-0300
TZNAME:-03
DTSTART:20250101T000000
END:STANDARD
END:VTIMEZONE
BEGIN:VEVENT
DTSTART;TZID=America/Sao_Paulo:20260606T160000
DTEND;TZID=America/Sao_Paulo:20260606T210000
DTSTAMP:20260424T013937
CREATED:20260307T121038Z
LAST-MODIFIED:20260307T124121Z
UID:10017223-1780761600-1780779600@meditario.org.br
SUMMARY:Festa Junina na Casa Nova
DESCRIPTION:
URL:https://meditario.org.br/evento/festa-junina-na-casa-nova-2/
LOCATION:CMK Rio de Janeiro\, Rua Conde de Irajá\, 604 – Botafogo\, Rio de Janeiro\, Rio de Janeiro\, 22271-020\, Brasil
CATEGORIES:Atividades Especiais
ATTACH;FMTTYPE=image/png:https://meditario.org.br/wp-content/uploads/2026/03/Captura-de-Tela-2026-03-07-as-08.41.06.png
END:VEVENT
BEGIN:VEVENT
DTSTART;TZID=America/Sao_Paulo:20260607T170000
DTEND;TZID=America/Sao_Paulo:20260607T183000
DTSTAMP:20260424T013937
CREATED:20260422T053403Z
LAST-MODIFIED:20260422T053403Z
UID:10017438-1780851600-1780857000@meditario.org.br
SUMMARY:Aulas com Meditação
DESCRIPTION:
URL:https://meditario.org.br/evento/aulas-com-meditacao-31/
LOCATION:CMK Rio de Janeiro\, Rua Conde de Irajá\, 604 – Botafogo\, Rio de Janeiro\, Rio de Janeiro\, 22271-020\, Brasil
CATEGORIES:Aulas com Meditação,Pg de Domingo Março 2026
ATTACH;FMTTYPE=image/png:https://meditario.org.br/wp-content/uploads/2026/04/Captura-de-Tela-2026-04-22-as-02.31.01.png
END:VEVENT
BEGIN:VEVENT
DTSTART;TZID=America/Sao_Paulo:20260609T104500
DTEND;TZID=America/Sao_Paulo:20260609T120000
DTSTAMP:20260424T013937
CREATED:20260422T052114Z
LAST-MODIFIED:20260422T052114Z
UID:10017435-1781001900-1781006400@meditario.org.br
SUMMARY:Aulas com Meditação
DESCRIPTION:
URL:https://meditario.org.br/evento/aulas-com-meditacao-28/
LOCATION:CMK Rio de Janeiro\, Rua Conde de Irajá\, 604 – Botafogo\, Rio de Janeiro\, Rio de Janeiro\, 22271-020\, Brasil
CATEGORIES:Aulas com Meditação,Pgs de terca manha fevereiro marco
ATTACH;FMTTYPE=image/png:https://meditario.org.br/wp-content/uploads/2026/04/Captura-de-Tela-2026-04-22-as-02.20.07.png
END:VEVENT
BEGIN:VEVENT
DTSTART;TZID=America/Sao_Paulo:20260612T193000
DTEND;TZID=America/Sao_Paulo:20260612T203000
DTSTAMP:20260424T013937
CREATED:20260421T133703Z
LAST-MODIFIED:20260421T133703Z
UID:10017431-1781292600-1781296200@meditario.org.br
SUMMARY:Filial Vila Velha: Palestra em Vitória
DESCRIPTION:
URL:https://meditario.org.br/evento/filial-vila-velha-palestra-em-vitoria/
LOCATION:Matriz Casa Criativa\, R. Jaime Martins\, 77 - Praia do Canto\, Vitória\, ES\, 29055-610\, Brazil
CATEGORIES:Atividades Vila Velha,Vila Velha
ATTACH;FMTTYPE=image/png:https://meditario.org.br/wp-content/uploads/2026/04/IMG_0417.png
END:VEVENT
BEGIN:VEVENT
DTSTART;TZID=America/Sao_Paulo:20260613T100000
DTEND;TZID=America/Sao_Paulo:20260613T123000
DTSTAMP:20260424T013937
CREATED:20260307T121338Z
LAST-MODIFIED:20260413T175656Z
UID:10017224-1781344800-1781353800@meditario.org.br
SUMMARY:Mini Curso
DESCRIPTION:
URL:https://meditario.org.br/evento/mini-curso-8/
LOCATION:CMK Rio de Janeiro\, Rua Conde de Irajá\, 604 – Botafogo\, Rio de Janeiro\, Rio de Janeiro\, 22271-020\, Brasil
CATEGORIES:Atividades Especiais
ATTACH;FMTTYPE=image/png:https://meditario.org.br/wp-content/uploads/2026/03/Site_Mini-curso_13JUN_Amor-Apego-Relacionamentos_-1.png
END:VEVENT
BEGIN:VEVENT
DTSTART;TZID=America/Sao_Paulo:20260613T103000
DTEND;TZID=America/Sao_Paulo:20260613T150000
DTSTAMP:20260424T013937
CREATED:20260421T014644Z
LAST-MODIFIED:20260421T014644Z
UID:10017430-1781346600-1781362800@meditario.org.br
SUMMARY:Filial Vila Velha: Mini Curso
DESCRIPTION:
URL:https://meditario.org.br/evento/filial-vila-velha-mini-curso/
LOCATION:Marzen\, R. Vinícius Tôrres\, 635\, vila velha\, ES\, 29.100430\, Brazil
CATEGORIES:Atividades Vila Velha,Vila Velha
ATTACH;FMTTYPE=image/png:https://meditario.org.br/wp-content/uploads/2026/04/IMG_0387.png
END:VEVENT
BEGIN:VEVENT
DTSTART;TZID=America/Sao_Paulo:20260616T104500
DTEND;TZID=America/Sao_Paulo:20260616T120000
DTSTAMP:20260424T013937
CREATED:20260422T052433Z
LAST-MODIFIED:20260422T052433Z
UID:10017436-1781606700-1781611200@meditario.org.br
SUMMARY:Aulas com Meditação
DESCRIPTION:
URL:https://meditario.org.br/evento/aulas-com-meditacao-29/
LOCATION:CMK Rio de Janeiro\, Rua Conde de Irajá\, 604 – Botafogo\, Rio de Janeiro\, Rio de Janeiro\, 22271-020\, Brasil
CATEGORIES:Aulas com Meditação,Pgs de terca manha fevereiro marco
ATTACH;FMTTYPE=image/png:https://meditario.org.br/wp-content/uploads/2026/04/Captura-de-Tela-2026-04-22-as-02.22.01.png
END:VEVENT
BEGIN:VEVENT
DTSTART;TZID=America/Sao_Paulo:20260617T193000
DTEND;TZID=America/Sao_Paulo:20260617T210000
DTSTAMP:20260424T013937
CREATED:20260422T053809Z
LAST-MODIFIED:20260422T053809Z
UID:10017439-1781724600-1781730000@meditario.org.br
SUMMARY:Aulas com Meditação
DESCRIPTION:
URL:https://meditario.org.br/evento/aulas-com-meditacao-32/
LOCATION:CMK Rio de Janeiro\, Rua Conde de Irajá\, 604 – Botafogo\, Rio de Janeiro\, Rio de Janeiro\, 22271-020\, Brasil
CATEGORIES:Aulas com Meditação,PGs de Quarta Outubro Novembro Dezembro
ATTACH;FMTTYPE=image/png:https://meditario.org.br/wp-content/uploads/2026/04/Captura-de-Tela-2026-04-22-as-02.36.44.png
END:VEVENT
BEGIN:VEVENT
DTSTART;TZID=America/Sao_Paulo:20260623T104500
DTEND;TZID=America/Sao_Paulo:20260623T120000
DTSTAMP:20260424T013937
CREATED:20260422T052729Z
LAST-MODIFIED:20260422T052729Z
UID:10017437-1782211500-1782216000@meditario.org.br
SUMMARY:Aulas com Meditação
DESCRIPTION:
URL:https://meditario.org.br/evento/aulas-com-meditacao-30/
LOCATION:CMK Rio de Janeiro\, Rua Conde de Irajá\, 604 – Botafogo\, Rio de Janeiro\, Rio de Janeiro\, 22271-020\, Brasil
CATEGORIES:Aulas com Meditação,Pgs de terca manha fevereiro marco
ATTACH;FMTTYPE=image/png:https://meditario.org.br/wp-content/uploads/2026/04/Captura-de-Tela-2026-04-22-as-02.25.01.png
END:VEVENT
BEGIN:VEVENT
DTSTART;TZID=America/Sao_Paulo:20260624T193000
DTEND;TZID=America/Sao_Paulo:20260624T210000
DTSTAMP:20260424T013937
CREATED:20260422T054107Z
LAST-MODIFIED:20260422T054137Z
UID:10017440-1782329400-1782334800@meditario.org.br
SUMMARY:Aulas com Meditação
DESCRIPTION:
URL:https://meditario.org.br/evento/aulas-com-meditacao-33/
LOCATION:CMK Rio de Janeiro\, Rua Conde de Irajá\, 604 – Botafogo\, Rio de Janeiro\, Rio de Janeiro\, 22271-020\, Brasil
CATEGORIES:Aulas com Meditação,PGs de Quarta Outubro Novembro Dezembro
ATTACH;FMTTYPE=image/png:https://meditario.org.br/wp-content/uploads/2026/04/Captura-de-Tela-2026-04-22-as-02.38.53.png
END:VEVENT
BEGIN:VEVENT
DTSTART;TZID=America/Sao_Paulo:20260701T193000
DTEND;TZID=America/Sao_Paulo:20260701T210000
DTSTAMP:20260424T013937
CREATED:20260422T054430Z
LAST-MODIFIED:20260422T054430Z
UID:10017441-1782934200-1782939600@meditario.org.br
SUMMARY:Aulas com Meditação
DESCRIPTION:
URL:https://meditario.org.br/evento/aulas-com-meditacao-34/
LOCATION:CMK Rio de Janeiro\, Rua Conde de Irajá\, 604 – Botafogo\, Rio de Janeiro\, Rio de Janeiro\, 22271-020\, Brasil
CATEGORIES:Aulas com Meditação,PGs de Quarta Outubro Novembro Dezembro
ATTACH;FMTTYPE=image/png:https://meditario.org.br/wp-content/uploads/2026/04/Captura-de-Tela-2026-04-22-as-02.42.13.png
END:VEVENT
END:VCALENDAR