BEGIN:VCALENDAR
VERSION:2.0
PRODID:-//Centro de Meditação Kadampa Rio de Janeiro - ECPv6.15.20//NONSGML v1.0//EN
CALSCALE:GREGORIAN
METHOD:PUBLISH
X-WR-CALNAME:Centro de Meditação Kadampa Rio de Janeiro
X-ORIGINAL-URL:https://meditario.org.br
X-WR-CALDESC:Eventos para Centro de Meditação Kadampa Rio de Janeiro
REFRESH-INTERVAL;VALUE=DURATION:PT1H
X-Robots-Tag:noindex
X-PUBLISHED-TTL:PT1H
BEGIN:VTIMEZONE
TZID:America/Sao_Paulo
BEGIN:STANDARD
TZOFFSETFROM:-0300
TZOFFSETTO:-0300
TZNAME:-03
DTSTART:20250101T000000
END:STANDARD
END:VTIMEZONE
BEGIN:VEVENT
DTSTART;TZID=America/Sao_Paulo:20260205T183000
DTEND;TZID=America/Sao_Paulo:20260205T190000
DTSTAMP:20260425T094748
CREATED:20260117T002641Z
LAST-MODIFIED:20260223T180754Z
UID:10017050-1770316200-1770318000@meditario.org.br
SUMMARY:Meditação Depois do Trabalho
DESCRIPTION:
URL:https://meditario.org.br/evento/meditacao-depois-do-trabalho-7-3-2-3/2026-02-05/
LOCATION:CMK Rio de Janeiro\, Rua Conde de Irajá\, 604 – Botafogo\, Rio de Janeiro\, Rio de Janeiro\, 22271-020\, Brasil
CATEGORIES:Meditação depois do trabalho
ATTACH;FMTTYPE=image/jpeg:https://meditario.org.br/wp-content/uploads/2024/11/medita-em-30.jpg
END:VEVENT
BEGIN:VEVENT
DTSTART;TZID=America/Sao_Paulo:20260205T170000
DTEND;TZID=America/Sao_Paulo:20260205T183000
DTSTAMP:20260425T094748
CREATED:20260116T210820Z
LAST-MODIFIED:20260116T211802Z
UID:10016991-1770310800-1770316200@meditario.org.br
SUMMARY:Joia-que-Satisfaz-os-Desejos ou Joia-Coração
DESCRIPTION:
URL:https://meditario.org.br/evento/joia-que-satisfaz-os-desejos-ou-joia-coracao-28-2-3/2026-02-05/
LOCATION:CMK Rio de Janeiro\, Rua Conde de Irajá\, 604 – Botafogo\, Rio de Janeiro\, Rio de Janeiro\, 22271-020\, Brasil
CATEGORIES:Preces
ATTACH;FMTTYPE=image/jpeg:https://meditario.org.br/wp-content/uploads/2024/11/JSD-e-JC.jpg
END:VEVENT
BEGIN:VEVENT
DTSTART;TZID=America/Sao_Paulo:20260205T123000
DTEND;TZID=America/Sao_Paulo:20260205T130000
DTSTAMP:20260425T094748
CREATED:20260116T220711Z
LAST-MODIFIED:20260117T004812Z
UID:10017062-1770294600-1770296400@meditario.org.br
SUMMARY:Meditação na hora do almoço
DESCRIPTION:
URL:https://meditario.org.br/evento/meditacao-na-hora-do-almoco-2-2-2-2-2/2026-02-05/
LOCATION:CMK Rio de Janeiro\, Rua Conde de Irajá\, 604 – Botafogo\, Rio de Janeiro\, Rio de Janeiro\, 22271-020\, Brasil
CATEGORIES:Meditação na Hora do Almoço,Meditações Guiadas
ATTACH;FMTTYPE=image/jpeg:https://meditario.org.br/wp-content/uploads/2025/01/site-e-sympla-2025-5.jpg
END:VEVENT
BEGIN:VEVENT
DTSTART;TZID=America/Sao_Paulo:20260205T090000
DTEND;TZID=America/Sao_Paulo:20260205T093000
DTSTAMP:20260425T094748
CREATED:20260116T215301Z
LAST-MODIFIED:20260116T215359Z
UID:10017034-1770282000-1770283800@meditario.org.br
SUMMARY:A Confissão Bodhisattva das Quedas Morais
DESCRIPTION:
URL:https://meditario.org.br/evento/a-confissao-bodhisattva-das-quedas-morais-5-2-2-2-2/2026-02-05/
LOCATION:CMK Rio de Janeiro\, Rua Conde de Irajá\, 604 – Botafogo\, Rio de Janeiro\, Rio de Janeiro\, 22271-020\, Brasil
CATEGORIES:Preces
ATTACH;FMTTYPE=image/jpeg:https://meditario.org.br/wp-content/uploads/2024/11/Sutra-mahayana.jpg
END:VEVENT
BEGIN:VEVENT
DTSTART;TZID=America/Sao_Paulo:20260205T070000
DTEND;TZID=America/Sao_Paulo:20260205T083000
DTSTAMP:20260425T094748
CREATED:20260116T214146Z
LAST-MODIFIED:20260209T194911Z
UID:10017020-1770274800-1770280200@meditario.org.br
SUMMARY:Caminho Rápido ao Grande Êxtase
DESCRIPTION:
URL:https://meditario.org.br/evento/caminho-rapido-ao-grande-extase-9-2-2-2-2/2026-02-05/
LOCATION:CMK Rio de Janeiro\, Rua Conde de Irajá\, 604 – Botafogo\, Rio de Janeiro\, Rio de Janeiro\, 22271-020\, Brasil
CATEGORIES:Preces
ATTACH;FMTTYPE=image/jpeg:https://meditario.org.br/wp-content/uploads/2024/11/caminho-rapido.jpg
END:VEVENT
BEGIN:VEVENT
DTSTART;TZID=America/Sao_Paulo:20260204T193000
DTEND;TZID=America/Sao_Paulo:20260204T210000
DTSTAMP:20260425T094748
CREATED:20251217T035838Z
LAST-MODIFIED:20260109T025511Z
UID:10016974-1770233400-1770238800@meditario.org.br
SUMMARY:Aula com Meditação
DESCRIPTION:
URL:https://meditario.org.br/evento/aula-com-meditacao-71/
LOCATION:CMK Rio de Janeiro\, Rua Conde de Irajá\, 604 – Botafogo\, Rio de Janeiro\, Rio de Janeiro\, 22271-020\, Brasil
CATEGORIES:Aulas com Meditação,PGs de Quarta Outubro Novembro Dezembro
ATTACH;FMTTYPE=image/png:https://meditario.org.br/wp-content/uploads/2025/12/Captura-de-Tela-2025-12-17-as-00.53.55.png
END:VEVENT
BEGIN:VEVENT
DTSTART;TZID=America/Sao_Paulo:20260204T183000
DTEND;TZID=America/Sao_Paulo:20260204T190000
DTSTAMP:20260425T094748
CREATED:20260117T002641Z
LAST-MODIFIED:20260223T180754Z
UID:10017049-1770229800-1770231600@meditario.org.br
SUMMARY:Meditação Depois do Trabalho
DESCRIPTION:
URL:https://meditario.org.br/evento/meditacao-depois-do-trabalho-7-3-2-3/2026-02-04/
LOCATION:CMK Rio de Janeiro\, Rua Conde de Irajá\, 604 – Botafogo\, Rio de Janeiro\, Rio de Janeiro\, 22271-020\, Brasil
CATEGORIES:Meditação depois do trabalho
ATTACH;FMTTYPE=image/jpeg:https://meditario.org.br/wp-content/uploads/2024/11/medita-em-30.jpg
END:VEVENT
BEGIN:VEVENT
DTSTART;TZID=America/Sao_Paulo:20260204T170000
DTEND;TZID=America/Sao_Paulo:20260204T183000
DTSTAMP:20260425T094748
CREATED:20260116T210820Z
LAST-MODIFIED:20260116T211802Z
UID:10016990-1770224400-1770229800@meditario.org.br
SUMMARY:Joia-que-Satisfaz-os-Desejos ou Joia-Coração
DESCRIPTION:
URL:https://meditario.org.br/evento/joia-que-satisfaz-os-desejos-ou-joia-coracao-28-2-3/2026-02-04/
LOCATION:CMK Rio de Janeiro\, Rua Conde de Irajá\, 604 – Botafogo\, Rio de Janeiro\, Rio de Janeiro\, 22271-020\, Brasil
CATEGORIES:Preces
ATTACH;FMTTYPE=image/jpeg:https://meditario.org.br/wp-content/uploads/2024/11/JSD-e-JC.jpg
END:VEVENT
BEGIN:VEVENT
DTSTART;TZID=America/Sao_Paulo:20260204T123000
DTEND;TZID=America/Sao_Paulo:20260204T130000
DTSTAMP:20260425T094748
CREATED:20260116T220711Z
LAST-MODIFIED:20260117T004812Z
UID:10017061-1770208200-1770210000@meditario.org.br
SUMMARY:Meditação na hora do almoço
DESCRIPTION:
URL:https://meditario.org.br/evento/meditacao-na-hora-do-almoco-2-2-2-2-2/2026-02-04/
LOCATION:CMK Rio de Janeiro\, Rua Conde de Irajá\, 604 – Botafogo\, Rio de Janeiro\, Rio de Janeiro\, 22271-020\, Brasil
CATEGORIES:Meditação na Hora do Almoço,Meditações Guiadas
ATTACH;FMTTYPE=image/jpeg:https://meditario.org.br/wp-content/uploads/2025/01/site-e-sympla-2025-5.jpg
END:VEVENT
BEGIN:VEVENT
DTSTART;TZID=America/Sao_Paulo:20260204T090000
DTEND;TZID=America/Sao_Paulo:20260204T093000
DTSTAMP:20260425T094748
CREATED:20260116T215301Z
LAST-MODIFIED:20260116T215359Z
UID:10017033-1770195600-1770197400@meditario.org.br
SUMMARY:A Confissão Bodhisattva das Quedas Morais
DESCRIPTION:
URL:https://meditario.org.br/evento/a-confissao-bodhisattva-das-quedas-morais-5-2-2-2-2/2026-02-04/
LOCATION:CMK Rio de Janeiro\, Rua Conde de Irajá\, 604 – Botafogo\, Rio de Janeiro\, Rio de Janeiro\, 22271-020\, Brasil
CATEGORIES:Preces
ATTACH;FMTTYPE=image/jpeg:https://meditario.org.br/wp-content/uploads/2024/11/Sutra-mahayana.jpg
END:VEVENT
BEGIN:VEVENT
DTSTART;TZID=America/Sao_Paulo:20260203T183000
DTEND;TZID=America/Sao_Paulo:20260203T190000
DTSTAMP:20260425T094748
CREATED:20260117T002641Z
LAST-MODIFIED:20260223T180754Z
UID:10017048-1770143400-1770145200@meditario.org.br
SUMMARY:Meditação Depois do Trabalho
DESCRIPTION:
URL:https://meditario.org.br/evento/meditacao-depois-do-trabalho-7-3-2-3/2026-02-03/
LOCATION:CMK Rio de Janeiro\, Rua Conde de Irajá\, 604 – Botafogo\, Rio de Janeiro\, Rio de Janeiro\, 22271-020\, Brasil
CATEGORIES:Meditação depois do trabalho
ATTACH;FMTTYPE=image/jpeg:https://meditario.org.br/wp-content/uploads/2024/11/medita-em-30.jpg
END:VEVENT
BEGIN:VEVENT
DTSTART;TZID=America/Sao_Paulo:20260203T170000
DTEND;TZID=America/Sao_Paulo:20260203T183000
DTSTAMP:20260425T094748
CREATED:20260116T210820Z
LAST-MODIFIED:20260116T211802Z
UID:10016989-1770138000-1770143400@meditario.org.br
SUMMARY:Joia-que-Satisfaz-os-Desejos ou Joia-Coração
DESCRIPTION:
URL:https://meditario.org.br/evento/joia-que-satisfaz-os-desejos-ou-joia-coracao-28-2-3/2026-02-03/
LOCATION:CMK Rio de Janeiro\, Rua Conde de Irajá\, 604 – Botafogo\, Rio de Janeiro\, Rio de Janeiro\, 22271-020\, Brasil
CATEGORIES:Preces
ATTACH;FMTTYPE=image/jpeg:https://meditario.org.br/wp-content/uploads/2024/11/JSD-e-JC.jpg
END:VEVENT
BEGIN:VEVENT
DTSTART;TZID=America/Sao_Paulo:20260203T123000
DTEND;TZID=America/Sao_Paulo:20260203T130000
DTSTAMP:20260425T094748
CREATED:20260116T220711Z
LAST-MODIFIED:20260117T004812Z
UID:10017060-1770121800-1770123600@meditario.org.br
SUMMARY:Meditação na hora do almoço
DESCRIPTION:
URL:https://meditario.org.br/evento/meditacao-na-hora-do-almoco-2-2-2-2-2/2026-02-03/
LOCATION:CMK Rio de Janeiro\, Rua Conde de Irajá\, 604 – Botafogo\, Rio de Janeiro\, Rio de Janeiro\, 22271-020\, Brasil
CATEGORIES:Meditação na Hora do Almoço,Meditações Guiadas
ATTACH;FMTTYPE=image/jpeg:https://meditario.org.br/wp-content/uploads/2025/01/site-e-sympla-2025-5.jpg
END:VEVENT
BEGIN:VEVENT
DTSTART;TZID=America/Sao_Paulo:20260203T104500
DTEND;TZID=America/Sao_Paulo:20260203T120000
DTSTAMP:20260425T094748
CREATED:20251214T182400Z
LAST-MODIFIED:20251218T100713Z
UID:10016963-1770115500-1770120000@meditario.org.br
SUMMARY:Aula com Meditação
DESCRIPTION:
URL:https://meditario.org.br/evento/aula-com-meditacao-62/
LOCATION:CMK Rio de Janeiro\, Rua Conde de Irajá\, 604 – Botafogo\, Rio de Janeiro\, Rio de Janeiro\, 22271-020\, Brasil
CATEGORIES:Aulas com Meditação,PGs de Terça Janeiro e Fevereiro
ATTACH;FMTTYPE=image/png:https://meditario.org.br/wp-content/uploads/2025/12/Captura-de-Tela-2025-12-14-as-13.55.09.png
END:VEVENT
BEGIN:VEVENT
DTSTART;TZID=America/Sao_Paulo:20260203T090000
DTEND;TZID=America/Sao_Paulo:20260203T093000
DTSTAMP:20260425T094748
CREATED:20260116T215301Z
LAST-MODIFIED:20260116T215359Z
UID:10017032-1770109200-1770111000@meditario.org.br
SUMMARY:A Confissão Bodhisattva das Quedas Morais
DESCRIPTION:
URL:https://meditario.org.br/evento/a-confissao-bodhisattva-das-quedas-morais-5-2-2-2-2/2026-02-03/
LOCATION:CMK Rio de Janeiro\, Rua Conde de Irajá\, 604 – Botafogo\, Rio de Janeiro\, Rio de Janeiro\, 22271-020\, Brasil
CATEGORIES:Preces
ATTACH;FMTTYPE=image/jpeg:https://meditario.org.br/wp-content/uploads/2024/11/Sutra-mahayana.jpg
END:VEVENT
BEGIN:VEVENT
DTSTART;TZID=America/Sao_Paulo:20260203T070000
DTEND;TZID=America/Sao_Paulo:20260203T083000
DTSTAMP:20260425T094748
CREATED:20260116T214146Z
LAST-MODIFIED:20260209T194911Z
UID:10017019-1770102000-1770107400@meditario.org.br
SUMMARY:Caminho Rápido ao Grande Êxtase
DESCRIPTION:
URL:https://meditario.org.br/evento/caminho-rapido-ao-grande-extase-9-2-2-2-2/2026-02-03/
LOCATION:CMK Rio de Janeiro\, Rua Conde de Irajá\, 604 – Botafogo\, Rio de Janeiro\, Rio de Janeiro\, 22271-020\, Brasil
CATEGORIES:Preces
ATTACH;FMTTYPE=image/jpeg:https://meditario.org.br/wp-content/uploads/2024/11/caminho-rapido.jpg
END:VEVENT
BEGIN:VEVENT
DTSTART;TZID=America/Sao_Paulo:20260202T193000
DTEND;TZID=America/Sao_Paulo:20260202T213000
DTSTAMP:20260425T094748
CREATED:20260116T213143Z
LAST-MODIFIED:20260116T213233Z
UID:10016604-1770060600-1770067800@meditario.org.br
SUMMARY:Programa de Formação de Professores
DESCRIPTION:
URL:https://meditario.org.br/evento/programa-de-formacao-de-professores-5-2-2-2-2/2026-02-02/
LOCATION:CMK Rio de Janeiro\, Rua Conde de Irajá\, 604 – Botafogo\, Rio de Janeiro\, Rio de Janeiro\, 22271-020\, Brasil
CATEGORIES:Estudo Aprofundado
ATTACH;FMTTYPE=image/jpeg:https://meditario.org.br/wp-content/uploads/2024/11/pfp.jpg
END:VEVENT
BEGIN:VEVENT
DTSTART;TZID=America/Sao_Paulo:20260202T183000
DTEND;TZID=America/Sao_Paulo:20260202T190000
DTSTAMP:20260425T094748
CREATED:20260117T002641Z
LAST-MODIFIED:20260223T180754Z
UID:10016638-1770057000-1770058800@meditario.org.br
SUMMARY:Meditação Depois do Trabalho
DESCRIPTION:
URL:https://meditario.org.br/evento/meditacao-depois-do-trabalho-7-3-2-3/2026-02-02/
LOCATION:CMK Rio de Janeiro\, Rua Conde de Irajá\, 604 – Botafogo\, Rio de Janeiro\, Rio de Janeiro\, 22271-020\, Brasil
CATEGORIES:Meditação depois do trabalho
ATTACH;FMTTYPE=image/jpeg:https://meditario.org.br/wp-content/uploads/2024/11/medita-em-30.jpg
END:VEVENT
BEGIN:VEVENT
DTSTART;TZID=America/Sao_Paulo:20260202T170000
DTEND;TZID=America/Sao_Paulo:20260202T183000
DTSTAMP:20260425T094748
CREATED:20260116T210820Z
LAST-MODIFIED:20260116T211802Z
UID:10016502-1770051600-1770057000@meditario.org.br
SUMMARY:Joia-que-Satisfaz-os-Desejos ou Joia-Coração
DESCRIPTION:
URL:https://meditario.org.br/evento/joia-que-satisfaz-os-desejos-ou-joia-coracao-28-2-3/2026-02-02/
LOCATION:CMK Rio de Janeiro\, Rua Conde de Irajá\, 604 – Botafogo\, Rio de Janeiro\, Rio de Janeiro\, 22271-020\, Brasil
CATEGORIES:Preces
ATTACH;FMTTYPE=image/jpeg:https://meditario.org.br/wp-content/uploads/2024/11/JSD-e-JC.jpg
END:VEVENT
BEGIN:VEVENT
DTSTART;TZID=America/Sao_Paulo:20260202T123000
DTEND;TZID=America/Sao_Paulo:20260202T130000
DTSTAMP:20260425T094748
CREATED:20260116T220711Z
LAST-MODIFIED:20260117T004812Z
UID:10016632-1770035400-1770037200@meditario.org.br
SUMMARY:Meditação na hora do almoço
DESCRIPTION:
URL:https://meditario.org.br/evento/meditacao-na-hora-do-almoco-2-2-2-2-2/2026-02-02/
LOCATION:CMK Rio de Janeiro\, Rua Conde de Irajá\, 604 – Botafogo\, Rio de Janeiro\, Rio de Janeiro\, 22271-020\, Brasil
CATEGORIES:Meditação na Hora do Almoço,Meditações Guiadas
ATTACH;FMTTYPE=image/jpeg:https://meditario.org.br/wp-content/uploads/2025/01/site-e-sympla-2025-5.jpg
END:VEVENT
BEGIN:VEVENT
DTSTART;TZID=America/Sao_Paulo:20260202T090000
DTEND;TZID=America/Sao_Paulo:20260202T093000
DTSTAMP:20260425T094748
CREATED:20260116T215301Z
LAST-MODIFIED:20260116T215359Z
UID:10016623-1770022800-1770024600@meditario.org.br
SUMMARY:A Confissão Bodhisattva das Quedas Morais
DESCRIPTION:
URL:https://meditario.org.br/evento/a-confissao-bodhisattva-das-quedas-morais-5-2-2-2-2/2026-02-02/
LOCATION:CMK Rio de Janeiro\, Rua Conde de Irajá\, 604 – Botafogo\, Rio de Janeiro\, Rio de Janeiro\, 22271-020\, Brasil
CATEGORIES:Preces
ATTACH;FMTTYPE=image/jpeg:https://meditario.org.br/wp-content/uploads/2024/11/Sutra-mahayana.jpg
END:VEVENT
BEGIN:VEVENT
DTSTART;TZID=America/Sao_Paulo:20260202T070000
DTEND;TZID=America/Sao_Paulo:20260202T083000
DTSTAMP:20260425T094748
CREATED:20260116T214146Z
LAST-MODIFIED:20260209T194911Z
UID:10016612-1770015600-1770021000@meditario.org.br
SUMMARY:Caminho Rápido ao Grande Êxtase
DESCRIPTION:
URL:https://meditario.org.br/evento/caminho-rapido-ao-grande-extase-9-2-2-2-2/2026-02-02/
LOCATION:CMK Rio de Janeiro\, Rua Conde de Irajá\, 604 – Botafogo\, Rio de Janeiro\, Rio de Janeiro\, 22271-020\, Brasil
CATEGORIES:Preces
ATTACH;FMTTYPE=image/jpeg:https://meditario.org.br/wp-content/uploads/2024/11/caminho-rapido.jpg
END:VEVENT
BEGIN:VEVENT
DTSTART;TZID=America/Sao_Paulo:20260201T170000
DTEND;TZID=America/Sao_Paulo:20260201T183000
DTSTAMP:20260425T094748
CREATED:20251229T012627Z
LAST-MODIFIED:20251229T012736Z
UID:10016984-1769965200-1769970600@meditario.org.br
SUMMARY:Aula com Meditação
DESCRIPTION:
URL:https://meditario.org.br/evento/aula-com-meditacao-78/
LOCATION:CMK Rio de Janeiro\, Rua Conde de Irajá\, 604 – Botafogo\, Rio de Janeiro\, Rio de Janeiro\, 22271-020\, Brasil
CATEGORIES:Aulas com Meditação,PG de Domingo Fevereiro 2026
ATTACH;FMTTYPE=image/png:https://meditario.org.br/wp-content/uploads/2025/12/Captura-de-Tela-2025-12-28-as-22.24.49.png
END:VEVENT
BEGIN:VEVENT
DTSTART;TZID=America/Sao_Paulo:20260201T140000
DTEND;TZID=America/Sao_Paulo:20260201T153000
DTSTAMP:20260425T094748
CREATED:20251214T185026Z
LAST-MODIFIED:20260123T152059Z
UID:10016969-1769954400-1769959800@meditario.org.br
SUMMARY:Aula para crianças
DESCRIPTION:
URL:https://meditario.org.br/evento/aula-para-criancas-8/
LOCATION:CMK Rio de Janeiro\, Rua Conde de Irajá\, 604 – Botafogo\, Rio de Janeiro\, Rio de Janeiro\, 22271-020\, Brasil
CATEGORIES:Para Crianças
ATTACH;FMTTYPE=image/jpeg:https://meditario.org.br/wp-content/uploads/2025/12/Site-2026-2.jpg
END:VEVENT
BEGIN:VEVENT
DTSTART;TZID=America/Sao_Paulo:20260131T140000
DTEND;TZID=America/Sao_Paulo:20260131T170000
DTSTAMP:20260425T094748
CREATED:20251214T133740Z
LAST-MODIFIED:20251218T105534Z
UID:10016957-1769868000-1769878800@meditario.org.br
SUMMARY:Oficina de Malas
DESCRIPTION:
URL:https://meditario.org.br/evento/oficina-de-malas/
LOCATION:CMK Rio de Janeiro\, Rua Conde de Irajá\, 604 – Botafogo\, Rio de Janeiro\, Rio de Janeiro\, 22271-020\, Brasil
CATEGORIES:Atividades Especiais
ATTACH;FMTTYPE=image/png:https://meditario.org.br/wp-content/uploads/2025/12/Captura-de-Tela-2025-12-14-as-10.32.34.png
END:VEVENT
BEGIN:VEVENT
DTSTART;TZID=America/Sao_Paulo:20260129T123000
DTEND;TZID=America/Sao_Paulo:20260129T130000
DTSTAMP:20260425T094748
CREATED:20251212T203802Z
LAST-MODIFIED:20251212T203845Z
UID:10016942-1769689800-1769691600@meditario.org.br
SUMMARY:Meditação na Hora do Almoço
DESCRIPTION:
URL:https://meditario.org.br/evento/meditacao-na-hora-do-almoco-5-2-2-2/2026-01-29/
LOCATION:CMK Rio de Janeiro\, Rua Conde de Irajá\, 604 – Botafogo\, Rio de Janeiro\, Rio de Janeiro\, 22271-020\, Brasil
CATEGORIES:Meditação na Hora do Almoço
ATTACH;FMTTYPE=image/jpeg:https://meditario.org.br/wp-content/uploads/2024/11/medita-em-30.jpg
END:VEVENT
BEGIN:VEVENT
DTSTART;TZID=America/Sao_Paulo:20260129T090000
DTEND;TZID=America/Sao_Paulo:20260129T093000
DTSTAMP:20260425T094748
CREATED:20251212T203402Z
LAST-MODIFIED:20251212T203455Z
UID:10016923-1769677200-1769679000@meditario.org.br
SUMMARY:A Confissão Bodhisattva das Quedas Morais
DESCRIPTION:
URL:https://meditario.org.br/evento/a-confissao-bodhisattva-das-quedas-morais-6-2-2-2/2026-01-29/
LOCATION:CMK Rio de Janeiro\, Rua Conde de Irajá\, 604 – Botafogo\, Rio de Janeiro\, Rio de Janeiro\, 22271-020\, Brasil
CATEGORIES:Preces
ATTACH;FMTTYPE=image/jpeg:https://meditario.org.br/wp-content/uploads/2024/11/Sutra-mahayana.jpg
END:VEVENT
BEGIN:VEVENT
DTSTART;TZID=America/Sao_Paulo:20260129T070000
DTEND;TZID=America/Sao_Paulo:20260129T083000
DTSTAMP:20260425T094748
CREATED:20251212T202730Z
LAST-MODIFIED:20251212T203028Z
UID:10016901-1769670000-1769675400@meditario.org.br
SUMMARY:Caminho Rápido ao Grande Êxtase
DESCRIPTION:
URL:https://meditario.org.br/evento/caminho-rapido-ao-grande-extase-9-2-2-3/2026-01-29/
LOCATION:CMK Rio de Janeiro\, Rua Conde de Irajá\, 604 – Botafogo\, Rio de Janeiro\, Rio de Janeiro\, 22271-020\, Brasil
CATEGORIES:Preces
ATTACH;FMTTYPE=image/jpeg:https://meditario.org.br/wp-content/uploads/2024/11/caminho-rapido.jpg
END:VEVENT
BEGIN:VEVENT
DTSTART;TZID=America/Sao_Paulo:20260128T193000
DTEND;TZID=America/Sao_Paulo:20260128T210000
DTSTAMP:20260425T094748
CREATED:20251214T184242Z
LAST-MODIFIED:20260109T025440Z
UID:10016967-1769628600-1769634000@meditario.org.br
SUMMARY:Aula com Meditação
DESCRIPTION:
URL:https://meditario.org.br/evento/aula-com-meditacao-66/
LOCATION:CMK Rio de Janeiro\, Rua Conde de Irajá\, 604 – Botafogo\, Rio de Janeiro\, Rio de Janeiro\, 22271-020\, Brasil
CATEGORIES:Aulas com Meditação,PGs de Quarta Outubro Novembro Dezembro
ATTACH;FMTTYPE=image/png:https://meditario.org.br/wp-content/uploads/2025/12/Captura-de-Tela-2025-12-14-as-15.41.38.png
END:VEVENT
BEGIN:VEVENT
DTSTART;TZID=America/Sao_Paulo:20260128T190000
DTEND;TZID=America/Sao_Paulo:20260128T201500
DTSTAMP:20260425T094748
CREATED:20251212T215244Z
LAST-MODIFIED:20260121T111410Z
UID:10016950-1769626800-1769631300@meditario.org.br
SUMMARY:Aula com Meditação em Vila Velha
DESCRIPTION:
URL:https://meditario.org.br/evento/aula-com-meditacao-em-vila-velha-14/
LOCATION:Marzen\, R. Vinícius Tôrres\, 635\, vila velha\, ES\, 29.100430\, Brazil
CATEGORIES:Atividades Vila Velha,Vila Velha
ATTACH;FMTTYPE=image/jpeg:https://meditario.org.br/wp-content/uploads/2025/12/a-forca-da-fe.jpg
END:VEVENT
END:VCALENDAR