BEGIN:VCALENDAR
VERSION:2.0
PRODID:-//Centro de Meditação Kadampa Rio de Janeiro - ECPv6.15.20//NONSGML v1.0//EN
CALSCALE:GREGORIAN
METHOD:PUBLISH
X-ORIGINAL-URL:https://meditario.org.br
X-WR-CALDESC:Eventos para Centro de Meditação Kadampa Rio de Janeiro
REFRESH-INTERVAL;VALUE=DURATION:PT1H
X-Robots-Tag:noindex
X-PUBLISHED-TTL:PT1H
BEGIN:VTIMEZONE
TZID:America/Sao_Paulo
BEGIN:STANDARD
TZOFFSETFROM:-0300
TZOFFSETTO:-0300
TZNAME:-03
DTSTART:20250101T000000
END:STANDARD
END:VTIMEZONE
BEGIN:VEVENT
DTSTART;TZID=America/Sao_Paulo:20260227T100000
DTEND;TZID=America/Sao_Paulo:20260301T210000
DTSTAMP:20260423T201444
CREATED:20251024T135155Z
LAST-MODIFIED:20260209T193757Z
UID:10016576-1772186400-1772398800@meditario.org.br
SUMMARY:Visita da nossa Diretora Espiritual Nacional
DESCRIPTION:
URL:https://meditario.org.br/evento/visita-da-nossa-diretora-espiritual-nacional/
LOCATION:CMK Rio de Janeiro\, Rua Conde de Irajá\, 604 – Botafogo\, Rio de Janeiro\, Rio de Janeiro\, 22271-020\, Brasil
CATEGORIES:Atividades em Destaque,Atividades Especiais
ATTACH;FMTTYPE=image/png:https://meditario.org.br/wp-content/uploads/2025/10/Captura-de-Tela-2025-10-24-as-10.50.56.png
END:VEVENT
BEGIN:VEVENT
DTSTART;TZID=America/Sao_Paulo:20260301T100000
DTEND;TZID=America/Sao_Paulo:20260301T130000
DTSTAMP:20260423T201444
CREATED:20251109T134741Z
LAST-MODIFIED:20260104T215536Z
UID:10016586-1772359200-1772370000@meditario.org.br
SUMMARY:Kangso especial na Nova Sede
DESCRIPTION:
URL:https://meditario.org.br/evento/kangso-especial-na-nova-sede/
LOCATION:CMK Rio de Janeiro\, Rua Conde de Irajá\, 604 – Botafogo\, Rio de Janeiro\, Rio de Janeiro\, 22271-020\, Brasil
CATEGORIES:Atividades Especiais
ATTACH;FMTTYPE=image/png:https://meditario.org.br/wp-content/uploads/2025/11/Captura-de-Tela-2025-11-09-as-10.44.17.png
END:VEVENT
BEGIN:VEVENT
DTSTART;TZID=America/Sao_Paulo:20260301T170000
DTEND;TZID=America/Sao_Paulo:20260301T183000
DTSTAMP:20260423T201444
CREATED:20260208T150652Z
LAST-MODIFIED:20260208T151141Z
UID:10017083-1772384400-1772389800@meditario.org.br
SUMMARY:Aula com Meditação
DESCRIPTION:
URL:https://meditario.org.br/evento/8163/
LOCATION:CMK Rio de Janeiro\, Rua Conde de Irajá\, 604 – Botafogo\, Rio de Janeiro\, Rio de Janeiro\, 22271-020\, Brasil
CATEGORIES:Aulas com Meditação,Pg de Domingo Março 2026
ATTACH;FMTTYPE=image/jpeg:https://meditario.org.br/wp-content/uploads/2026/01/Site-2026-7.jpg
END:VEVENT
BEGIN:VEVENT
DTSTART;TZID=America/Sao_Paulo:20260302T123000
DTEND;TZID=America/Sao_Paulo:20260302T130000
DTSTAMP:20260423T201444
CREATED:20260220T193521Z
LAST-MODIFIED:20260220T193555Z
UID:10016943-1772454600-1772456400@meditario.org.br
SUMMARY:Meditação na Hora do Almoço
DESCRIPTION:
URL:https://meditario.org.br/evento/meditacao-na-hora-do-almoco-5-2-2-2-2/2026-03-02/
LOCATION:CMK Rio de Janeiro\, Rua Conde de Irajá\, 604 – Botafogo\, Rio de Janeiro\, Rio de Janeiro\, 22271-020\, Brasil
CATEGORIES:Meditação na Hora do Almoço
ATTACH;FMTTYPE=image/jpeg:https://meditario.org.br/wp-content/uploads/2024/11/medita-em-30.jpg
END:VEVENT
BEGIN:VEVENT
DTSTART;TZID=America/Sao_Paulo:20260302T170000
DTEND;TZID=America/Sao_Paulo:20260302T183000
DTSTAMP:20260423T201444
CREATED:20260220T185437Z
LAST-MODIFIED:20260302T141013Z
UID:10016870-1772470800-1772476200@meditario.org.br
SUMMARY:Joia-que-Satisfaz-os-Desejos ou Joia-Coração
DESCRIPTION:
URL:https://meditario.org.br/evento/joia-que-satisfaz-os-desejos-ou-joia-coracao-28-2-2-2/2026-03-02/
LOCATION:CMK Rio de Janeiro\, Rua Conde de Irajá\, 604 – Botafogo\, Rio de Janeiro\, Rio de Janeiro\, 22271-020\, Brasil
CATEGORIES:Preces
ATTACH;FMTTYPE=image/jpeg:https://meditario.org.br/wp-content/uploads/2024/11/JSD-e-JC.jpg
END:VEVENT
BEGIN:VEVENT
DTSTART;TZID=America/Sao_Paulo:20260302T183000
DTEND;TZID=America/Sao_Paulo:20260302T190000
DTSTAMP:20260423T201444
CREATED:20260220T193724Z
LAST-MODIFIED:20260302T140554Z
UID:10016665-1772476200-1772478000@meditario.org.br
SUMMARY:Meditação Depois do Trabalho
DESCRIPTION:
URL:https://meditario.org.br/evento/meditacao-depois-do-trabalho-7-3-2-2-2/2026-03-02/
LOCATION:CMK Rio de Janeiro\, Rua Conde de Irajá\, 604 – Botafogo\, Rio de Janeiro\, Rio de Janeiro\, 22271-020\, Brasil
CATEGORIES:Meditação depois do trabalho
ATTACH;FMTTYPE=image/jpeg:https://meditario.org.br/wp-content/uploads/2024/11/medita-em-30.jpg
END:VEVENT
BEGIN:VEVENT
DTSTART;TZID=America/Sao_Paulo:20260302T193000
DTEND;TZID=America/Sao_Paulo:20260302T213000
DTSTAMP:20260423T201444
CREATED:20260220T191628Z
LAST-MODIFIED:20260220T191708Z
UID:10016887-1772479800-1772487000@meditario.org.br
SUMMARY:Programa de Formação de Professores
DESCRIPTION:
URL:https://meditario.org.br/evento/programa-de-formacao-de-professores-5-2-2-3-2/2026-03-02/
LOCATION:CMK Rio de Janeiro\, Rua Conde de Irajá\, 604 – Botafogo\, Rio de Janeiro\, Rio de Janeiro\, 22271-020\, Brasil
CATEGORIES:Estudo Aprofundado
ATTACH;FMTTYPE=image/jpeg:https://meditario.org.br/wp-content/uploads/2024/11/pfp.jpg
END:VEVENT
BEGIN:VEVENT
DTSTART;TZID=America/Sao_Paulo:20260303T090000
DTEND;TZID=America/Sao_Paulo:20260303T093000
DTSTAMP:20260423T201444
CREATED:20260220T192944Z
LAST-MODIFIED:20260220T193036Z
UID:10016924-1772528400-1772530200@meditario.org.br
SUMMARY:A Confissão Bodhisattva das Quedas Morais
DESCRIPTION:
URL:https://meditario.org.br/evento/a-confissao-bodhisattva-das-quedas-morais-6-2-2-2-2/2026-03-03/
LOCATION:CMK Rio de Janeiro\, Rua Conde de Irajá\, 604 – Botafogo\, Rio de Janeiro\, Rio de Janeiro\, 22271-020\, Brasil
CATEGORIES:Preces
ATTACH;FMTTYPE=image/jpeg:https://meditario.org.br/wp-content/uploads/2024/11/Sutra-mahayana.jpg
END:VEVENT
BEGIN:VEVENT
DTSTART;TZID=America/Sao_Paulo:20260303T104500
DTEND;TZID=America/Sao_Paulo:20260303T120000
DTSTAMP:20260423T201444
CREATED:20251228T235924Z
LAST-MODIFIED:20251228T235924Z
UID:10016982-1772534700-1772539200@meditario.org.br
SUMMARY:Aula com Meditação
DESCRIPTION:
URL:https://meditario.org.br/evento/aula-com-meditacao-69/
LOCATION:CMK Rio de Janeiro\, Rua Conde de Irajá\, 604 – Botafogo\, Rio de Janeiro\, Rio de Janeiro\, 22271-020\, Brasil
CATEGORIES:Aulas com Meditação,Pgs de terca manha fevereiro marco
ATTACH;FMTTYPE=image/png:https://meditario.org.br/wp-content/uploads/2025/12/Captura-de-Tela-2025-12-28-as-20.57.59.png
END:VEVENT
BEGIN:VEVENT
DTSTART;TZID=America/Sao_Paulo:20260303T123000
DTEND;TZID=America/Sao_Paulo:20260303T130000
DTSTAMP:20260423T201444
CREATED:20260220T193521Z
LAST-MODIFIED:20260220T193555Z
UID:10017174-1772541000-1772542800@meditario.org.br
SUMMARY:Meditação na Hora do Almoço
DESCRIPTION:
URL:https://meditario.org.br/evento/meditacao-na-hora-do-almoco-5-2-2-2-2/2026-03-03/
LOCATION:CMK Rio de Janeiro\, Rua Conde de Irajá\, 604 – Botafogo\, Rio de Janeiro\, Rio de Janeiro\, 22271-020\, Brasil
CATEGORIES:Meditação na Hora do Almoço
ATTACH;FMTTYPE=image/jpeg:https://meditario.org.br/wp-content/uploads/2024/11/medita-em-30.jpg
END:VEVENT
BEGIN:VEVENT
DTSTART;TZID=America/Sao_Paulo:20260303T193000
DTEND;TZID=America/Sao_Paulo:20260303T213000
DTSTAMP:20260423T201444
CREATED:20260220T190833Z
LAST-MODIFIED:20260220T190858Z
UID:10016882-1772566200-1772573400@meditario.org.br
SUMMARY:PF - Novo Oito Passos para a Felicidade
DESCRIPTION:
URL:https://meditario.org.br/evento/pf-novo-oito-passos-para-a-felicidade-6-2-2-2-2/2026-03-03/
LOCATION:CMK Rio de Janeiro\, Rua Conde de Irajá\, 604 – Botafogo\, Rio de Janeiro\, Rio de Janeiro\, 22271-020\, Brasil
CATEGORIES:Estudo Aprofundado
ATTACH;FMTTYPE=image/jpeg:https://meditario.org.br/wp-content/uploads/2024/11/pf-noppf.jpg
END:VEVENT
BEGIN:VEVENT
DTSTART;TZID=America/Sao_Paulo:20260304T070000
DTEND;TZID=America/Sao_Paulo:20260304T083000
DTSTAMP:20260423T201444
CREATED:20260220T192420Z
LAST-MODIFIED:20260302T140708Z
UID:10017216-1772607600-1772613000@meditario.org.br
SUMMARY:Caminho Rápido ao Grande Êxtase
DESCRIPTION:
URL:https://meditario.org.br/evento/caminho-rapido-ao-grande-extase-9-2-2-3-2/2026-03-04/
LOCATION:CMK Rio de Janeiro\, Rua Conde de Irajá\, 604 – Botafogo\, Rio de Janeiro\, Rio de Janeiro\, 22271-020\, Brasil
CATEGORIES:Preces
ATTACH;FMTTYPE=image/jpeg:https://meditario.org.br/wp-content/uploads/2024/11/caminho-rapido.jpg
END:VEVENT
BEGIN:VEVENT
DTSTART;TZID=America/Sao_Paulo:20260304T090000
DTEND;TZID=America/Sao_Paulo:20260304T093000
DTSTAMP:20260423T201444
CREATED:20260220T192944Z
LAST-MODIFIED:20260220T193036Z
UID:10017155-1772614800-1772616600@meditario.org.br
SUMMARY:A Confissão Bodhisattva das Quedas Morais
DESCRIPTION:
URL:https://meditario.org.br/evento/a-confissao-bodhisattva-das-quedas-morais-6-2-2-2-2/2026-03-04/
LOCATION:CMK Rio de Janeiro\, Rua Conde de Irajá\, 604 – Botafogo\, Rio de Janeiro\, Rio de Janeiro\, 22271-020\, Brasil
CATEGORIES:Preces
ATTACH;FMTTYPE=image/jpeg:https://meditario.org.br/wp-content/uploads/2024/11/Sutra-mahayana.jpg
END:VEVENT
BEGIN:VEVENT
DTSTART;TZID=America/Sao_Paulo:20260304T123000
DTEND;TZID=America/Sao_Paulo:20260304T130000
DTSTAMP:20260423T201444
CREATED:20260220T193521Z
LAST-MODIFIED:20260220T193555Z
UID:10017175-1772627400-1772629200@meditario.org.br
SUMMARY:Meditação na Hora do Almoço
DESCRIPTION:
URL:https://meditario.org.br/evento/meditacao-na-hora-do-almoco-5-2-2-2-2/2026-03-04/
LOCATION:CMK Rio de Janeiro\, Rua Conde de Irajá\, 604 – Botafogo\, Rio de Janeiro\, Rio de Janeiro\, 22271-020\, Brasil
CATEGORIES:Meditação na Hora do Almoço
ATTACH;FMTTYPE=image/jpeg:https://meditario.org.br/wp-content/uploads/2024/11/medita-em-30.jpg
END:VEVENT
BEGIN:VEVENT
DTSTART;TZID=America/Sao_Paulo:20260304T170000
DTEND;TZID=America/Sao_Paulo:20260304T183000
DTSTAMP:20260423T201444
CREATED:20260220T185437Z
LAST-MODIFIED:20260302T141013Z
UID:10017106-1772643600-1772649000@meditario.org.br
SUMMARY:Joia-que-Satisfaz-os-Desejos ou Joia-Coração
DESCRIPTION:
URL:https://meditario.org.br/evento/joia-que-satisfaz-os-desejos-ou-joia-coracao-28-2-2-2/2026-03-04/
LOCATION:CMK Rio de Janeiro\, Rua Conde de Irajá\, 604 – Botafogo\, Rio de Janeiro\, Rio de Janeiro\, 22271-020\, Brasil
CATEGORIES:Preces
ATTACH;FMTTYPE=image/jpeg:https://meditario.org.br/wp-content/uploads/2024/11/JSD-e-JC.jpg
END:VEVENT
BEGIN:VEVENT
DTSTART;TZID=America/Sao_Paulo:20260304T183000
DTEND;TZID=America/Sao_Paulo:20260304T190000
DTSTAMP:20260423T201444
CREATED:20260220T193724Z
LAST-MODIFIED:20260302T140554Z
UID:10017196-1772649000-1772650800@meditario.org.br
SUMMARY:Meditação Depois do Trabalho
DESCRIPTION:
URL:https://meditario.org.br/evento/meditacao-depois-do-trabalho-7-3-2-2-2/2026-03-04/
LOCATION:CMK Rio de Janeiro\, Rua Conde de Irajá\, 604 – Botafogo\, Rio de Janeiro\, Rio de Janeiro\, 22271-020\, Brasil
CATEGORIES:Meditação depois do trabalho
ATTACH;FMTTYPE=image/jpeg:https://meditario.org.br/wp-content/uploads/2024/11/medita-em-30.jpg
END:VEVENT
BEGIN:VEVENT
DTSTART;TZID=America/Sao_Paulo:20260304T193000
DTEND;TZID=America/Sao_Paulo:20260304T210000
DTSTAMP:20260423T201444
CREATED:20251217T040645Z
LAST-MODIFIED:20260123T144414Z
UID:10016976-1772652600-1772658000@meditario.org.br
SUMMARY:Aula com Meditação
DESCRIPTION:
URL:https://meditario.org.br/evento/aula-com-meditacao-73/
LOCATION:CMK Rio de Janeiro\, Rua Conde de Irajá\, 604 – Botafogo\, Rio de Janeiro\, Rio de Janeiro\, 22271-020\, Brasil
CATEGORIES:Aulas com Meditação,PGs de Quarta Outubro Novembro Dezembro
ATTACH;FMTTYPE=image/png:https://meditario.org.br/wp-content/uploads/2025/12/Captura-de-Tela-2025-12-17-as-01.04.26.png
END:VEVENT
BEGIN:VEVENT
DTSTART;TZID=America/Sao_Paulo:20260305T070000
DTEND;TZID=America/Sao_Paulo:20260305T083000
DTSTAMP:20260423T201444
CREATED:20260220T192420Z
LAST-MODIFIED:20260302T140708Z
UID:10017139-1772694000-1772699400@meditario.org.br
SUMMARY:Caminho Rápido ao Grande Êxtase
DESCRIPTION:
URL:https://meditario.org.br/evento/caminho-rapido-ao-grande-extase-9-2-2-3-2/2026-03-05/
LOCATION:CMK Rio de Janeiro\, Rua Conde de Irajá\, 604 – Botafogo\, Rio de Janeiro\, Rio de Janeiro\, 22271-020\, Brasil
CATEGORIES:Preces
ATTACH;FMTTYPE=image/jpeg:https://meditario.org.br/wp-content/uploads/2024/11/caminho-rapido.jpg
END:VEVENT
BEGIN:VEVENT
DTSTART;TZID=America/Sao_Paulo:20260305T090000
DTEND;TZID=America/Sao_Paulo:20260305T093000
DTSTAMP:20260423T201444
CREATED:20260220T192944Z
LAST-MODIFIED:20260220T193036Z
UID:10017156-1772701200-1772703000@meditario.org.br
SUMMARY:A Confissão Bodhisattva das Quedas Morais
DESCRIPTION:
URL:https://meditario.org.br/evento/a-confissao-bodhisattva-das-quedas-morais-6-2-2-2-2/2026-03-05/
LOCATION:CMK Rio de Janeiro\, Rua Conde de Irajá\, 604 – Botafogo\, Rio de Janeiro\, Rio de Janeiro\, 22271-020\, Brasil
CATEGORIES:Preces
ATTACH;FMTTYPE=image/jpeg:https://meditario.org.br/wp-content/uploads/2024/11/Sutra-mahayana.jpg
END:VEVENT
BEGIN:VEVENT
DTSTART;TZID=America/Sao_Paulo:20260305T123000
DTEND;TZID=America/Sao_Paulo:20260305T130000
DTSTAMP:20260423T201444
CREATED:20260220T193521Z
LAST-MODIFIED:20260220T193555Z
UID:10017176-1772713800-1772715600@meditario.org.br
SUMMARY:Meditação na Hora do Almoço
DESCRIPTION:
URL:https://meditario.org.br/evento/meditacao-na-hora-do-almoco-5-2-2-2-2/2026-03-05/
LOCATION:CMK Rio de Janeiro\, Rua Conde de Irajá\, 604 – Botafogo\, Rio de Janeiro\, Rio de Janeiro\, 22271-020\, Brasil
CATEGORIES:Meditação na Hora do Almoço
ATTACH;FMTTYPE=image/jpeg:https://meditario.org.br/wp-content/uploads/2024/11/medita-em-30.jpg
END:VEVENT
BEGIN:VEVENT
DTSTART;TZID=America/Sao_Paulo:20260305T170000
DTEND;TZID=America/Sao_Paulo:20260305T183000
DTSTAMP:20260423T201444
CREATED:20260220T185437Z
LAST-MODIFIED:20260302T141013Z
UID:10017107-1772730000-1772735400@meditario.org.br
SUMMARY:Joia-que-Satisfaz-os-Desejos ou Joia-Coração
DESCRIPTION:
URL:https://meditario.org.br/evento/joia-que-satisfaz-os-desejos-ou-joia-coracao-28-2-2-2/2026-03-05/
LOCATION:CMK Rio de Janeiro\, Rua Conde de Irajá\, 604 – Botafogo\, Rio de Janeiro\, Rio de Janeiro\, 22271-020\, Brasil
CATEGORIES:Preces
ATTACH;FMTTYPE=image/jpeg:https://meditario.org.br/wp-content/uploads/2024/11/JSD-e-JC.jpg
END:VEVENT
BEGIN:VEVENT
DTSTART;TZID=America/Sao_Paulo:20260305T183000
DTEND;TZID=America/Sao_Paulo:20260305T190000
DTSTAMP:20260423T201444
CREATED:20260220T193724Z
LAST-MODIFIED:20260302T140554Z
UID:10017197-1772735400-1772737200@meditario.org.br
SUMMARY:Meditação Depois do Trabalho
DESCRIPTION:
URL:https://meditario.org.br/evento/meditacao-depois-do-trabalho-7-3-2-2-2/2026-03-05/
LOCATION:CMK Rio de Janeiro\, Rua Conde de Irajá\, 604 – Botafogo\, Rio de Janeiro\, Rio de Janeiro\, 22271-020\, Brasil
CATEGORIES:Meditação depois do trabalho
ATTACH;FMTTYPE=image/jpeg:https://meditario.org.br/wp-content/uploads/2024/11/medita-em-30.jpg
END:VEVENT
BEGIN:VEVENT
DTSTART;TZID=America/Sao_Paulo:20260305T193000
DTEND;TZID=America/Sao_Paulo:20260305T213000
DTSTAMP:20260423T201444
CREATED:20260220T191628Z
LAST-MODIFIED:20260220T191708Z
UID:10017135-1772739000-1772746200@meditario.org.br
SUMMARY:Programa de Formação de Professores
DESCRIPTION:
URL:https://meditario.org.br/evento/programa-de-formacao-de-professores-5-2-2-3-2/2026-03-05/
LOCATION:CMK Rio de Janeiro\, Rua Conde de Irajá\, 604 – Botafogo\, Rio de Janeiro\, Rio de Janeiro\, 22271-020\, Brasil
CATEGORIES:Estudo Aprofundado
ATTACH;FMTTYPE=image/jpeg:https://meditario.org.br/wp-content/uploads/2024/11/pfp.jpg
END:VEVENT
BEGIN:VEVENT
DTSTART;TZID=America/Sao_Paulo:20260306T070000
DTEND;TZID=America/Sao_Paulo:20260306T083000
DTSTAMP:20260423T201444
CREATED:20260220T192420Z
LAST-MODIFIED:20260302T140708Z
UID:10017140-1772780400-1772785800@meditario.org.br
SUMMARY:Caminho Rápido ao Grande Êxtase
DESCRIPTION:
URL:https://meditario.org.br/evento/caminho-rapido-ao-grande-extase-9-2-2-3-2/2026-03-06/
LOCATION:CMK Rio de Janeiro\, Rua Conde de Irajá\, 604 – Botafogo\, Rio de Janeiro\, Rio de Janeiro\, 22271-020\, Brasil
CATEGORIES:Preces
ATTACH;FMTTYPE=image/jpeg:https://meditario.org.br/wp-content/uploads/2024/11/caminho-rapido.jpg
END:VEVENT
BEGIN:VEVENT
DTSTART;TZID=America/Sao_Paulo:20260306T090000
DTEND;TZID=America/Sao_Paulo:20260306T093000
DTSTAMP:20260423T201444
CREATED:20260220T192944Z
LAST-MODIFIED:20260220T193036Z
UID:10017157-1772787600-1772789400@meditario.org.br
SUMMARY:A Confissão Bodhisattva das Quedas Morais
DESCRIPTION:
URL:https://meditario.org.br/evento/a-confissao-bodhisattva-das-quedas-morais-6-2-2-2-2/2026-03-06/
LOCATION:CMK Rio de Janeiro\, Rua Conde de Irajá\, 604 – Botafogo\, Rio de Janeiro\, Rio de Janeiro\, 22271-020\, Brasil
CATEGORIES:Preces
ATTACH;FMTTYPE=image/jpeg:https://meditario.org.br/wp-content/uploads/2024/11/Sutra-mahayana.jpg
END:VEVENT
BEGIN:VEVENT
DTSTART;TZID=America/Sao_Paulo:20260306T123000
DTEND;TZID=America/Sao_Paulo:20260306T130000
DTSTAMP:20260423T201444
CREATED:20260220T193521Z
LAST-MODIFIED:20260220T193555Z
UID:10017177-1772800200-1772802000@meditario.org.br
SUMMARY:Meditação na Hora do Almoço
DESCRIPTION:
URL:https://meditario.org.br/evento/meditacao-na-hora-do-almoco-5-2-2-2-2/2026-03-06/
LOCATION:CMK Rio de Janeiro\, Rua Conde de Irajá\, 604 – Botafogo\, Rio de Janeiro\, Rio de Janeiro\, 22271-020\, Brasil
CATEGORIES:Meditação na Hora do Almoço
ATTACH;FMTTYPE=image/jpeg:https://meditario.org.br/wp-content/uploads/2024/11/medita-em-30.jpg
END:VEVENT
BEGIN:VEVENT
DTSTART;TZID=America/Sao_Paulo:20260306T190000
DTEND;TZID=America/Sao_Paulo:20260306T200000
DTSTAMP:20260423T201444
CREATED:20251212T213845Z
LAST-MODIFIED:20251212T213845Z
UID:10016947-1772823600-1772827200@meditario.org.br
SUMMARY:Filial Vila Velha: Joia Coração
DESCRIPTION:
URL:https://meditario.org.br/evento/filial-vila-velha-joia-coracao-13/
LOCATION:Marzen\, R. Vinícius Tôrres\, 635\, vila velha\, ES\, 29.100430\, Brazil
CATEGORIES:Preces Vila Velha
ATTACH;FMTTYPE=image/png:https://meditario.org.br/wp-content/uploads/2025/06/JC-Sympla-e-Site.png
END:VEVENT
BEGIN:VEVENT
DTSTART;TZID=America/Sao_Paulo:20260307T070000
DTEND;TZID=America/Sao_Paulo:20260307T080000
DTSTAMP:20260423T201444
CREATED:20260220T190344Z
LAST-MODIFIED:20260223T180924Z
UID:10016877-1772866800-1772870400@meditario.org.br
SUMMARY:Joia-Coração
DESCRIPTION:
URL:https://meditario.org.br/evento/joia-coracao-10-2-2/2026-03-07/
LOCATION:CMK Rio de Janeiro\, Rua Conde de Irajá\, 604 – Botafogo\, Rio de Janeiro\, Rio de Janeiro\, 22271-020\, Brasil
CATEGORIES:Preces
ATTACH;FMTTYPE=image/jpeg:https://meditario.org.br/wp-content/uploads/2024/11/JSD-e-JC.jpg
END:VEVENT
BEGIN:VEVENT
DTSTART;TZID=America/Sao_Paulo:20260307T100000
DTEND;TZID=America/Sao_Paulo:20260307T120000
DTSTAMP:20260423T201444
CREATED:20251212T201858Z
LAST-MODIFIED:20260220T191056Z
UID:10017132-1772877600-1772884800@meditario.org.br
SUMMARY:PF - Compaixão Universal
DESCRIPTION:
URL:https://meditario.org.br/evento/pf-caminho-alegre-da-boa-fortuna-6-2/2026-03-07/
LOCATION:CMK Rio de Janeiro\, Rua Conde de Irajá\, 604 – Botafogo\, Rio de Janeiro\, Rio de Janeiro\, 22271-020\, Brasil
CATEGORIES:Estudo Aprofundado
ATTACH;FMTTYPE=image/jpeg:https://meditario.org.br/wp-content/uploads/2025/07/pf-de-sabado.jpg
END:VEVENT
BEGIN:VEVENT
DTSTART;TZID=America/Sao_Paulo:20260307T100000
DTEND;TZID=America/Sao_Paulo:20260307T123000
DTSTAMP:20260423T201444
CREATED:20260131T134521Z
LAST-MODIFIED:20260223T124537Z
UID:10017079-1772877600-1772886600@meditario.org.br
SUMMARY:Mini Curso
DESCRIPTION:
URL:https://meditario.org.br/evento/mini-curso-5/
LOCATION:CMK Rio de Janeiro\, Rua Conde de Irajá\, 604 – Botafogo\, Rio de Janeiro\, Rio de Janeiro\, 22271-020\, Brasil
CATEGORIES:Atividades em Destaque,Atividades Especiais
ATTACH;FMTTYPE=image/jpeg:https://meditario.org.br/wp-content/uploads/2026/01/Site-2026-5.jpg
END:VEVENT
END:VCALENDAR