BEGIN:VCALENDAR
VERSION:2.0
PRODID:-//Centro de Meditação Kadampa Rio de Janeiro - ECPv6.15.20//NONSGML v1.0//EN
CALSCALE:GREGORIAN
METHOD:PUBLISH
X-WR-CALNAME:Centro de Meditação Kadampa Rio de Janeiro
X-ORIGINAL-URL:https://meditario.org.br
X-WR-CALDESC:Eventos para Centro de Meditação Kadampa Rio de Janeiro
REFRESH-INTERVAL;VALUE=DURATION:PT1H
X-Robots-Tag:noindex
X-PUBLISHED-TTL:PT1H
BEGIN:VTIMEZONE
TZID:America/Sao_Paulo
BEGIN:STANDARD
TZOFFSETFROM:-0300
TZOFFSETTO:-0300
TZNAME:-03
DTSTART:20250101T000000
END:STANDARD
END:VTIMEZONE
BEGIN:VEVENT
DTSTART;TZID=America/Sao_Paulo:20260429T180000
DTEND;TZID=America/Sao_Paulo:20260429T210000
DTSTAMP:20260423T202509
CREATED:20250220T203545Z
LAST-MODIFIED:20260316T183031Z
UID:10009532-1777485600-1777496400@meditario.org.br
SUMMARY:Melodioso Tambor Vitorioso em Todas as Direções
DESCRIPTION:
URL:https://meditario.org.br/evento/melodioso-tambor-vitorioso-em-todas-as-direcoes-2-2/
CATEGORIES:Preces
ATTACH;FMTTYPE=image/jpeg:https://meditario.org.br/wp-content/uploads/2024/11/Kangso.jpg
END:VEVENT
BEGIN:VEVENT
DTSTART;TZID=America/Sao_Paulo:20260529T180000
DTEND;TZID=America/Sao_Paulo:20260529T210000
DTSTAMP:20260423T202509
CREATED:20260220T184515Z
LAST-MODIFIED:20260415T172231Z
UID:10016988-1780077600-1780088400@meditario.org.br
SUMMARY:Melodioso Tambor Vitorioso em Todas as Direções
DESCRIPTION:
URL:https://meditario.org.br/evento/melodioso-tambor-vitorioso-em-todas-as-direcoes/
CATEGORIES:Preces
ATTACH;FMTTYPE=image/jpeg:https://meditario.org.br/wp-content/uploads/2024/11/Kangso.jpg
END:VEVENT
END:VCALENDAR