BEGIN:VCALENDAR
VERSION:2.0
PRODID:-//Centro de Meditação Kadampa Rio de Janeiro - ECPv6.15.20//NONSGML v1.0//EN
CALSCALE:GREGORIAN
METHOD:PUBLISH
X-ORIGINAL-URL:https://meditario.org.br
X-WR-CALDESC:Eventos para Centro de Meditação Kadampa Rio de Janeiro
REFRESH-INTERVAL;VALUE=DURATION:PT1H
X-Robots-Tag:noindex
X-PUBLISHED-TTL:PT1H
BEGIN:VTIMEZONE
TZID:America/Sao_Paulo
BEGIN:STANDARD
TZOFFSETFROM:-0300
TZOFFSETTO:-0300
TZNAME:-03
DTSTART:20250101T000000
END:STANDARD
END:VTIMEZONE
BEGIN:VEVENT
DTSTART;TZID=America/Sao_Paulo:20260409T123000
DTEND;TZID=America/Sao_Paulo:20260409T130000
DTSTAMP:20260423T202643
CREATED:20260316T185308Z
LAST-MODIFIED:20260316T185512Z
UID:10017276-1775737800-1775739600@meditario.org.br
SUMMARY:Meditação na hora do almoço
DESCRIPTION:
URL:https://meditario.org.br/evento/meditacao-na-hora-do-almoco-2-2-2-2-2-2/2026-04-09/
LOCATION:CMK Rio de Janeiro\, Rua Conde de Irajá\, 604 – Botafogo\, Rio de Janeiro\, Rio de Janeiro\, 22271-020\, Brasil
CATEGORIES:Meditação na Hora do Almoço,Meditações Guiadas
ATTACH;FMTTYPE=image/jpeg:https://meditario.org.br/wp-content/uploads/2025/01/site-e-sympla-2025-5.jpg
END:VEVENT
BEGIN:VEVENT
DTSTART;TZID=America/Sao_Paulo:20260409T090000
DTEND;TZID=America/Sao_Paulo:20260409T093000
DTSTAMP:20260423T202643
CREATED:20260316T184942Z
LAST-MODIFIED:20260327T145820Z
UID:10017266-1775725200-1775727000@meditario.org.br
SUMMARY:A Confissão Bodhisattva das Quedas Morais
DESCRIPTION:
URL:https://meditario.org.br/evento/a-confissao-bodhisattva-das-quedas-morais-5-2-2-2-2-2/2026-04-09/
LOCATION:CMK Rio de Janeiro\, Rua Conde de Irajá\, 604 – Botafogo\, Rio de Janeiro\, Rio de Janeiro\, 22271-020\, Brasil
CATEGORIES:Preces
ATTACH;FMTTYPE=image/jpeg:https://meditario.org.br/wp-content/uploads/2024/11/Sutra-mahayana.jpg
END:VEVENT
BEGIN:VEVENT
DTSTART;TZID=America/Sao_Paulo:20260409T070000
DTEND;TZID=America/Sao_Paulo:20260409T083000
DTSTAMP:20260423T202643
CREATED:20260316T190517Z
LAST-MODIFIED:20260324T183556Z
UID:10017299-1775718000-1775723400@meditario.org.br
SUMMARY:Caminho Rápido ao Grande Êxtase
DESCRIPTION:
URL:https://meditario.org.br/evento/caminho-rapido-ao-grande-extase-9-2-2-2-2-2/2026-04-09/
LOCATION:CMK Rio de Janeiro\, Rua Conde de Irajá\, 604 – Botafogo\, Rio de Janeiro\, Rio de Janeiro\, 22271-020\, Brasil
CATEGORIES:Preces
ATTACH;FMTTYPE=image/jpeg:https://meditario.org.br/wp-content/uploads/2024/11/caminho-rapido.jpg
END:VEVENT
BEGIN:VEVENT
DTSTART;TZID=America/Sao_Paulo:20260408T193000
DTEND;TZID=America/Sao_Paulo:20260408T210000
DTSTAMP:20260423T202643
CREATED:20250602T140846Z
LAST-MODIFIED:20260316T185231Z
UID:10015116-1775676600-1775682000@meditario.org.br
SUMMARY:Libertação da Dor - Preces para Tara Verde
DESCRIPTION:
URL:https://meditario.org.br/evento/aula-pela-paz-com-tara-verde/
LOCATION:CMK Rio de Janeiro\, Rua Conde de Irajá\, 604 – Botafogo\, Rio de Janeiro\, Rio de Janeiro\, 22271-020\, Brasil
CATEGORIES:Preces
ATTACH;FMTTYPE=image/jpeg:https://meditario.org.br/wp-content/uploads/2024/11/Libertacao-da-dor.jpg
END:VEVENT
BEGIN:VEVENT
DTSTART;TZID=America/Sao_Paulo:20260408T183000
DTEND;TZID=America/Sao_Paulo:20260408T190000
DTSTAMP:20260423T202643
CREATED:20260316T185549Z
LAST-MODIFIED:20260316T185758Z
UID:10017287-1775673000-1775674800@meditario.org.br
SUMMARY:Meditação Depois do Trabalho
DESCRIPTION:
URL:https://meditario.org.br/evento/meditacao-depois-do-trabalho-7-3-2-3-2/2026-04-08/
LOCATION:CMK Rio de Janeiro\, Rua Conde de Irajá\, 604 – Botafogo\, Rio de Janeiro\, Rio de Janeiro\, 22271-020\, Brasil
CATEGORIES:Meditação depois do trabalho
ATTACH;FMTTYPE=image/jpeg:https://meditario.org.br/wp-content/uploads/2024/11/medita-em-30.jpg
END:VEVENT
BEGIN:VEVENT
DTSTART;TZID=America/Sao_Paulo:20260408T170000
DTEND;TZID=America/Sao_Paulo:20260408T183000
DTSTAMP:20260423T202643
CREATED:20260316T183343Z
LAST-MODIFIED:20260316T194002Z
UID:10017250-1775667600-1775673000@meditario.org.br
SUMMARY:Joia-que-Satisfaz-os-Desejos ou Joia-Coração
DESCRIPTION:
URL:https://meditario.org.br/evento/joia-que-satisfaz-os-desejos-ou-joia-coracao-28-2-3-2/2026-04-08/
LOCATION:CMK Rio de Janeiro\, Rua Conde de Irajá\, 604 – Botafogo\, Rio de Janeiro\, Rio de Janeiro\, 22271-020\, Brasil
CATEGORIES:Preces
ATTACH;FMTTYPE=image/jpeg:https://meditario.org.br/wp-content/uploads/2024/11/JSD-e-JC.jpg
END:VEVENT
BEGIN:VEVENT
DTSTART;TZID=America/Sao_Paulo:20260408T123000
DTEND;TZID=America/Sao_Paulo:20260408T130000
DTSTAMP:20260423T202643
CREATED:20260316T185308Z
LAST-MODIFIED:20260316T185512Z
UID:10017275-1775651400-1775653200@meditario.org.br
SUMMARY:Meditação na hora do almoço
DESCRIPTION:
URL:https://meditario.org.br/evento/meditacao-na-hora-do-almoco-2-2-2-2-2-2/2026-04-08/
LOCATION:CMK Rio de Janeiro\, Rua Conde de Irajá\, 604 – Botafogo\, Rio de Janeiro\, Rio de Janeiro\, 22271-020\, Brasil
CATEGORIES:Meditação na Hora do Almoço,Meditações Guiadas
ATTACH;FMTTYPE=image/jpeg:https://meditario.org.br/wp-content/uploads/2025/01/site-e-sympla-2025-5.jpg
END:VEVENT
BEGIN:VEVENT
DTSTART;TZID=America/Sao_Paulo:20260408T090000
DTEND;TZID=America/Sao_Paulo:20260408T093000
DTSTAMP:20260423T202643
CREATED:20260316T184942Z
LAST-MODIFIED:20260327T145820Z
UID:10017332-1775638800-1775640600@meditario.org.br
SUMMARY:A Confissão Bodhisattva das Quedas Morais
DESCRIPTION:
URL:https://meditario.org.br/evento/a-confissao-bodhisattva-das-quedas-morais-5-2-2-2-2-2/2026-04-08/
LOCATION:CMK Rio de Janeiro\, Rua Conde de Irajá\, 604 – Botafogo\, Rio de Janeiro\, Rio de Janeiro\, 22271-020\, Brasil
CATEGORIES:Preces
ATTACH;FMTTYPE=image/jpeg:https://meditario.org.br/wp-content/uploads/2024/11/Sutra-mahayana.jpg
END:VEVENT
BEGIN:VEVENT
DTSTART;TZID=America/Sao_Paulo:20260407T193000
DTEND;TZID=America/Sao_Paulo:20260407T213000
DTSTAMP:20260423T202643
CREATED:20260116T212742Z
LAST-MODIFIED:20260316T184631Z
UID:10017262-1775590200-1775597400@meditario.org.br
SUMMARY:PF - Novo Oito Passos para a Felicidade
DESCRIPTION:
URL:https://meditario.org.br/evento/pf-novo-oito-passos-para-a-felicidade-6-2-2-3/2026-04-07/
LOCATION:CMK Rio de Janeiro\, Rua Conde de Irajá\, 604 – Botafogo\, Rio de Janeiro\, Rio de Janeiro\, 22271-020\, Brasil
CATEGORIES:Estudo Aprofundado
ATTACH;FMTTYPE=image/jpeg:https://meditario.org.br/wp-content/uploads/2024/11/pf-noppf.jpg
END:VEVENT
BEGIN:VEVENT
DTSTART;TZID=America/Sao_Paulo:20260407T183000
DTEND;TZID=America/Sao_Paulo:20260407T190000
DTSTAMP:20260423T202643
CREATED:20260316T185549Z
LAST-MODIFIED:20260316T185758Z
UID:10017286-1775586600-1775588400@meditario.org.br
SUMMARY:Meditação Depois do Trabalho
DESCRIPTION:
URL:https://meditario.org.br/evento/meditacao-depois-do-trabalho-7-3-2-3-2/2026-04-07/
LOCATION:CMK Rio de Janeiro\, Rua Conde de Irajá\, 604 – Botafogo\, Rio de Janeiro\, Rio de Janeiro\, 22271-020\, Brasil
CATEGORIES:Meditação depois do trabalho
ATTACH;FMTTYPE=image/jpeg:https://meditario.org.br/wp-content/uploads/2024/11/medita-em-30.jpg
END:VEVENT
BEGIN:VEVENT
DTSTART;TZID=America/Sao_Paulo:20260407T170000
DTEND;TZID=America/Sao_Paulo:20260407T183000
DTSTAMP:20260423T202643
CREATED:20260316T183343Z
LAST-MODIFIED:20260316T194002Z
UID:10017249-1775581200-1775586600@meditario.org.br
SUMMARY:Joia-que-Satisfaz-os-Desejos ou Joia-Coração
DESCRIPTION:
URL:https://meditario.org.br/evento/joia-que-satisfaz-os-desejos-ou-joia-coracao-28-2-3-2/2026-04-07/
LOCATION:CMK Rio de Janeiro\, Rua Conde de Irajá\, 604 – Botafogo\, Rio de Janeiro\, Rio de Janeiro\, 22271-020\, Brasil
CATEGORIES:Preces
ATTACH;FMTTYPE=image/jpeg:https://meditario.org.br/wp-content/uploads/2024/11/JSD-e-JC.jpg
END:VEVENT
BEGIN:VEVENT
DTSTART;TZID=America/Sao_Paulo:20260407T123000
DTEND;TZID=America/Sao_Paulo:20260407T130000
DTSTAMP:20260423T202643
CREATED:20260316T185308Z
LAST-MODIFIED:20260316T185512Z
UID:10017274-1775565000-1775566800@meditario.org.br
SUMMARY:Meditação na hora do almoço
DESCRIPTION:
URL:https://meditario.org.br/evento/meditacao-na-hora-do-almoco-2-2-2-2-2-2/2026-04-07/
LOCATION:CMK Rio de Janeiro\, Rua Conde de Irajá\, 604 – Botafogo\, Rio de Janeiro\, Rio de Janeiro\, 22271-020\, Brasil
CATEGORIES:Meditação na Hora do Almoço,Meditações Guiadas
ATTACH;FMTTYPE=image/jpeg:https://meditario.org.br/wp-content/uploads/2025/01/site-e-sympla-2025-5.jpg
END:VEVENT
BEGIN:VEVENT
DTSTART;TZID=America/Sao_Paulo:20260407T104500
DTEND;TZID=America/Sao_Paulo:20260407T120000
DTSTAMP:20260423T202643
CREATED:20260312T132321Z
LAST-MODIFIED:20260312T132321Z
UID:10017229-1775558700-1775563200@meditario.org.br
SUMMARY:Aulas com Meditação
DESCRIPTION:
URL:https://meditario.org.br/evento/aulas-com-meditacao-12/
LOCATION:CMK Rio de Janeiro\, Rua Conde de Irajá\, 604 – Botafogo\, Rio de Janeiro\, Rio de Janeiro\, 22271-020\, Brasil
CATEGORIES:Aulas com Meditação,Pgs de terca manha fevereiro marco
ATTACH;FMTTYPE=image/png:https://meditario.org.br/wp-content/uploads/2026/03/Captura-de-Tela-2026-03-12-as-20.20.58.png
END:VEVENT
BEGIN:VEVENT
DTSTART;TZID=America/Sao_Paulo:20260407T104500
DTEND;TZID=America/Sao_Paulo:20260407T120000
DTSTAMP:20260423T202643
CREATED:20260208T155653Z
LAST-MODIFIED:20260208T155653Z
UID:10017084-1775558700-1775563200@meditario.org.br
SUMMARY:Aula com Meditação
DESCRIPTION:
URL:https://meditario.org.br/evento/aula-com-meditacao-81/
LOCATION:CMK Rio de Janeiro\, Rua Conde de Irajá\, 604 – Botafogo\, Rio de Janeiro\, Rio de Janeiro\, 22271-020\, Brasil
CATEGORIES:Aulas com Meditação,PG de Terca Manhã Abril 2026
END:VEVENT
BEGIN:VEVENT
DTSTART;TZID=America/Sao_Paulo:20260407T090000
DTEND;TZID=America/Sao_Paulo:20260407T093000
DTSTAMP:20260423T202643
CREATED:20260316T184942Z
LAST-MODIFIED:20260327T145820Z
UID:10017265-1775552400-1775554200@meditario.org.br
SUMMARY:A Confissão Bodhisattva das Quedas Morais
DESCRIPTION:
URL:https://meditario.org.br/evento/a-confissao-bodhisattva-das-quedas-morais-5-2-2-2-2-2/2026-04-07/
LOCATION:CMK Rio de Janeiro\, Rua Conde de Irajá\, 604 – Botafogo\, Rio de Janeiro\, Rio de Janeiro\, 22271-020\, Brasil
CATEGORIES:Preces
ATTACH;FMTTYPE=image/jpeg:https://meditario.org.br/wp-content/uploads/2024/11/Sutra-mahayana.jpg
END:VEVENT
BEGIN:VEVENT
DTSTART;TZID=America/Sao_Paulo:20260407T070000
DTEND;TZID=America/Sao_Paulo:20260407T083000
DTSTAMP:20260423T202643
CREATED:20260316T190517Z
LAST-MODIFIED:20260324T183556Z
UID:10017298-1775545200-1775550600@meditario.org.br
SUMMARY:Caminho Rápido ao Grande Êxtase
DESCRIPTION:
URL:https://meditario.org.br/evento/caminho-rapido-ao-grande-extase-9-2-2-2-2-2/2026-04-07/
LOCATION:CMK Rio de Janeiro\, Rua Conde de Irajá\, 604 – Botafogo\, Rio de Janeiro\, Rio de Janeiro\, 22271-020\, Brasil
CATEGORIES:Preces
ATTACH;FMTTYPE=image/jpeg:https://meditario.org.br/wp-content/uploads/2024/11/caminho-rapido.jpg
END:VEVENT
BEGIN:VEVENT
DTSTART;TZID=America/Sao_Paulo:20260406T183000
DTEND;TZID=America/Sao_Paulo:20260406T190000
DTSTAMP:20260423T202643
CREATED:20260316T185549Z
LAST-MODIFIED:20260316T185758Z
UID:10017285-1775500200-1775502000@meditario.org.br
SUMMARY:Meditação Depois do Trabalho
DESCRIPTION:
URL:https://meditario.org.br/evento/meditacao-depois-do-trabalho-7-3-2-3-2/2026-04-06/
LOCATION:CMK Rio de Janeiro\, Rua Conde de Irajá\, 604 – Botafogo\, Rio de Janeiro\, Rio de Janeiro\, 22271-020\, Brasil
CATEGORIES:Meditação depois do trabalho
ATTACH;FMTTYPE=image/jpeg:https://meditario.org.br/wp-content/uploads/2024/11/medita-em-30.jpg
END:VEVENT
BEGIN:VEVENT
DTSTART;TZID=America/Sao_Paulo:20260406T170000
DTEND;TZID=America/Sao_Paulo:20260406T183000
DTSTAMP:20260423T202643
CREATED:20260316T183343Z
LAST-MODIFIED:20260316T194002Z
UID:10017248-1775494800-1775500200@meditario.org.br
SUMMARY:Joia-que-Satisfaz-os-Desejos ou Joia-Coração
DESCRIPTION:
URL:https://meditario.org.br/evento/joia-que-satisfaz-os-desejos-ou-joia-coracao-28-2-3-2/2026-04-06/
LOCATION:CMK Rio de Janeiro\, Rua Conde de Irajá\, 604 – Botafogo\, Rio de Janeiro\, Rio de Janeiro\, 22271-020\, Brasil
CATEGORIES:Preces
ATTACH;FMTTYPE=image/jpeg:https://meditario.org.br/wp-content/uploads/2024/11/JSD-e-JC.jpg
END:VEVENT
BEGIN:VEVENT
DTSTART;TZID=America/Sao_Paulo:20260406T123000
DTEND;TZID=America/Sao_Paulo:20260406T130000
DTSTAMP:20260423T202643
CREATED:20260316T185308Z
LAST-MODIFIED:20260316T185512Z
UID:10017273-1775478600-1775480400@meditario.org.br
SUMMARY:Meditação na hora do almoço
DESCRIPTION:
URL:https://meditario.org.br/evento/meditacao-na-hora-do-almoco-2-2-2-2-2-2/2026-04-06/
LOCATION:CMK Rio de Janeiro\, Rua Conde de Irajá\, 604 – Botafogo\, Rio de Janeiro\, Rio de Janeiro\, 22271-020\, Brasil
CATEGORIES:Meditação na Hora do Almoço,Meditações Guiadas
ATTACH;FMTTYPE=image/jpeg:https://meditario.org.br/wp-content/uploads/2025/01/site-e-sympla-2025-5.jpg
END:VEVENT
BEGIN:VEVENT
DTSTART;TZID=America/Sao_Paulo:20260406T090000
DTEND;TZID=America/Sao_Paulo:20260406T093000
DTSTAMP:20260423T202643
CREATED:20260316T184942Z
LAST-MODIFIED:20260327T145820Z
UID:10017264-1775466000-1775467800@meditario.org.br
SUMMARY:A Confissão Bodhisattva das Quedas Morais
DESCRIPTION:
URL:https://meditario.org.br/evento/a-confissao-bodhisattva-das-quedas-morais-5-2-2-2-2-2/2026-04-06/
LOCATION:CMK Rio de Janeiro\, Rua Conde de Irajá\, 604 – Botafogo\, Rio de Janeiro\, Rio de Janeiro\, 22271-020\, Brasil
CATEGORIES:Preces
ATTACH;FMTTYPE=image/jpeg:https://meditario.org.br/wp-content/uploads/2024/11/Sutra-mahayana.jpg
END:VEVENT
BEGIN:VEVENT
DTSTART;TZID=America/Sao_Paulo:20260406T070000
DTEND;TZID=America/Sao_Paulo:20260406T083000
DTSTAMP:20260423T202643
CREATED:20260316T190517Z
LAST-MODIFIED:20260324T183556Z
UID:10017297-1775458800-1775464200@meditario.org.br
SUMMARY:Caminho Rápido ao Grande Êxtase
DESCRIPTION:
URL:https://meditario.org.br/evento/caminho-rapido-ao-grande-extase-9-2-2-2-2-2/2026-04-06/
LOCATION:CMK Rio de Janeiro\, Rua Conde de Irajá\, 604 – Botafogo\, Rio de Janeiro\, Rio de Janeiro\, 22271-020\, Brasil
CATEGORIES:Preces
ATTACH;FMTTYPE=image/jpeg:https://meditario.org.br/wp-content/uploads/2024/11/caminho-rapido.jpg
END:VEVENT
BEGIN:VEVENT
DTSTART;TZID=America/Sao_Paulo:20260404T190000
DTEND;TZID=America/Sao_Paulo:20260404T200000
DTSTAMP:20260423T202643
CREATED:20260316T193106Z
LAST-MODIFIED:20260316T193350Z
UID:10015841-1775329200-1775332800@meditario.org.br
SUMMARY:Joia-Coração
DESCRIPTION:
URL:https://meditario.org.br/evento/joia-coracao-9-2-2/2026-04-04/
LOCATION:CMK Rio de Janeiro\, Rua Conde de Irajá\, 604 – Botafogo\, Rio de Janeiro\, Rio de Janeiro\, 22271-020\, Brasil
CATEGORIES:Preces
ATTACH;FMTTYPE=image/jpeg:https://meditario.org.br/wp-content/uploads/2024/11/JSD-e-JC.jpg
END:VEVENT
BEGIN:VEVENT
DTSTART;TZID=America/Sao_Paulo:20260403T193000
DTEND;TZID=America/Sao_Paulo:20260403T210000
DTSTAMP:20260423T202643
CREATED:20260316T183649Z
LAST-MODIFIED:20260316T194244Z
UID:10016874-1775244600-1775250000@meditario.org.br
SUMMARY:Joia-que-Satisfaz-os-Desejos com Tsog
DESCRIPTION:
URL:https://meditario.org.br/evento/joia-que-satisfaz-os-desejos-ou-joia-coracao-26-2-3/2026-04-03/
LOCATION:CMK Rio de Janeiro\, Rua Conde de Irajá\, 604 – Botafogo\, Rio de Janeiro\, Rio de Janeiro\, 22271-020\, Brasil
CATEGORIES:Preces
ATTACH;FMTTYPE=image/jpeg:https://meditario.org.br/wp-content/uploads/2024/11/JSD-e-JC.jpg
END:VEVENT
BEGIN:VEVENT
DTSTART;TZID=America/Sao_Paulo:20260403T100000
DTEND;TZID=America/Sao_Paulo:20260405T203000
DTSTAMP:20260423T202643
CREATED:20260216T233331Z
LAST-MODIFIED:20260324T153014Z
UID:10017097-1775210400-1775421000@meditario.org.br
SUMMARY:Retiro Urbano na Páscoa
DESCRIPTION:
URL:https://meditario.org.br/evento/retiro-urbano-na-pascoa/
LOCATION:CMK Rio de Janeiro\, Rua Conde de Irajá\, 604 – Botafogo\, Rio de Janeiro\, Rio de Janeiro\, 22271-020\, Brasil
CATEGORIES:Atividades em Destaque,Atividades Especiais,Retiros
ATTACH;FMTTYPE=image/png:https://meditario.org.br/wp-content/uploads/2026/02/Captura-de-Tela-2026-02-16-as-20.32.11.png
END:VEVENT
BEGIN:VEVENT
DTSTART;TZID=America/Sao_Paulo:20260402T183000
DTEND;TZID=America/Sao_Paulo:20260402T190000
DTSTAMP:20260423T202643
CREATED:20260316T185549Z
LAST-MODIFIED:20260316T185758Z
UID:10017284-1775154600-1775156400@meditario.org.br
SUMMARY:Meditação Depois do Trabalho
DESCRIPTION:
URL:https://meditario.org.br/evento/meditacao-depois-do-trabalho-7-3-2-3-2/2026-04-02/
LOCATION:CMK Rio de Janeiro\, Rua Conde de Irajá\, 604 – Botafogo\, Rio de Janeiro\, Rio de Janeiro\, 22271-020\, Brasil
CATEGORIES:Meditação depois do trabalho
ATTACH;FMTTYPE=image/jpeg:https://meditario.org.br/wp-content/uploads/2024/11/medita-em-30.jpg
END:VEVENT
BEGIN:VEVENT
DTSTART;TZID=America/Sao_Paulo:20260402T170000
DTEND;TZID=America/Sao_Paulo:20260402T183000
DTSTAMP:20260423T202643
CREATED:20260316T183343Z
LAST-MODIFIED:20260316T194002Z
UID:10017247-1775149200-1775154600@meditario.org.br
SUMMARY:Joia-que-Satisfaz-os-Desejos ou Joia-Coração
DESCRIPTION:
URL:https://meditario.org.br/evento/joia-que-satisfaz-os-desejos-ou-joia-coracao-28-2-3-2/2026-04-02/
LOCATION:CMK Rio de Janeiro\, Rua Conde de Irajá\, 604 – Botafogo\, Rio de Janeiro\, Rio de Janeiro\, 22271-020\, Brasil
CATEGORIES:Preces
ATTACH;FMTTYPE=image/jpeg:https://meditario.org.br/wp-content/uploads/2024/11/JSD-e-JC.jpg
END:VEVENT
BEGIN:VEVENT
DTSTART;TZID=America/Sao_Paulo:20260402T123000
DTEND;TZID=America/Sao_Paulo:20260402T130000
DTSTAMP:20260423T202643
CREATED:20260316T185308Z
LAST-MODIFIED:20260316T185512Z
UID:10017272-1775133000-1775134800@meditario.org.br
SUMMARY:Meditação na hora do almoço
DESCRIPTION:
URL:https://meditario.org.br/evento/meditacao-na-hora-do-almoco-2-2-2-2-2-2/2026-04-02/
LOCATION:CMK Rio de Janeiro\, Rua Conde de Irajá\, 604 – Botafogo\, Rio de Janeiro\, Rio de Janeiro\, 22271-020\, Brasil
CATEGORIES:Meditação na Hora do Almoço,Meditações Guiadas
ATTACH;FMTTYPE=image/jpeg:https://meditario.org.br/wp-content/uploads/2025/01/site-e-sympla-2025-5.jpg
END:VEVENT
BEGIN:VEVENT
DTSTART;TZID=America/Sao_Paulo:20260402T090000
DTEND;TZID=America/Sao_Paulo:20260402T093000
DTSTAMP:20260423T202643
CREATED:20260316T184942Z
LAST-MODIFIED:20260327T145820Z
UID:10017047-1775120400-1775122200@meditario.org.br
SUMMARY:A Confissão Bodhisattva das Quedas Morais
DESCRIPTION:
URL:https://meditario.org.br/evento/a-confissao-bodhisattva-das-quedas-morais-5-2-2-2-2-2/2026-04-02/
LOCATION:CMK Rio de Janeiro\, Rua Conde de Irajá\, 604 – Botafogo\, Rio de Janeiro\, Rio de Janeiro\, 22271-020\, Brasil
CATEGORIES:Preces
ATTACH;FMTTYPE=image/jpeg:https://meditario.org.br/wp-content/uploads/2024/11/Sutra-mahayana.jpg
END:VEVENT
BEGIN:VEVENT
DTSTART;TZID=America/Sao_Paulo:20260402T070000
DTEND;TZID=America/Sao_Paulo:20260402T083000
DTSTAMP:20260423T202643
CREATED:20260316T190517Z
LAST-MODIFIED:20260324T183556Z
UID:10017030-1775113200-1775118600@meditario.org.br
SUMMARY:Caminho Rápido ao Grande Êxtase
DESCRIPTION:
URL:https://meditario.org.br/evento/caminho-rapido-ao-grande-extase-9-2-2-2-2-2/2026-04-02/
LOCATION:CMK Rio de Janeiro\, Rua Conde de Irajá\, 604 – Botafogo\, Rio de Janeiro\, Rio de Janeiro\, 22271-020\, Brasil
CATEGORIES:Preces
ATTACH;FMTTYPE=image/jpeg:https://meditario.org.br/wp-content/uploads/2024/11/caminho-rapido.jpg
END:VEVENT
BEGIN:VEVENT
DTSTART;TZID=America/Sao_Paulo:20260401T193000
DTEND;TZID=America/Sao_Paulo:20260401T210000
DTSTAMP:20260423T202643
CREATED:20260209T135821Z
LAST-MODIFIED:20260209T135847Z
UID:10017093-1775071800-1775077200@meditario.org.br
SUMMARY:Aula com Meditação
DESCRIPTION:
URL:https://meditario.org.br/evento/aula-com-meditacao-87/
LOCATION:CMK Rio de Janeiro\, Rua Conde de Irajá\, 604 – Botafogo\, Rio de Janeiro\, Rio de Janeiro\, 22271-020\, Brasil
CATEGORIES:Aulas com Meditação,PGs de Quarta Outubro Novembro Dezembro
ATTACH;FMTTYPE=image/png:https://meditario.org.br/wp-content/uploads/2026/02/Captura-de-Tela-2026-02-09-as-10.52.11.png
END:VEVENT
END:VCALENDAR