BEGIN:VCALENDAR
VERSION:2.0
PRODID:-//Centro de Meditação Kadampa Rio de Janeiro - ECPv6.15.20//NONSGML v1.0//EN
CALSCALE:GREGORIAN
METHOD:PUBLISH
X-ORIGINAL-URL:https://meditario.org.br
X-WR-CALDESC:Eventos para Centro de Meditação Kadampa Rio de Janeiro
REFRESH-INTERVAL;VALUE=DURATION:PT1H
X-Robots-Tag:noindex
X-PUBLISHED-TTL:PT1H
BEGIN:VTIMEZONE
TZID:America/Sao_Paulo
BEGIN:STANDARD
TZOFFSETFROM:-0300
TZOFFSETTO:-0300
TZNAME:-03
DTSTART:20250101T000000
END:STANDARD
END:VTIMEZONE
BEGIN:VEVENT
DTSTART;TZID=America/Sao_Paulo:20260116T193000
DTEND;TZID=America/Sao_Paulo:20260116T204500
DTSTAMP:20260424T063436
CREATED:20251210T135939Z
LAST-MODIFIED:20260109T181338Z
UID:10016848-1768591800-1768596300@meditario.org.br
SUMMARY:Palestra em Vitória
DESCRIPTION:
URL:https://meditario.org.br/evento/evento-especial-em-vitoria-2/
LOCATION:Espaço Iyengar Yoga Vitória\, Rua José Texeira\, 711\, sl. 202\, Vitória\, ES\, 29056-035\, Brazil
CATEGORIES:Atividades Vila Velha,Vila Velha
ATTACH;FMTTYPE=image/jpeg:https://meditario.org.br/wp-content/uploads/2025/12/sexta.jpg
END:VEVENT
END:VCALENDAR