BEGIN:VCALENDAR
VERSION:2.0
PRODID:-//Centro de Meditação Kadampa Rio de Janeiro - ECPv6.15.20//NONSGML v1.0//EN
CALSCALE:GREGORIAN
METHOD:PUBLISH
X-ORIGINAL-URL:https://meditario.org.br
X-WR-CALDESC:Eventos para Centro de Meditação Kadampa Rio de Janeiro
REFRESH-INTERVAL;VALUE=DURATION:PT1H
X-Robots-Tag:noindex
X-PUBLISHED-TTL:PT1H
BEGIN:VTIMEZONE
TZID:America/Sao_Paulo
BEGIN:STANDARD
TZOFFSETFROM:-0300
TZOFFSETTO:-0300
TZNAME:-03
DTSTART:20240101T000000
END:STANDARD
END:VTIMEZONE
BEGIN:VEVENT
DTSTART;TZID=America/Sao_Paulo:20251010T190000
DTEND;TZID=America/Sao_Paulo:20251010T200000
DTSTAMP:20260423T213002
CREATED:20250927T180314Z
LAST-MODIFIED:20250927T180314Z
UID:10016471-1760122800-1760126400@meditario.org.br
SUMMARY:Filial Vila Velha: Joia Coração
DESCRIPTION:
URL:https://meditario.org.br/evento/filial-vila-velha-joia-coracao-6/
LOCATION:Marzen\, R. Vinícius Tôrres\, 635\, vila velha\, ES\, 29.100430\, Brazil
CATEGORIES:Preces Vila Velha
ATTACH;FMTTYPE=image/png:https://meditario.org.br/wp-content/uploads/2025/06/JC-Sympla-e-Site.png
END:VEVENT
BEGIN:VEVENT
DTSTART;TZID=America/Sao_Paulo:20251003T190000
DTEND;TZID=America/Sao_Paulo:20251003T200000
DTSTAMP:20260423T213002
CREATED:20250927T180223Z
LAST-MODIFIED:20250927T180223Z
UID:10016470-1759518000-1759521600@meditario.org.br
SUMMARY:Filial Vila Velha: Joia Coração
DESCRIPTION:
URL:https://meditario.org.br/evento/filial-vila-velha-joia-coracao-5/
LOCATION:Marzen\, R. Vinícius Tôrres\, 635\, vila velha\, ES\, 29.100430\, Brazil
CATEGORIES:Preces Vila Velha
ATTACH;FMTTYPE=image/png:https://meditario.org.br/wp-content/uploads/2025/06/JC-Sympla-e-Site.png
END:VEVENT
BEGIN:VEVENT
DTSTART;TZID=America/Sao_Paulo:20250927T100000
DTEND;TZID=America/Sao_Paulo:20250927T111500
DTSTAMP:20260423T213002
CREATED:20250827T162112Z
LAST-MODIFIED:20250828T212613Z
UID:10015905-1758967200-1758971700@meditario.org.br
SUMMARY:Aula com Meditação em Vila Velha
DESCRIPTION:
URL:https://meditario.org.br/evento/aula-com-meditacao-em-vila-velha-7/
LOCATION:Marzen\, R. Vinícius Tôrres\, 635\, vila velha\, ES\, 29.100430\, Brazil
CATEGORIES:Atividades Vila Velha,Vila Velha
ATTACH;FMTTYPE=image/png:https://meditario.org.br/wp-content/uploads/2025/07/Vila-Velha-Agenda-e-JC.zip-16.png
END:VEVENT
BEGIN:VEVENT
DTSTART;TZID=America/Sao_Paulo:20250926T190000
DTEND;TZID=America/Sao_Paulo:20250926T200000
DTSTAMP:20260423T213002
CREATED:20250619T134145Z
LAST-MODIFIED:20250619T134145Z
UID:10015148-1758913200-1758916800@meditario.org.br
SUMMARY:Filial Vila Velha: Joia Coração
DESCRIPTION:
URL:https://meditario.org.br/evento/filial-vila-velha-joia-coracao-4/
LOCATION:Marzen\, R. Vinícius Tôrres\, 635\, vila velha\, ES\, 29.100430\, Brazil
CATEGORIES:Preces Vila Velha
ATTACH;FMTTYPE=image/png:https://meditario.org.br/wp-content/uploads/2025/06/JC-Sympla-e-Site.png
END:VEVENT
BEGIN:VEVENT
DTSTART;TZID=America/Sao_Paulo:20250918T190000
DTEND;TZID=America/Sao_Paulo:20250918T201500
DTSTAMP:20260423T213002
CREATED:20250827T161614Z
LAST-MODIFIED:20250828T212458Z
UID:10015903-1758222000-1758226500@meditario.org.br
SUMMARY:Aula com Meditação em Vila Velha
DESCRIPTION:
URL:https://meditario.org.br/evento/aula-com-meditacao-em-vila-velha-6/
LOCATION:Marzen\, R. Vinícius Tôrres\, 635\, vila velha\, ES\, 29.100430\, Brazil
CATEGORIES:Atividades Vila Velha,Vila Velha
ATTACH;FMTTYPE=image/png:https://meditario.org.br/wp-content/uploads/2025/07/Vila-Velha-Agenda-e-JC.zip-15.png
END:VEVENT
BEGIN:VEVENT
DTSTART;TZID=America/Sao_Paulo:20250912T190000
DTEND;TZID=America/Sao_Paulo:20250912T200000
DTSTAMP:20260423T213002
CREATED:20250619T134047Z
LAST-MODIFIED:20250619T134047Z
UID:10015147-1757703600-1757707200@meditario.org.br
SUMMARY:Filial Vila Velha: Joia Coração
DESCRIPTION:
URL:https://meditario.org.br/evento/filial-vila-velha-joia-coracao-3/
LOCATION:Marzen\, R. Vinícius Tôrres\, 635\, vila velha\, ES\, 29.100430\, Brazil
CATEGORIES:Preces Vila Velha
ATTACH;FMTTYPE=image/png:https://meditario.org.br/wp-content/uploads/2025/06/JC-Sympla-e-Site.png
END:VEVENT
BEGIN:VEVENT
DTSTART;TZID=America/Sao_Paulo:20250906T103000
DTEND;TZID=America/Sao_Paulo:20250906T153000
DTSTAMP:20260423T213002
CREATED:20250619T131823Z
LAST-MODIFIED:20250828T213214Z
UID:10015144-1757154600-1757172600@meditario.org.br
SUMMARY:Evento especial em Vila Velha
DESCRIPTION:
URL:https://meditario.org.br/evento/evento-especial-em-vila-velha-2/
LOCATION:Marzen\, R. Vinícius Tôrres\, 635\, vila velha\, ES\, 29.100430\, Brazil
CATEGORIES:Atividades Vila Velha,Vila Velha
ATTACH;FMTTYPE=image/png:https://meditario.org.br/wp-content/uploads/2025/06/Vila-Velha-Mini-curso-Detox-Site-e-Sympla.png
END:VEVENT
BEGIN:VEVENT
DTSTART;TZID=America/Sao_Paulo:20250830T100000
DTEND;TZID=America/Sao_Paulo:20250830T111500
DTSTAMP:20260423T213002
CREATED:20250827T161327Z
LAST-MODIFIED:20250828T212409Z
UID:10015904-1756548000-1756552500@meditario.org.br
SUMMARY:Aula com Meditação em Vila Velha
DESCRIPTION:
URL:https://meditario.org.br/evento/aula-com-meditacao-em-vila-velha-5/
LOCATION:Marzen\, R. Vinícius Tôrres\, 635\, vila velha\, ES\, 29.100430\, Brazil
CATEGORIES:Atividades Vila Velha,Vila Velha
ATTACH;FMTTYPE=image/png:https://meditario.org.br/wp-content/uploads/2025/07/Vila-Velha-Agenda-e-JC.zip-14.png
END:VEVENT
BEGIN:VEVENT
DTSTART;TZID=America/Sao_Paulo:20250829T190000
DTEND;TZID=America/Sao_Paulo:20250829T200000
DTSTAMP:20260423T213002
CREATED:20250619T133944Z
LAST-MODIFIED:20250619T133944Z
UID:10015146-1756494000-1756497600@meditario.org.br
SUMMARY:Filial Vila Velha: Joia Coração
DESCRIPTION:
URL:https://meditario.org.br/evento/filial-vila-velha-joia-coracao-2/
LOCATION:Marzen\, R. Vinícius Tôrres\, 635\, vila velha\, ES\, 29.100430\, Brazil
CATEGORIES:Preces Vila Velha
ATTACH;FMTTYPE=image/png:https://meditario.org.br/wp-content/uploads/2025/06/JC-Sympla-e-Site.png
END:VEVENT
BEGIN:VEVENT
DTSTART;TZID=America/Sao_Paulo:20250815T190000
DTEND;TZID=America/Sao_Paulo:20250815T200000
DTSTAMP:20260423T213002
CREATED:20250619T133859Z
LAST-MODIFIED:20250619T133859Z
UID:10015145-1755284400-1755288000@meditario.org.br
SUMMARY:Filial Vila Velha: Joia Coração
DESCRIPTION:
URL:https://meditario.org.br/evento/filial-vila-velha-joia-coracao/
LOCATION:Marzen\, R. Vinícius Tôrres\, 635\, vila velha\, ES\, 29.100430\, Brazil
CATEGORIES:Preces Vila Velha
ATTACH;FMTTYPE=image/png:https://meditario.org.br/wp-content/uploads/2025/06/JC-Sympla-e-Site.png
END:VEVENT
BEGIN:VEVENT
DTSTART;TZID=America/Sao_Paulo:20250726T100000
DTEND;TZID=America/Sao_Paulo:20250726T111500
DTSTAMP:20260423T213002
CREATED:20250619T130252Z
LAST-MODIFIED:20250619T130330Z
UID:10015122-1753524000-1753528500@meditario.org.br
SUMMARY:Aula com Meditação em Vila Velha
DESCRIPTION:
URL:https://meditario.org.br/evento/aula-com-meditacao-em-vila-velha-3/
LOCATION:Marzen\, R. Vinícius Tôrres\, 635\, vila velha\, ES\, 29.100430\, Brazil
CATEGORIES:Atividades Vila Velha,Vila Velha
ATTACH;FMTTYPE=image/png:https://meditario.org.br/wp-content/uploads/2025/06/Vila-Velha-Aula-3-Julho-Site-e-Sympla.png
END:VEVENT
BEGIN:VEVENT
DTSTART;TZID=America/Sao_Paulo:20250725T190000
DTEND;TZID=America/Sao_Paulo:20250725T200000
DTSTAMP:20260423T213002
CREATED:20250601T105147Z
LAST-MODIFIED:20250620T182138Z
UID:10015115-1753470000-1753473600@meditario.org.br
SUMMARY:Filial Vila Velha: Joia Coração
DESCRIPTION:
URL:https://meditario.org.br/evento/joia-coracao-8/
LOCATION:Marzen\, R. Vinícius Tôrres\, 635\, vila velha\, ES\, 29.100430\, Brazil
CATEGORIES:Preces Vila Velha
ATTACH;FMTTYPE=image/png:https://meditario.org.br/wp-content/uploads/2025/06/JC-Sympla-e-Site.png
END:VEVENT
BEGIN:VEVENT
DTSTART;TZID=America/Sao_Paulo:20250717T190000
DTEND;TZID=America/Sao_Paulo:20250717T201500
DTSTAMP:20260423T213002
CREATED:20250619T125815Z
LAST-MODIFIED:20250619T132013Z
UID:10015121-1752778800-1752783300@meditario.org.br
SUMMARY:Aula com Meditação em Vila Velha
DESCRIPTION:
URL:https://meditario.org.br/evento/aula-com-meditacao-em-vila-velha-2/
LOCATION:Marzen\, R. Vinícius Tôrres\, 635\, vila velha\, ES\, 29.100430\, Brazil
CATEGORIES:Atividades Vila Velha,Vila Velha
ATTACH;FMTTYPE=image/png:https://meditario.org.br/wp-content/uploads/2025/06/Vila-Velha-Aula-2-Julho-Site-e-Sympla-1.png
END:VEVENT
BEGIN:VEVENT
DTSTART;TZID=America/Sao_Paulo:20250711T190000
DTEND;TZID=America/Sao_Paulo:20250711T200000
DTSTAMP:20260423T213002
CREATED:20250601T105033Z
LAST-MODIFIED:20250620T181404Z
UID:10015114-1752260400-1752264000@meditario.org.br
SUMMARY:Filial Vila Velha: Joia Coração
DESCRIPTION:
URL:https://meditario.org.br/evento/joia-coracao-7/
LOCATION:Marzen\, R. Vinícius Tôrres\, 635\, vila velha\, ES\, 29.100430\, Brazil
CATEGORIES:Preces Vila Velha
ATTACH;FMTTYPE=image/png:https://meditario.org.br/wp-content/uploads/2025/06/JC-Sympla-e-Site.png
END:VEVENT
BEGIN:VEVENT
DTSTART;TZID=America/Sao_Paulo:20250703T190000
DTEND;TZID=America/Sao_Paulo:20250703T201500
DTSTAMP:20260423T213002
CREATED:20250621T203958Z
LAST-MODIFIED:20250621T203958Z
UID:10015120-1751569200-1751573700@meditario.org.br
SUMMARY:Aula com Meditação em Vila Velha
DESCRIPTION:
URL:https://meditario.org.br/evento/aula-com-meditacao-em-vila-velha-4/
LOCATION:Marzen\, R. Vinícius Tôrres\, 635\, vila velha\, ES\, 29.100430\, Brazil
CATEGORIES:Atividades Vila Velha,Vila Velha
ATTACH;FMTTYPE=image/png:https://meditario.org.br/wp-content/uploads/2025/06/Vila-Velha-Aula-1-Julho-Site-e-Sympla.png
END:VEVENT
BEGIN:VEVENT
DTSTART;TZID=America/Sao_Paulo:20250628T100000
DTEND;TZID=America/Sao_Paulo:20250628T111500
DTSTAMP:20260423T213002
CREATED:20250609T181659Z
LAST-MODIFIED:20250612T122944Z
UID:10015123-1751104800-1751109300@meditario.org.br
SUMMARY:Aula com Meditação em Vila Velha
DESCRIPTION:
URL:https://meditario.org.br/evento/aula-com-meditacao-em-vila-velha/
LOCATION:Marzen\, R. Vinícius Tôrres\, 635\, vila velha\, ES\, 29.100430\, Brazil
CATEGORIES:Atividades Vila Velha,Vila Velha
ATTACH;FMTTYPE=image/png:https://meditario.org.br/wp-content/uploads/2025/06/Vila-Velha-Aula-3-junho-Site-e-Sympla.png
END:VEVENT
BEGIN:VEVENT
DTSTART;TZID=America/Sao_Paulo:20250627T190000
DTEND;TZID=America/Sao_Paulo:20250627T200000
DTSTAMP:20260423T213002
CREATED:20250601T104820Z
LAST-MODIFIED:20250604T221700Z
UID:10015113-1751050800-1751054400@meditario.org.br
SUMMARY:Filial Vila Velha: Joia Coração
DESCRIPTION:
URL:https://meditario.org.br/evento/joia-coracao-6/
LOCATION:Marzen\, R. Vinícius Tôrres\, 635\, vila velha\, ES\, 29.100430\, Brazil
CATEGORIES:Preces Vila Velha
ATTACH;FMTTYPE=image/png:https://meditario.org.br/wp-content/uploads/2025/06/JC-Sympla-e-Site.png
END:VEVENT
BEGIN:VEVENT
DTSTART;TZID=America/Sao_Paulo:20250613T190000
DTEND;TZID=America/Sao_Paulo:20250613T200000
DTSTAMP:20260423T213002
CREATED:20250601T104531Z
LAST-MODIFIED:20250604T221614Z
UID:10015112-1749841200-1749844800@meditario.org.br
SUMMARY:Filial Vila Velha: Joia-Coração
DESCRIPTION:
URL:https://meditario.org.br/evento/joia-coracao-5/
LOCATION:Marzen\, R. Vinícius Tôrres\, 635\, vila velha\, ES\, 29.100430\, Brazil
CATEGORIES:Preces Vila Velha
ATTACH;FMTTYPE=image/png:https://meditario.org.br/wp-content/uploads/2025/06/JC-Sympla-e-Site.png
END:VEVENT
BEGIN:VEVENT
DTSTART;TZID=America/Sao_Paulo:20250607T093000
DTEND;TZID=America/Sao_Paulo:20250607T163000
DTSTAMP:20260423T213002
CREATED:20250518T192605Z
LAST-MODIFIED:20250518T201433Z
UID:10014770-1749288600-1749313800@meditario.org.br
SUMMARY:Evento especial em Vila Velha
DESCRIPTION:
URL:https://meditario.org.br/evento/evento-especial-em-vila-velha/
LOCATION:Marzen\, R. Vinícius Tôrres\, 635\, vila velha\, ES\, 29.100430\, Brazil
CATEGORIES:Atividades Vila Velha,Vila Velha
ATTACH;FMTTYPE=image/png:https://meditario.org.br/wp-content/uploads/2025/05/Vila-Velha-Retiro-de-Purificacao-Site-e-Sympla.png
END:VEVENT
BEGIN:VEVENT
DTSTART;TZID=America/Sao_Paulo:20250531T100000
DTEND;TZID=America/Sao_Paulo:20250531T111500
DTSTAMP:20260423T213002
CREATED:20250512T134439Z
LAST-MODIFIED:20250513T192227Z
UID:10014762-1748685600-1748690100@meditario.org.br
SUMMARY:Aula com Meditação em Vila Velha
DESCRIPTION:
URL:https://meditario.org.br/evento/meditacao-para-concluir-o-caminho-a-libertacao-parte-1-o-que-devemos-praticar/
LOCATION:Marzen\, R. Vinícius Tôrres\, 635\, vila velha\, ES\, 29.100430\, Brazil
CATEGORIES:Atividades Vila Velha,Vila Velha
ATTACH;FMTTYPE=image/png:https://meditario.org.br/wp-content/uploads/2025/05/Aula-Francisco-maio-Site-e-Sympla.png
END:VEVENT
BEGIN:VEVENT
DTSTART;TZID=America/Sao_Paulo:20250530T190000
DTEND;TZID=America/Sao_Paulo:20250530T200000
DTSTAMP:20260423T213002
CREATED:20250505T223013Z
LAST-MODIFIED:20250511T150605Z
UID:10014757-1748631600-1748635200@meditario.org.br
SUMMARY:Joia Coração
DESCRIPTION:
URL:https://meditario.org.br/evento/teste-evento-vila-velha/
LOCATION:Marzen\, R. Vinícius Tôrres\, 635\, vila velha\, ES\, 29.100430\, Brazil
CATEGORIES:Preces Vila Velha
ATTACH;FMTTYPE=image/jpeg:https://meditario.org.br/wp-content/uploads/2024/11/JSD-e-JC.jpg
END:VEVENT
BEGIN:VEVENT
DTSTART;TZID=America/Sao_Paulo:20250522T190000
DTEND;TZID=America/Sao_Paulo:20250522T201500
DTSTAMP:20260423T213002
CREATED:20250510T212754Z
LAST-MODIFIED:20250513T192043Z
UID:10014758-1747940400-1747944900@meditario.org.br
SUMMARY:Aula com Meditação em Vila Velha
DESCRIPTION:
URL:https://meditario.org.br/evento/meditacao-para-fazer-progresso-no-caminho-a-libertacao-o-que-devemos-abandonar/
LOCATION:Marzen\, R. Vinícius Tôrres\, 635\, vila velha\, ES\, 29.100430\, Brazil
CATEGORIES:Atividades Vila Velha,Vila Velha
ATTACH;FMTTYPE=image/png:https://meditario.org.br/wp-content/uploads/2025/05/Aula-Rafa-maio-Site-e-Sympla.png
END:VEVENT
BEGIN:VEVENT
DTSTART;TZID=America/Sao_Paulo:20250516T190000
DTEND;TZID=America/Sao_Paulo:20250516T200000
DTSTAMP:20260423T213002
CREATED:20250510T211909Z
LAST-MODIFIED:20250511T150702Z
UID:10014759-1747422000-1747425600@meditario.org.br
SUMMARY:Joia Coração
DESCRIPTION:
URL:https://meditario.org.br/evento/joia-coracao-3/
LOCATION:Marzen\, R. Vinícius Tôrres\, 635\, vila velha\, ES\, 29.100430\, Brazil
CATEGORIES:Preces Vila Velha
ATTACH;FMTTYPE=image/jpeg:https://meditario.org.br/wp-content/uploads/2024/11/JSD-e-JC.jpg
END:VEVENT
END:VCALENDAR