BEGIN:VCALENDAR
VERSION:2.0
PRODID:-//Centro de Meditação Kadampa Rio de Janeiro - ECPv6.15.20//NONSGML v1.0//EN
CALSCALE:GREGORIAN
METHOD:PUBLISH
X-ORIGINAL-URL:https://meditario.org.br
X-WR-CALDESC:Eventos para Centro de Meditação Kadampa Rio de Janeiro
REFRESH-INTERVAL;VALUE=DURATION:PT1H
X-Robots-Tag:noindex
X-PUBLISHED-TTL:PT1H
BEGIN:VTIMEZONE
TZID:America/Sao_Paulo
BEGIN:STANDARD
TZOFFSETFROM:-0300
TZOFFSETTO:-0300
TZNAME:-03
DTSTART:20250101T000000
END:STANDARD
END:VTIMEZONE
BEGIN:VEVENT
DTSTART;TZID=America/Sao_Paulo:20260612T193000
DTEND;TZID=America/Sao_Paulo:20260612T203000
DTSTAMP:20260423T162718
CREATED:20260421T133703Z
LAST-MODIFIED:20260421T133703Z
UID:10017431-1781292600-1781296200@meditario.org.br
SUMMARY:Filial Vila Velha: Palestra em Vitória
DESCRIPTION:
URL:https://meditario.org.br/evento/filial-vila-velha-palestra-em-vitoria/
LOCATION:Matriz Casa Criativa\, R. Jaime Martins\, 77 - Praia do Canto\, Vitória\, ES\, 29055-610\, Brazil
CATEGORIES:Atividades Vila Velha,Vila Velha
ATTACH;FMTTYPE=image/png:https://meditario.org.br/wp-content/uploads/2026/04/IMG_0417.png
END:VEVENT
END:VCALENDAR